Workbook

Sheet 2024年度
I1: 2021年度
B2: Ｎｏ． | C2: 地区 | D2: 系統 | F2: 投入口ｱﾄﾞﾚｽ | G2: 住所 | H2: 容量（ｍ２） | I2: ４月 | K2: ５月 | M2: ６月 | O2: ７月 | Q2: ８月 | S2: ９月 | U2: １０月 | W2: １１月 | Y2: １２月 | AA2: １月 | AC2: ２月 | AE2: ３月 | AG2: 年間稼働率 | AH2: 年間停止日数
I3: 稼働率 | J3: 停止日 | K3: 稼働率 | L3: 停止日 | M3: 稼働率 | N3: 停止日 | O3: 稼働率 | P3: 停止日 | Q3: 稼働率 | R3: 停止日 | S3: 稼働率 | T3: 停止日 | U3: 稼働率 | V3: 停止日 | W3: 稼働率 | X3: 停止日 | Y3: 稼働率 | Z3: 停止日 | AA3: 稼働率 | AB3: 停止日 | AC3: 稼働率 | AD3: 停止日 | AE3: 稼働率 | AF3: 停止日
B4: 1 | C4: 宮川東側 | D4: １００系統 | F4: ０１０１１ | G4: 浜風町２１ | H4: ０．７ | I4: ='4月'!AM5 -> 1 | J4: ='4月'!AN5 -> 0 | K4: ='5月'!AN5 -> 1 | L4: ='5月'!AO5 -> 0 | M4: ='6月（停止あり）'!AM5 -> 0.7 | N4: ='6月（停止あり）'!AN5 -> 9 | O4: ='7月（停止あり）'!AN5 -> 1 | P4: ='7月（停止あり）'!AO5 -> 0 | Q4: ='8月（停止あり）'!AN5 -> 1 | R4: ='8月（停止あり）'!AO5 -> 0 | S4: ='9月（停止あり）'!AM5 -> 1 | T4: ='9月（停止あり）'!AN5 -> 0 | U4: ='10月(停止あり）'!AN5 -> 1 | V4: ='10月(停止あり）'!AO5 -> 0 | W4: ='11月（停止あり）'!AM5 -> 1 | X4: ='11月（停止あり）'!AN5 -> 0 | Y4: ='12月'!AN5 -> 1 | Z4: ='12月'!AO5 -> 0 | AA4: ='1月'!AN5 -> 1 | AB4: ='1月'!AO5 -> 0 | AC4: ='2月'!AL5 -> 1 | AD4: ='2月'!AM5 -> 0 | AE4: ='3月'!AN5 -> 1 | AF4: ='3月'!AO5 -> 0 | AG4: =IF(AH4=0,1,1-AH4/365) -> 0.97534247 | AH4: =J4+L4+N4+P4+R4+T4+V4+X4+Z4+AB4+AD4+AF4 -> 9
B5: 2 | F5: ０１０１２ | G5: 浜風町２２ | H5: ０．７ | I5: ='4月'!AM6 -> 1 | J5: ='4月'!AN6 -> 0 | K5: ='5月'!AN6 -> 1 | L5: ='5月'!AO6 -> 0 | M5: ='6月（停止あり）'!AM6 -> 0.7 | N5: ='6月（停止あり）'!AN6 -> 9 | O5: ='7月（停止あり）'!AN6 -> 1 | P5: ='7月（停止あり）'!AO6 -> 0 | Q5: ='8月（停止あり）'!AN6 -> 1 | R5: ='8月（停止あり）'!AO6 -> 0 | S5: ='9月（停止あり）'!AM6 -> 1 | T5: ='9月（停止あり）'!AN6 -> 0 | U5: ='10月(停止あり）'!AN6 -> 1 | V5: ='10月(停止あり）'!AO6 -> 0 | W5: ='11月（停止あり）'!AM6 -> 1 | X5: ='11月（停止あり）'!AN6 -> 0 | Y5: ='12月'!AN6 -> 1 | Z5: ='12月'!AO6 -> 0 | AA5: ='1月'!AN6 -> 1 | AB5: ='1月'!AO6 -> 0 | AC5: ='2月'!AL6 -> 1 | AD5: ='2月'!AM6 -> 0 | AE5: ='3月'!AN6 -> 1 | AF5: ='3月'!AO6 -> 0 | AG5: =IF(AH5=0,1,1-AH5/365) -> 0.97534247 | AH5: =J5+L5+N5+P5+R5+T5+V5+X5+Z5+AB5+AD5+AF5 -> 9
B6: 3 | F6: ０１０１３ | G6: 浜風町２４ | H6: ０．７ | I6: ='4月'!AM7 -> 1 | J6: ='4月'!AN7 -> 0 | K6: ='5月'!AN7 -> 1 | L6: ='5月'!AO7 -> 0 | M6: ='6月（停止あり）'!AM7 -> 0.7 | N6: ='6月（停止あり）'!AN7 -> 9 | O6: ='7月（停止あり）'!AN7 -> 1 | P6: ='7月（停止あり）'!AO7 -> 0 | Q6: ='8月（停止あり）'!AN7 -> 1 | R6: ='8月（停止あり）'!AO7 -> 0 | S6: ='9月（停止あり）'!AM7 -> 1 | T6: ='9月（停止あり）'!AN7 -> 0 | U6: ='10月(停止あり）'!AN7 -> 1 | V6: ='10月(停止あり）'!AO7 -> 0 | W6: ='11月（停止あり）'!AM7 -> 1 | X6: ='11月（停止あり）'!AN7 -> 0 | Y6: ='12月'!AN7 -> 1 | Z6: ='12月'!AO7 -> 0 | AA6: ='1月'!AN7 -> 1 | AB6: ='1月'!AO7 -> 0 | AC6: ='2月'!AL7 -> 1 | AD6: ='2月'!AM7 -> 0 | AE6: ='3月'!AN7 -> 1 | AF6: ='3月'!AO7 -> 0 | AG6: =IF(AH6=0,1,1-AH6/365) -> 0.97534247 | AH6: =J6+L6+N6+P6+R6+T6+V6+X6+Z6+AB6+AD6+AF6 -> 9
B7: 4 | F7: ０１０１４ | G7: 浜風町２７ | H7: ０．７ | I7: ='4月'!AM8 -> 1 | J7: ='4月'!AN8 -> 0 | K7: ='5月'!AN8 -> 1 | L7: ='5月'!AO8 -> 0 | M7: ='6月（停止あり）'!AM8 -> 0.7 | N7: ='6月（停止あり）'!AN8 -> 9 | O7: ='7月（停止あり）'!AN8 -> 1 | P7: ='7月（停止あり）'!AO8 -> 0 | Q7: ='8月（停止あり）'!AN8 -> 1 | R7: ='8月（停止あり）'!AO8 -> 0 | S7: ='9月（停止あり）'!AM8 -> 1 | T7: ='9月（停止あり）'!AN8 -> 0 | U7: ='10月(停止あり）'!AN8 -> 1 | V7: ='10月(停止あり）'!AO8 -> 0 | W7: ='11月（停止あり）'!AM8 -> 1 | X7: ='11月（停止あり）'!AN8 -> 0 | Y7: ='12月'!AN8 -> 1 | Z7: ='12月'!AO8 -> 0 | AA7: ='1月'!AN8 -> 1 | AB7: ='1月'!AO8 -> 0 | AC7: ='2月'!AL8 -> 1 | AD7: ='2月'!AM8 -> 0 | AE7: ='3月'!AN8 -> 1 | AF7: ='3月'!AO8 -> 0 | AG7: =IF(AH7=0,1,1-AH7/365) -> 0.97534247 | AH7: =J7+L7+N7+P7+R7+T7+V7+X7+Z7+AB7+AD7+AF7 -> 9
B8: 5 | F8: ０１０２１ | G8: 浜風町１９ | H8: ０．７ | I8: ='4月'!AM9 -> 1 | J8: ='4月'!AN9 -> 0 | K8: ='5月'!AN9 -> 1 | L8: ='5月'!AO9 -> 0 | M8: ='6月（停止あり）'!AM9 -> 0.7 | N8: ='6月（停止あり）'!AN9 -> 9 | O8: ='7月（停止あり）'!AN9 -> 1 | P8: ='7月（停止あり）'!AO9 -> 0 | Q8: ='8月（停止あり）'!AN9 -> 1 | R8: ='8月（停止あり）'!AO9 -> 0 | S8: ='9月（停止あり）'!AM9 -> 1 | T8: ='9月（停止あり）'!AN9 -> 0 | U8: ='10月(停止あり）'!AN9 -> 1 | V8: ='10月(停止あり）'!AO9 -> 0 | W8: ='11月（停止あり）'!AM9 -> 1 | X8: ='11月（停止あり）'!AN9 -> 0 | Y8: ='12月'!AN9 -> 1 | Z8: ='12月'!AO9 -> 0 | AA8: ='1月'!AN9 -> 1 | AB8: ='1月'!AO9 -> 0 | AC8: ='2月'!AL9 -> 1 | AD8: ='2月'!AM9 -> 0 | AE8: ='3月'!AN9 -> 1 | AF8: ='3月'!AO9 -> 0 | AG8: =IF(AH8=0,1,1-AH8/365) -> 0.97534247 | AH8: =J8+L8+N8+P8+R8+T8+V8+X8+Z8+AB8+AD8+AF8 -> 9
B9: 6 | F9: ０１０３１ | G9: 浜風町１８ | H9: ０．７ | I9: ='4月'!AM10 -> 1 | J9: ='4月'!AN10 -> 0 | K9: ='5月'!AN10 -> 1 | L9: ='5月'!AO10 -> 0 | M9: ='6月（停止あり）'!AM10 -> 0.7 | N9: ='6月（停止あり）'!AN10 -> 9 | O9: ='7月（停止あり）'!AN10 -> 1 | P9: ='7月（停止あり）'!AO10 -> 0 | Q9: ='8月（停止あり）'!AN10 -> 1 | R9: ='8月（停止あり）'!AO10 -> 0 | S9: ='9月（停止あり）'!AM10 -> 1 | T9: ='9月（停止あり）'!AN10 -> 0 | U9: ='10月(停止あり）'!AN10 -> 1 | V9: ='10月(停止あり）'!AO10 -> 0 | W9: ='11月（停止あり）'!AM10 -> 1 | X9: ='11月（停止あり）'!AN10 -> 0 | Y9: ='12月'!AN10 -> 1 | Z9: ='12月'!AO10 -> 0 | AA9: ='1月'!AN10 -> 1 | AB9: ='1月'!AO10 -> 0 | AC9: ='2月'!AL10 -> 1 | AD9: ='2月'!AM10 -> 0 | AE9: ='3月'!AN10 -> 1 | AF9: ='3月'!AO10 -> 0 | AG9: =IF(AH9=0,1,1-AH9/365) -> 0.97534247 | AH9: =J9+L9+N9+P9+R9+T9+V9+X9+Z9+AB9+AD9+AF9 -> 9
F10: 合計 | H10: =COUNTA(H4:H9) -> 6 | I10: ='4月'!AM11 -> 100% | J10: ='4月'!AN11 -> 0 | K10: ='5月'!AN11 -> 100% | L10: ='5月'!AO11 -> 0 | M10: ='6月（停止あり）'!AM11 -> 0.7 | N10: ='6月（停止あり）'!AN11 -> 54 | O10: ='7月（停止あり）'!AN11 -> 100% | P10: ='7月（停止あり）'!AO11 -> 0 | Q10: ='8月（停止あり）'!AN11 -> 100% | R10: ='8月（停止あり）'!AO11 -> 0 | S10: ='9月（停止あり）'!AM11 -> 100% | T10: ='9月（停止あり）'!AN11 -> 0 | U10: ='10月(停止あり）'!AN11 -> 100% | V10: ='10月(停止あり）'!AO11 -> 0 | W10: ='11月（停止あり）'!AM11 -> 100% | X10: ='11月（停止あり）'!AN11 -> 0 | Y10: ='12月'!AN11 -> 100% | Z10: ='12月'!AO11 -> 0 | AA10: ='1月'!AN11 -> 100% | AB10: ='1月'!AO11 -> 0 | AC10: ='2月'!AL11 -> 100% | AD10: ='2月'!AM11 -> 0 | AE10: ='3月'!AN11 -> 100% | AF10: ='3月'!AO11 -> 0 | AG10: =IF(AH10=0,1,1-AH10/2190) -> 0.97534247 | AH10: =SUM(AH4:AH9) -> 54
B11: 7 | D11: ３００系統 | E11: Ｋライン | F11: ０３０１１ | G11: 浜風町１ | H11: ０．７ | I11: ='4月'!AM12 -> 1 | J11: ='4月'!AN12 -> 0 | K11: ='5月'!AN12 -> 1 | L11: ='5月'!AO12 -> 0 | M11: ='6月（停止あり）'!AM12 -> 0.7 | N11: ='6月（停止あり）'!AN12 -> 9 | O11: ='7月（停止あり）'!AN12 -> 1 | P11: ='7月（停止あり）'!AO12 -> 0 | Q11: ='8月（停止あり）'!AN12 -> 1 | R11: ='8月（停止あり）'!AO12 -> 0 | S11: ='9月（停止あり）'!AM12 -> 1 | T11: ='9月（停止あり）'!AN12 -> 0 | U11: ='10月(停止あり）'!AN12 -> 1 | V11: ='10月(停止あり）'!AO12 -> 0 | W11: ='11月（停止あり）'!AM12 -> 1 | X11: ='11月（停止あり）'!AN12 -> 0 | Y11: ='12月'!AN12 -> 1 | Z11: ='12月'!AO12 -> 0 | AA11: ='1月'!AN12 -> 1 | AB11: ='1月'!AO12 -> 0 | AC11: ='2月'!AL12 -> 1 | AD11: ='2月'!AM12 -> 0 | AE11: ='3月'!AN12 -> 1 | AF11: ='3月'!AO12 -> 0 | AG11: =IF(AH11=0,1,1-AH11/365) -> 0.97534247 | AH11: =J11+L11+N11+P11+R11+T11+V11+X11+Z11+AB11+AD11+AF11 -> 9
B12: 8 | F12: ０３０３１ | G12: 浜風町８ | H12: ０．７ | I12: ='4月'!AM13 -> 1 | J12: ='4月'!AN13 -> 0 | K12: ='5月'!AN13 -> 1 | L12: ='5月'!AO13 -> 0 | M12: ='6月（停止あり）'!AM13 -> 0.7 | N12: ='6月（停止あり）'!AN13 -> 9 | O12: ='7月（停止あり）'!AN13 -> 1 | P12: ='7月（停止あり）'!AO13 -> 0 | Q12: ='8月（停止あり）'!AN13 -> 1 | R12: ='8月（停止あり）'!AO13 -> 0 | S12: ='9月（停止あり）'!AM13 -> 1 | T12: ='9月（停止あり）'!AN13 -> 0 | U12: ='10月(停止あり）'!AN13 -> 1 | V12: ='10月(停止あり）'!AO13 -> 0 | W12: ='11月（停止あり）'!AM13 -> 1 | X12: ='11月（停止あり）'!AN13 -> 0 | Y12: ='12月'!AN13 -> 1 | Z12: ='12月'!AO13 -> 0 | AA12: ='1月'!AN13 -> 1 | AB12: ='1月'!AO13 -> 0 | AC12: ='2月'!AL13 -> 1 | AD12: ='2月'!AM13 -> 0 | AE12: ='3月'!AN13 -> 1 | AF12: ='3月'!AO13 -> 0 | AG12: =IF(AH12=0,1,1-AH12/365) -> 0.97534247 | AH12: =J12+L12+N12+P12+R12+T12+V12+X12+Z12+AB12+AD12+AF12 -> 9
B13: 9 | F13: ０３０３２ | G13: 浜風町２ | H13: ０．７ | I13: ='4月'!AM14 -> 1 | J13: ='4月'!AN14 -> 0 | K13: ='5月'!AN14 -> 1 | L13: ='5月'!AO14 -> 0 | M13: ='6月（停止あり）'!AM14 -> 0.7 | N13: ='6月（停止あり）'!AN14 -> 9 | O13: ='7月（停止あり）'!AN14 -> 1 | P13: ='7月（停止あり）'!AO14 -> 0 | Q13: ='8月（停止あり）'!AN14 -> 1 | R13: ='8月（停止あり）'!AO14 -> 0 | S13: ='9月（停止あり）'!AM14 -> 1 | T13: ='9月（停止あり）'!AN14 -> 0 | U13: ='10月(停止あり）'!AN14 -> 1 | V13: ='10月(停止あり）'!AO14 -> 0 | W13: ='11月（停止あり）'!AM14 -> 1 | X13: ='11月（停止あり）'!AN14 -> 0 | Y13: ='12月'!AN14 -> 1 | Z13: ='12月'!AO14 -> 0 | AA13: ='1月'!AN14 -> 1 | AB13: ='1月'!AO14 -> 0 | AC13: ='2月'!AL14 -> 1 | AD13: ='2月'!AM14 -> 0 | AE13: ='3月'!AN14 -> 1 | AF13: ='3月'!AO14 -> 0 | AG13: =IF(AH13=0,1,1-AH13/365) -> 0.97534247 | AH13: =J13+L13+N13+P13+R13+T13+V13+X13+Z13+AB13+AD13+AF13 -> 9
B14: 10 | F14: ０３０２１ | G14: 浜風町８ | H14: ０．７ | I14: ='4月'!AM15 -> 1 | J14: ='4月'!AN15 -> 0 | K14: ='5月'!AN15 -> 1 | L14: ='5月'!AO15 -> 0 | M14: ='6月（停止あり）'!AM15 -> 0.7 | N14: ='6月（停止あり）'!AN15 -> 9 | O14: ='7月（停止あり）'!AN15 -> 1 | P14: ='7月（停止あり）'!AO15 -> 0 | Q14: ='8月（停止あり）'!AN15 -> 1 | R14: ='8月（停止あり）'!AO15 -> 0 | S14: ='9月（停止あり）'!AM15 -> 1 | T14: ='9月（停止あり）'!AN15 -> 0 | U14: ='10月(停止あり）'!AN15 -> 1 | V14: ='10月(停止あり）'!AO15 -> 0 | W14: ='11月（停止あり）'!AM15 -> 1 | X14: ='11月（停止あり）'!AN15 -> 0 | Y14: ='12月'!AN15 -> 1 | Z14: ='12月'!AO15 -> 0 | AA14: ='1月'!AN15 -> 1 | AB14: ='1月'!AO15 -> 0 | AC14: ='2月'!AL15 -> 1 | AD14: ='2月'!AM15 -> 0 | AE14: ='3月'!AN15 -> 1 | AF14: ='3月'!AO15 -> 0 | AG14: =IF(AH14=0,1,1-AH14/365) -> 0.97534247 | AH14: =J14+L14+N14+P14+R14+T14+V14+X14+Z14+AB14+AD14+AF14 -> 9
B15: 11 | F15: ０３０３３ | G15: 浜風町７ | H15: ０．７ | I15: ='4月'!AM16 -> 1 | J15: ='4月'!AN16 -> 0 | K15: ='5月'!AN16 -> 1 | L15: ='5月'!AO16 -> 0 | M15: ='6月（停止あり）'!AM16 -> 0.7 | N15: ='6月（停止あり）'!AN16 -> 9 | O15: ='7月（停止あり）'!AN16 -> 1 | P15: ='7月（停止あり）'!AO16 -> 0 | Q15: ='8月（停止あり）'!AN16 -> 1 | R15: ='8月（停止あり）'!AO16 -> 0 | S15: ='9月（停止あり）'!AM16 -> 1 | T15: ='9月（停止あり）'!AN16 -> 0 | U15: ='10月(停止あり）'!AN16 -> 1 | V15: ='10月(停止あり）'!AO16 -> 0 | W15: ='11月（停止あり）'!AM16 -> 1 | X15: ='11月（停止あり）'!AN16 -> 0 | Y15: ='12月'!AN16 -> 1 | Z15: ='12月'!AO16 -> 0 | AA15: ='1月'!AN16 -> 1 | AB15: ='1月'!AO16 -> 0 | AC15: ='2月'!AL16 -> 1 | AD15: ='2月'!AM16 -> 0 | AE15: ='3月'!AN16 -> 1 | AF15: ='3月'!AO16 -> 0 | AG15: =IF(AH15=0,1,1-AH15/365) -> 0.97534247 | AH15: =J15+L15+N15+P15+R15+T15+V15+X15+Z15+AB15+AD15+AF15 -> 9
B16: 12 | F16: ０３０４１ | G16: 浜風町７ | H16: ０．７ | I16: ='4月'!AM17 -> 1 | J16: ='4月'!AN17 -> 0 | K16: ='5月'!AN17 -> 1 | L16: ='5月'!AO17 -> 0 | M16: ='6月（停止あり）'!AM17 -> 0.7 | N16: ='6月（停止あり）'!AN17 -> 9 | O16: ='7月（停止あり）'!AN17 -> 1 | P16: ='7月（停止あり）'!AO17 -> 0 | Q16: ='8月（停止あり）'!AN17 -> 1 | R16: ='8月（停止あり）'!AO17 -> 0 | S16: ='9月（停止あり）'!AM17 -> 1 | T16: ='9月（停止あり）'!AN17 -> 0 | U16: ='10月(停止あり）'!AN17 -> 1 | V16: ='10月(停止あり）'!AO17 -> 0 | W16: ='11月（停止あり）'!AM17 -> 1 | X16: ='11月（停止あり）'!AN17 -> 0 | Y16: ='12月'!AN17 -> 1 | Z16: ='12月'!AO17 -> 0 | AA16: ='1月'!AN17 -> 1 | AB16: ='1月'!AO17 -> 0 | AC16: ='2月'!AL17 -> 1 | AD16: ='2月'!AM17 -> 0 | AE16: ='3月'!AN17 -> 1 | AF16: ='3月'!AO17 -> 0 | AG16: =IF(AH16=0,1,1-AH16/365) -> 0.97534247 | AH16: =J16+L16+N16+P16+R16+T16+V16+X16+Z16+AB16+AD16+AF16 -> 9
B17: 13 | F17: ０３０５１ | G17: 浜風町７ | H17: ０．７ | I17: ='4月'!AM18 -> 1 | J17: ='4月'!AN18 -> 0 | K17: ='5月'!AN18 -> 1 | L17: ='5月'!AO18 -> 0 | M17: ='6月（停止あり）'!AM18 -> 0.7 | N17: ='6月（停止あり）'!AN18 -> 9 | O17: ='7月（停止あり）'!AN18 -> 1 | P17: ='7月（停止あり）'!AO18 -> 0 | Q17: ='8月（停止あり）'!AN18 -> 1 | R17: ='8月（停止あり）'!AO18 -> 0 | S17: ='9月（停止あり）'!AM18 -> 1 | T17: ='9月（停止あり）'!AN18 -> 0 | U17: ='10月(停止あり）'!AN18 -> 1 | V17: ='10月(停止あり）'!AO18 -> 0 | W17: ='11月（停止あり）'!AM18 -> 1 | X17: ='11月（停止あり）'!AN18 -> 0 | Y17: ='12月'!AN18 -> 1 | Z17: ='12月'!AO18 -> 0 | AA17: ='1月'!AN18 -> 1 | AB17: ='1月'!AO18 -> 0 | AC17: ='2月'!AL18 -> 1 | AD17: ='2月'!AM18 -> 0 | AE17: ='3月'!AN18 -> 1 | AF17: ='3月'!AO18 -> 0 | AG17: =IF(AH17=0,1,1-AH17/365) -> 0.97534247 | AH17: =J17+L17+N17+P17+R17+T17+V17+X17+Z17+AB17+AD17+AF17 -> 9
B18: 14 | F18: ０３０５２ | G18: 浜風町３ | H18: ０．７ | I18: ='4月'!AM19 -> 1 | J18: ='4月'!AN19 -> 0 | K18: ='5月'!AN19 -> 1 | L18: ='5月'!AO19 -> 0 | M18: ='6月（停止あり）'!AM19 -> 0.7 | N18: ='6月（停止あり）'!AN19 -> 9 | O18: ='7月（停止あり）'!AN19 -> 1 | P18: ='7月（停止あり）'!AO19 -> 0 | Q18: ='8月（停止あり）'!AN19 -> 1 | R18: ='8月（停止あり）'!AO19 -> 0 | S18: ='9月（停止あり）'!AM19 -> 1 | T18: ='9月（停止あり）'!AN19 -> 0 | U18: ='10月(停止あり）'!AN19 -> 1 | V18: ='10月(停止あり）'!AO19 -> 0 | W18: ='11月（停止あり）'!AM19 -> 1 | X18: ='11月（停止あり）'!AN19 -> 0 | Y18: ='12月'!AN19 -> 1 | Z18: ='12月'!AO19 -> 0 | AA18: ='1月'!AN19 -> 1 | AB18: ='1月'!AO19 -> 0 | AC18: ='2月'!AL19 -> 1 | AD18: ='2月'!AM19 -> 0 | AE18: ='3月'!AN19 -> 1 | AF18: ='3月'!AO19 -> 0 | AG18: =IF(AH18=0,1,1-AH18/365) -> 0.97534247 | AH18: =J18+L18+N18+P18+R18+T18+V18+X18+Z18+AB18+AD18+AF18 -> 9
B19: 15 | F19: ０３０５３ | G19: 浜風町６ | H19: ０．７ | I19: ='4月'!AM20 -> 1 | J19: ='4月'!AN20 -> 0 | K19: ='5月'!AN20 -> 1 | L19: ='5月'!AO20 -> 0 | M19: ='6月（停止あり）'!AM20 -> 0.7 | N19: ='6月（停止あり）'!AN20 -> 9 | O19: ='7月（停止あり）'!AN20 -> 1 | P19: ='7月（停止あり）'!AO20 -> 0 | Q19: ='8月（停止あり）'!AN20 -> 1 | R19: ='8月（停止あり）'!AO20 -> 0 | S19: ='9月（停止あり）'!AM20 -> 1 | T19: ='9月（停止あり）'!AN20 -> 0 | U19: ='10月(停止あり）'!AN20 -> 1 | V19: ='10月(停止あり）'!AO20 -> 0 | W19: ='11月（停止あり）'!AM20 -> 1 | X19: ='11月（停止あり）'!AN20 -> 0 | Y19: ='12月'!AN20 -> 1 | Z19: ='12月'!AO20 -> 0 | AA19: ='1月'!AN20 -> 1 | AB19: ='1月'!AO20 -> 0 | AC19: ='2月'!AL20 -> 1 | AD19: ='2月'!AM20 -> 0 | AE19: ='3月'!AN20 -> 1 | AF19: ='3月'!AO20 -> 0 | AG19: =IF(AH19=0,1,1-AH19/365) -> 0.97534247 | AH19: =J19+L19+N19+P19+R19+T19+V19+X19+Z19+AB19+AD19+AF19 -> 9
B20: 16 | F20: ０３０６１ | G20: 浜風町５ | H20: ０．７ | I20: ='4月'!AM21 -> 1 | J20: ='4月'!AN21 -> 0 | K20: ='5月'!AN21 -> 1 | L20: ='5月'!AO21 -> 0 | M20: ='6月（停止あり）'!AM21 -> 0.7 | N20: ='6月（停止あり）'!AN21 -> 9 | O20: ='7月（停止あり）'!AN21 -> 1 | P20: ='7月（停止あり）'!AO21 -> 0 | Q20: ='8月（停止あり）'!AN21 -> 1 | R20: ='8月（停止あり）'!AO21 -> 0 | S20: ='9月（停止あり）'!AM21 -> 1 | T20: ='9月（停止あり）'!AN21 -> 0 | U20: ='10月(停止あり）'!AN21 -> 1 | V20: ='10月(停止あり）'!AO21 -> 0 | W20: ='11月（停止あり）'!AM21 -> 1 | X20: ='11月（停止あり）'!AN21 -> 0 | Y20: ='12月'!AN21 -> 1 | Z20: ='12月'!AO21 -> 0 | AA20: ='1月'!AN21 -> 1 | AB20: ='1月'!AO21 -> 0 | AC20: ='2月'!AL21 -> 1 | AD20: ='2月'!AM21 -> 0 | AE20: ='3月'!AN21 -> 1 | AF20: ='3月'!AO21 -> 0 | AG20: =IF(AH20=0,1,1-AH20/365) -> 0.97534247 | AH20: =J20+L20+N20+P20+R20+T20+V20+X20+Z20+AB20+AD20+AF20 -> 9
B21: 17 | F21: ０３０５４ | G21: 浜風町６ | H21: ０．７ | I21: ='4月'!AM22 -> 1 | J21: ='4月'!AN22 -> 0 | K21: ='5月'!AN22 -> 1 | L21: ='5月'!AO22 -> 0 | M21: ='6月（停止あり）'!AM22 -> 0.7 | N21: ='6月（停止あり）'!AN22 -> 9 | O21: ='7月（停止あり）'!AN22 -> 1 | P21: ='7月（停止あり）'!AO22 -> 0 | Q21: ='8月（停止あり）'!AN22 -> 1 | R21: ='8月（停止あり）'!AO22 -> 0 | S21: ='9月（停止あり）'!AM22 -> 1 | T21: ='9月（停止あり）'!AN22 -> 0 | U21: ='10月(停止あり）'!AN22 -> 1 | V21: ='10月(停止あり）'!AO22 -> 0 | W21: ='11月（停止あり）'!AM22 -> 1 | X21: ='11月（停止あり）'!AN22 -> 0 | Y21: ='12月'!AN22 -> 1 | Z21: ='12月'!AO22 -> 0 | AA21: ='1月'!AN22 -> 1 | AB21: ='1月'!AO22 -> 0 | AC21: ='2月'!AL22 -> 1 | AD21: ='2月'!AM22 -> 0 | AE21: ='3月'!AN22 -> 1 | AF21: ='3月'!AO22 -> 0 | AG21: =IF(AH21=0,1,1-AH21/365) -> 0.97534247 | AH21: =J21+L21+N21+P21+R21+T21+V21+X21+Z21+AB21+AD21+AF21 -> 9
F22: 合計 | H22: =COUNTA(H11:H21) -> 11 | I22: ='4月'!AM23 -> 100% | J22: ='4月'!AN23 -> 0 | K22: ='5月'!AN23 -> 100% | L22: ='5月'!AO23 -> 0 | M22: ='6月（停止あり）'!AM23 -> 0.7 | N22: ='6月（停止あり）'!AN23 -> 99 | O22: ='7月（停止あり）'!AN23 -> 100% | P22: ='7月（停止あり）'!AO23 -> 0 | Q22: ='8月（停止あり）'!AN23 -> 100% | R22: ='8月（停止あり）'!AO23 -> 0 | S22: ='9月（停止あり）'!AM23 -> 100% | T22: ='9月（停止あり）'!AN23 -> 0 | U22: ='10月(停止あり）'!AN23 -> 100% | V22: ='10月(停止あり）'!AO23 -> 0 | W22: ='11月（停止あり）'!AM23 -> 100% | X22: ='11月（停止あり）'!AN23 -> 0 | Y22: ='12月'!AN23 -> 100% | Z22: ='12月'!AO23 -> 0 | AA22: ='1月'!AN23 -> 100% | AB22: ='1月'!AO23 -> 0 | AC22: ='2月'!AL23 -> 100% | AD22: ='2月'!AM23 -> 0 | AE22: ='3月'!AN23 -> 100% | AF22: ='3月'!AO23 -> 0 | AG22: =IF(AH22=0,1,1-AH22/4015) -> 0.97534247 | AH22: =SUM(AH11:AH21) -> 99
B23: 18 | E23: Ｇライン | F23: ０３０７１ | G23: 新浜町４ | H23: ０．７ | I23: ='4月'!AM24 -> 1 | J23: ='4月'!AN24 -> 0 | K23: ='5月'!AN24 -> 1 | L23: ='5月'!AO24 -> 0 | M23: ='6月（停止あり）'!AM24 -> 0.7 | N23: ='6月（停止あり）'!AN24 -> 9 | O23: ='7月（停止あり）'!AN24 -> 1 | P23: ='7月（停止あり）'!AO24 -> 0 | Q23: ='8月（停止あり）'!AN24 -> 1 | R23: ='8月（停止あり）'!AO24 -> 0 | S23: ='9月（停止あり）'!AM24 -> 1 | T23: ='9月（停止あり）'!AN24 -> 0 | U23: ='10月(停止あり）'!AN24 -> 1 | V23: ='10月(停止あり）'!AO24 -> 0 | W23: ='11月（停止あり）'!AM24 -> 1 | X23: ='11月（停止あり）'!AN24 -> 0 | Y23: ='12月'!AN24 -> 1 | Z23: ='12月'!AO24 -> 0 | AA23: ='1月'!AN24 -> 1 | AB23: ='1月'!AO24 -> 0 | AC23: ='2月'!AL24 -> 1 | AD23: ='2月'!AM24 -> 0 | AE23: ='3月'!AN24 -> 1 | AF23: ='3月'!AO24 -> 0 | AG23: =IF(AH23=0,1,1-AH23/365) -> 0.97534247 | AH23: =J23+L23+N23+P23+R23+T23+V23+X23+Z23+AB23+AD23+AF23 -> 9
B24: 19 | F24: ０３０７２ | G24: 新浜町４ | H24: ０．７ | I24: ='4月'!AM25 -> 1 | J24: ='4月'!AN25 -> 0 | K24: ='5月'!AN25 -> 1 | L24: ='5月'!AO25 -> 0 | M24: ='6月（停止あり）'!AM25 -> 0.7 | N24: ='6月（停止あり）'!AN25 -> 9 | O24: ='7月（停止あり）'!AN25 -> 1 | P24: ='7月（停止あり）'!AO25 -> 0 | Q24: ='8月（停止あり）'!AN25 -> 1 | R24: ='8月（停止あり）'!AO25 -> 0 | S24: ='9月（停止あり）'!AM25 -> 1 | T24: ='9月（停止あり）'!AN25 -> 0 | U24: ='10月(停止あり）'!AN25 -> 1 | V24: ='10月(停止あり）'!AO25 -> 0 | W24: ='11月（停止あり）'!AM25 -> 1 | X24: ='11月（停止あり）'!AN25 -> 0 | Y24: ='12月'!AN25 -> 1 | Z24: ='12月'!AO25 -> 0 | AA24: ='1月'!AN25 -> 1 | AB24: ='1月'!AO25 -> 0 | AC24: ='2月'!AL25 -> 1 | AD24: ='2月'!AM25 -> 0 | AE24: ='3月'!AN25 -> 1 | AF24: ='3月'!AO25 -> 0 | AG24: =IF(AH24=0,1,1-AH24/365) -> 0.97534247 | AH24: =J24+L24+N24+P24+R24+T24+V24+X24+Z24+AB24+AD24+AF24 -> 9
B25: 20 | F25: ０３０８１ | G25: 新浜町５ | H25: ０．７ | I25: ='4月'!AM26 -> 1 | J25: ='4月'!AN26 -> 0 | K25: ='5月'!AN26 -> 1 | L25: ='5月'!AO26 -> 0 | M25: ='6月（停止あり）'!AM26 -> 0.7 | N25: ='6月（停止あり）'!AN26 -> 9 | O25: ='7月（停止あり）'!AN26 -> 1 | P25: ='7月（停止あり）'!AO26 -> 0 | Q25: ='8月（停止あり）'!AN26 -> 1 | R25: ='8月（停止あり）'!AO26 -> 0 | S25: ='9月（停止あり）'!AM26 -> 1 | T25: ='9月（停止あり）'!AN26 -> 0 | U25: ='10月(停止あり）'!AN26 -> 1 | V25: ='10月(停止あり）'!AO26 -> 0 | W25: ='11月（停止あり）'!AM26 -> 1 | X25: ='11月（停止あり）'!AN26 -> 0 | Y25: ='12月'!AN26 -> 1 | Z25: ='12月'!AO26 -> 0 | AA25: ='1月'!AN26 -> 1 | AB25: ='1月'!AO26 -> 0 | AC25: ='2月'!AL26 -> 1 | AD25: ='2月'!AM26 -> 0 | AE25: ='3月'!AN26 -> 1 | AF25: ='3月'!AO26 -> 0 | AG25: =IF(AH25=0,1,1-AH25/365) -> 0.97534247 | AH25: =J25+L25+N25+P25+R25+T25+V25+X25+Z25+AB25+AD25+AF25 -> 9
B26: 21 | F26: ０３１３９ | G26: 新浜町２ | H26: １．５ | I26: ='4月'!AM27 -> 1 | J26: ='4月'!AN27 -> 0 | K26: ='5月'!AN27 -> 1 | L26: ='5月'!AO27 -> 0 | M26: ='6月（停止あり）'!AM27 -> 0.7 | N26: ='6月（停止あり）'!AN27 -> 9 | O26: ='7月（停止あり）'!AN27 -> 1 | P26: ='7月（停止あり）'!AO27 -> 0 | Q26: ='8月（停止あり）'!AN27 -> 1 | R26: ='8月（停止あり）'!AO27 -> 0 | S26: ='9月（停止あり）'!AM27 -> 1 | T26: ='9月（停止あり）'!AN27 -> 0 | U26: ='10月(停止あり）'!AN27 -> 1 | V26: ='10月(停止あり）'!AO27 -> 0 | W26: ='11月（停止あり）'!AM27 -> 1 | X26: ='11月（停止あり）'!AN27 -> 0 | Y26: ='12月'!AN27 -> 1 | Z26: ='12月'!AO27 -> 0 | AA26: ='1月'!AN27 -> 1 | AB26: ='1月'!AO27 -> 0 | AC26: ='2月'!AL27 -> 1 | AD26: ='2月'!AM27 -> 0 | AE26: ='3月'!AN27 -> 1 | AF26: ='3月'!AO27 -> 0 | AG26: =IF(AH26=0,1,1-AH26/365) -> 0.97534247 | AH26: =J26+L26+N26+P26+R26+T26+V26+X26+Z26+AB26+AD26+AF26 -> 9
B27: 22 | F27: ０３１４９ | G27: 新浜町２ | H27: １．５ | I27: ='4月'!AM28 -> 1 | J27: ='4月'!AN28 -> 0 | K27: ='5月'!AN28 -> 1 | L27: ='5月'!AO28 -> 0 | M27: ='6月（停止あり）'!AM28 -> 0.7 | N27: ='6月（停止あり）'!AN28 -> 9 | O27: ='7月（停止あり）'!AN28 -> 1 | P27: ='7月（停止あり）'!AO28 -> 0 | Q27: ='8月（停止あり）'!AN28 -> 1 | R27: ='8月（停止あり）'!AO28 -> 0 | S27: ='9月（停止あり）'!AM28 -> 1 | T27: ='9月（停止あり）'!AN28 -> 0 | U27: ='10月(停止あり）'!AN28 -> 1 | V27: ='10月(停止あり）'!AO28 -> 0 | W27: ='11月（停止あり）'!AM28 -> 1 | X27: ='11月（停止あり）'!AN28 -> 0 | Y27: ='12月'!AN28 -> 1 | Z27: ='12月'!AO28 -> 0 | AA27: ='1月'!AN28 -> 1 | AB27: ='1月'!AO28 -> 0 | AC27: ='2月'!AL28 -> 1 | AD27: ='2月'!AM28 -> 0 | AE27: ='3月'!AN28 -> 1 | AF27: ='3月'!AO28 -> 0 | AG27: =IF(AH27=0,1,1-AH27/365) -> 0.97534247 | AH27: =J27+L27+N27+P27+R27+T27+V27+X27+Z27+AB27+AD27+AF27 -> 9
B28: 23 | F28: ０３１５９ | G28: 新浜町２ | H28: １．５ | I28: ='4月'!AM29 -> 1 | J28: ='4月'!AN29 -> 0 | K28: ='5月'!AN29 -> 1 | L28: ='5月'!AO29 -> 0 | M28: ='6月（停止あり）'!AM29 -> 0.7 | N28: ='6月（停止あり）'!AN29 -> 9 | O28: ='7月（停止あり）'!AN29 -> 1 | P28: ='7月（停止あり）'!AO29 -> 0 | Q28: ='8月（停止あり）'!AN29 -> 1 | R28: ='8月（停止あり）'!AO29 -> 0 | S28: ='9月（停止あり）'!AM29 -> 1 | T28: ='9月（停止あり）'!AN29 -> 0 | U28: ='10月(停止あり）'!AN29 -> 1 | V28: ='10月(停止あり）'!AO29 -> 0 | W28: ='11月（停止あり）'!AM29 -> 1 | X28: ='11月（停止あり）'!AN29 -> 0 | Y28: ='12月'!AN29 -> 1 | Z28: ='12月'!AO29 -> 0 | AA28: ='1月'!AN29 -> 1 | AB28: ='1月'!AO29 -> 0 | AC28: ='2月'!AL29 -> 1 | AD28: ='2月'!AM29 -> 0 | AE28: ='3月'!AN29 -> 1 | AF28: ='3月'!AO29 -> 0 | AG28: =IF(AH28=0,1,1-AH28/365) -> 0.97534247 | AH28: =J28+L28+N28+P28+R28+T28+V28+X28+Z28+AB28+AD28+AF28 -> 9
B29: 24 | F29: ０３１１１ | G29: 新浜町６ | H29: ０．７ | I29: ='4月'!AM30 -> 1 | J29: ='4月'!AN30 -> 0 | K29: ='5月'!AN30 -> 1 | L29: ='5月'!AO30 -> 0 | M29: ='6月（停止あり）'!AM30 -> 0.7 | N29: ='6月（停止あり）'!AN30 -> 9 | O29: ='7月（停止あり）'!AN30 -> 1 | P29: ='7月（停止あり）'!AO30 -> 0 | Q29: ='8月（停止あり）'!AN30 -> 1 | R29: ='8月（停止あり）'!AO30 -> 0 | S29: ='9月（停止あり）'!AM30 -> 1 | T29: ='9月（停止あり）'!AN30 -> 0 | U29: ='10月(停止あり）'!AN30 -> 1 | V29: ='10月(停止あり）'!AO30 -> 0 | W29: ='11月（停止あり）'!AM30 -> 1 | X29: ='11月（停止あり）'!AN30 -> 0 | Y29: ='12月'!AN30 -> 1 | Z29: ='12月'!AO30 -> 0 | AA29: ='1月'!AN30 -> 1 | AB29: ='1月'!AO30 -> 0 | AC29: ='2月'!AL30 -> 1 | AD29: ='2月'!AM30 -> 0 | AE29: ='3月'!AN30 -> 1 | AF29: ='3月'!AO30 -> 0 | AG29: =IF(AH29=0,1,1-AH29/365) -> 0.97534247 | AH29: =J29+L29+N29+P29+R29+T29+V29+X29+Z29+AB29+AD29+AF29 -> 9
B30: 25 | F30: ０３０９９ | G30: 浜風町３０ | H30: １．５ | I30: ='4月'!AM31 -> 1 | J30: ='4月'!AN31 -> 0 | K30: ='5月'!AN31 -> 1 | L30: ='5月'!AO31 -> 0 | M30: ='6月（停止あり）'!AM31 -> 0.7 | N30: ='6月（停止あり）'!AN31 -> 9 | O30: ='7月（停止あり）'!AN31 -> 1 | P30: ='7月（停止あり）'!AO31 -> 0 | Q30: ='8月（停止あり）'!AN31 -> 1 | R30: ='8月（停止あり）'!AO31 -> 0 | S30: ='9月（停止あり）'!AM31 -> 1 | T30: ='9月（停止あり）'!AN31 -> 0 | U30: ='10月(停止あり）'!AN31 -> 1 | V30: ='10月(停止あり）'!AO31 -> 0 | W30: ='11月（停止あり）'!AM31 -> 1 | X30: ='11月（停止あり）'!AN31 -> 0 | Y30: ='12月'!AN31 -> 1 | Z30: ='12月'!AO31 -> 0 | AA30: ='1月'!AN31 -> 1 | AB30: ='1月'!AO31 -> 0 | AC30: ='2月'!AL31 -> 1 | AD30: ='2月'!AM31 -> 0 | AE30: ='3月'!AN31 -> 1 | AF30: ='3月'!AO31 -> 0 | AG30: =IF(AH30=0,1,1-AH30/365) -> 0.97534247 | AH30: =J30+L30+N30+P30+R30+T30+V30+X30+Z30+AB30+AD30+AF30 -> 9
B31: 26 | F31: ０３１１２ | G31: 新浜町７ | H31: ０．７ | I31: ='4月'!AM32 -> 1 | J31: ='4月'!AN32 -> 0 | K31: ='5月'!AN32 -> 1 | L31: ='5月'!AO32 -> 0 | M31: ='6月（停止あり）'!AM32 -> 0.7 | N31: ='6月（停止あり）'!AN32 -> 9 | O31: ='7月（停止あり）'!AN32 -> 1 | P31: ='7月（停止あり）'!AO32 -> 0 | Q31: ='8月（停止あり）'!AN32 -> 1 | R31: ='8月（停止あり）'!AO32 -> 0 | S31: ='9月（停止あり）'!AM32 -> 1 | T31: ='9月（停止あり）'!AN32 -> 0 | U31: ='10月(停止あり）'!AN32 -> 1 | V31: ='10月(停止あり）'!AO32 -> 0 | W31: ='11月（停止あり）'!AM32 -> 1 | X31: ='11月（停止あり）'!AN32 -> 0 | Y31: ='12月'!AN32 -> 1 | Z31: ='12月'!AO32 -> 0 | AA31: ='1月'!AN32 -> 1 | AB31: ='1月'!AO32 -> 0 | AC31: ='2月'!AL32 -> 1 | AD31: ='2月'!AM32 -> 0 | AE31: ='3月'!AN32 -> 1 | AF31: ='3月'!AO32 -> 0 | AG31: =IF(AH31=0,1,1-AH31/365) -> 0.97534247 | AH31: =J31+L31+N31+P31+R31+T31+V31+X31+Z31+AB31+AD31+AF31 -> 9
B32: 27 | F32: ０３１１３ | G32: 新浜町８ | H32: ０．７ | I32: ='4月'!AM33 -> 1 | J32: ='4月'!AN33 -> 0 | K32: ='5月'!AN33 -> 1 | L32: ='5月'!AO33 -> 0 | M32: ='6月（停止あり）'!AM33 -> 0.7 | N32: ='6月（停止あり）'!AN33 -> 9 | O32: ='7月（停止あり）'!AN33 -> 1 | P32: ='7月（停止あり）'!AO33 -> 0 | Q32: ='8月（停止あり）'!AN33 -> 1 | R32: ='8月（停止あり）'!AO33 -> 0 | S32: ='9月（停止あり）'!AM33 -> 1 | T32: ='9月（停止あり）'!AN33 -> 0 | U32: ='10月(停止あり）'!AN33 -> 1 | V32: ='10月(停止あり）'!AO33 -> 0 | W32: ='11月（停止あり）'!AM33 -> 1 | X32: ='11月（停止あり）'!AN33 -> 0 | Y32: ='12月'!AN33 -> 1 | Z32: ='12月'!AO33 -> 0 | AA32: ='1月'!AN33 -> 1 | AB32: ='1月'!AO33 -> 0 | AC32: ='2月'!AL33 -> 1 | AD32: ='2月'!AM33 -> 0 | AE32: ='3月'!AN33 -> 1 | AF32: ='3月'!AO33 -> 0 | AG32: =IF(AH32=0,1,1-AH32/365) -> 0.97534247 | AH32: =J32+L32+N32+P32+R32+T32+V32+X32+Z32+AB32+AD32+AF32 -> 9
B33: 28 | F33: ０３１０１ | G33: 新浜町７ | H33: ０．７ | I33: ='4月'!AM34 -> 1 | J33: ='4月'!AN34 -> 0 | K33: ='5月'!AN34 -> 1 | L33: ='5月'!AO34 -> 0 | M33: ='6月（停止あり）'!AM34 -> 0.7 | N33: ='6月（停止あり）'!AN34 -> 9 | O33: ='7月（停止あり）'!AN34 -> 1 | P33: ='7月（停止あり）'!AO34 -> 0 | Q33: ='8月（停止あり）'!AN34 -> 1 | R33: ='8月（停止あり）'!AO34 -> 0 | S33: ='9月（停止あり）'!AM34 -> 1 | T33: ='9月（停止あり）'!AN34 -> 0 | U33: ='10月(停止あり）'!AN34 -> 1 | V33: ='10月(停止あり）'!AO34 -> 0 | W33: ='11月（停止あり）'!AM34 -> 1 | X33: ='11月（停止あり）'!AN34 -> 0 | Y33: ='12月'!AN34 -> 1 | Z33: ='12月'!AO34 -> 0 | AA33: ='1月'!AN34 -> 1 | AB33: ='1月'!AO34 -> 0 | AC33: ='2月'!AL34 -> 1 | AD33: ='2月'!AM34 -> 0 | AE33: ='3月'!AN34 -> 1 | AF33: ='3月'!AO34 -> 0 | AG33: =IF(AH33=0,1,1-AH33/365) -> 0.97534247 | AH33: =J33+L33+N33+P33+R33+T33+V33+X33+Z33+AB33+AD33+AF33 -> 9
F34: 合計 | I34: ='4月'!AM35 -> 100% | J34: ='4月'!AN35 -> 0 | K34: ='5月'!AN35 -> 100% | L34: ='5月'!AO35 -> 0 | M34: ='6月（停止あり）'!AM35 -> 0.7 | N34: ='6月（停止あり）'!AN35 -> 99 | O34: ='7月（停止あり）'!AN35 -> 100% | P34: ='7月（停止あり）'!AO35 -> 0 | Q34: ='8月（停止あり）'!AN35 -> 100% | R34: ='8月（停止あり）'!AO35 -> 0 | S34: ='9月（停止あり）'!AM35 -> 100% | T34: ='9月（停止あり）'!AN35 -> 0 | U34: ='10月(停止あり）'!AN35 -> 100% | V34: ='10月(停止あり）'!AO35 -> 0 | W34: ='11月（停止あり）'!AM35 -> 100% | X34: ='11月（停止あり）'!AN35 -> 0 | Y34: ='12月'!AN35 -> 100% | Z34: ='12月'!AO35 -> 0 | AA34: ='1月'!AN35 -> 100% | AB34: ='1月'!AO35 -> 0 | AC34: ='2月'!AL35 -> 100% | AD34: ='2月'!AM35 -> 0 | AE34: ='3月'!AN35 -> 100% | AF34: ='3月'!AO35 -> 0 | AG34: =IF(AH34=0,1,1-AH34/4015) -> 0.97534247 | AH34: =SUM(AH23:AH33) -> 99
B35: 29 | D35: ４００系統 | F35: ０４０１９ | G35: 高浜町９－２ | H35: １．５ | I35: ='4月'!AM36 -> 1 | J35: ='4月'!AN36 -> 0 | K35: ='5月'!AN36 -> 1 | L35: ='5月'!AO36 -> 0 | M35: ='6月（停止あり）'!AM36 -> 0.6 | N35: ='6月（停止あり）'!AN36 -> 12 | O35: ='7月（停止あり）'!AN36 -> 0 | P35: ='7月（停止あり）'!AO36 -> 31 | Q35: ='8月（停止あり）'!AN36 -> 0 | R35: ='8月（停止あり）'!AO36 -> 31 | S35: ='9月（停止あり）'!AM36 -> 0 | T35: ='9月（停止あり）'!AN36 -> 30 | U35: ='10月(停止あり）'!AN36 -> 0 | V35: ='10月(停止あり）'!AO36 -> 31 | W35: ='11月（停止あり）'!AM36 -> 0.53333333 | X35: ='11月（停止あり）'!AN36 -> 14 | Y35: ='12月'!AN36 -> 1 | Z35: ='12月'!AO36 -> 0 | AA35: ='1月'!AN36 -> 1 | AB35: ='1月'!AO36 -> 0 | AC35: ='2月'!AL36 -> 1 | AD35: ='2月'!AM36 -> 0 | AE35: ='3月'!AN36 -> 1 | AF35: ='3月'!AO36 -> 0 | AG35: =IF(AH35=0,1,1-AH35/365) -> 0.59178082 | AH35: =J35+L35+N35+P35+R35+T35+V35+X35+Z35+AB35+AD35+AF35 -> 149
B36: 30 | F36: ０４０２９ | G36: 高浜町９－１ | H36: １．５ | I36: ='4月'!AM37 -> 1 | J36: ='4月'!AN37 -> 0 | K36: ='5月'!AN37 -> 1 | L36: ='5月'!AO37 -> 0 | M36: ='6月（停止あり）'!AM37 -> 0.6 | N36: ='6月（停止あり）'!AN37 -> 12 | O36: ='7月（停止あり）'!AN37 -> 0 | P36: ='7月（停止あり）'!AO37 -> 31 | Q36: ='8月（停止あり）'!AN37 -> 0 | R36: ='8月（停止あり）'!AO37 -> 31 | S36: ='9月（停止あり）'!AM37 -> 0 | T36: ='9月（停止あり）'!AN37 -> 30 | U36: ='10月(停止あり）'!AN37 -> 0 | V36: ='10月(停止あり）'!AO37 -> 31 | W36: ='11月（停止あり）'!AM37 -> 0.53333333 | X36: ='11月（停止あり）'!AN37 -> 14 | Y36: ='12月'!AN37 -> 1 | Z36: ='12月'!AO37 -> 0 | AA36: ='1月'!AN37 -> 1 | AB36: ='1月'!AO37 -> 0 | AC36: ='2月'!AL37 -> 1 | AD36: ='2月'!AM37 -> 0 | AE36: ='3月'!AN37 -> 1 | AF36: ='3月'!AO37 -> 0 | AG36: =IF(AH36=0,1,1-AH36/365) -> 0.59178082 | AH36: =J36+L36+N36+P36+R36+T36+V36+X36+Z36+AB36+AD36+AF36 -> 149
B37: 31 | F37: ０４０３９ | G37: 高浜町８－３ | H37: １．０ | I37: ='4月'!AM38 -> 1 | J37: ='4月'!AN38 -> 0 | K37: ='5月'!AN38 -> 1 | L37: ='5月'!AO38 -> 0 | M37: ='6月（停止あり）'!AM38 -> 0.6 | N37: ='6月（停止あり）'!AN38 -> 12 | O37: ='7月（停止あり）'!AN38 -> 0 | P37: ='7月（停止あり）'!AO38 -> 31 | Q37: ='8月（停止あり）'!AN38 -> 0 | R37: ='8月（停止あり）'!AO38 -> 31 | S37: ='9月（停止あり）'!AM38 -> 0 | T37: ='9月（停止あり）'!AN38 -> 30 | U37: ='10月(停止あり）'!AN38 -> 0 | V37: ='10月(停止あり）'!AO38 -> 31 | W37: ='11月（停止あり）'!AM38 -> 0.53333333 | X37: ='11月（停止あり）'!AN38 -> 14 | Y37: ='12月'!AN38 -> 1 | Z37: ='12月'!AO38 -> 0 | AA37: ='1月'!AN38 -> 1 | AB37: ='1月'!AO38 -> 0 | AC37: ='2月'!AL38 -> 1 | AD37: ='2月'!AM38 -> 0 | AE37: ='3月'!AN38 -> 1 | AF37: ='3月'!AO38 -> 0 | AG37: =IF(AH37=0,1,1-AH37/365) -> 0.59178082 | AH37: =J37+L37+N37+P37+R37+T37+V37+X37+Z37+AB37+AD37+AF37 -> 149
B38: 32 | F38: ０４０４９ | G38: 高浜町８－２ | H38: １．０ | I38: ='4月'!AM39 -> 1 | J38: ='4月'!AN39 -> 0 | K38: ='5月'!AN39 -> 1 | L38: ='5月'!AO39 -> 0 | M38: ='6月（停止あり）'!AM39 -> 0.6 | N38: ='6月（停止あり）'!AN39 -> 12 | O38: ='7月（停止あり）'!AN39 -> 0 | P38: ='7月（停止あり）'!AO39 -> 31 | Q38: ='8月（停止あり）'!AN39 -> 0 | R38: ='8月（停止あり）'!AO39 -> 31 | S38: ='9月（停止あり）'!AM39 -> 0 | T38: ='9月（停止あり）'!AN39 -> 30 | U38: ='10月(停止あり）'!AN39 -> 0 | V38: ='10月(停止あり）'!AO39 -> 31 | W38: ='11月（停止あり）'!AM39 -> 0.53333333 | X38: ='11月（停止あり）'!AN39 -> 14 | Y38: ='12月'!AN39 -> 1 | Z38: ='12月'!AO39 -> 0 | AA38: ='1月'!AN39 -> 1 | AB38: ='1月'!AO39 -> 0 | AC38: ='2月'!AL39 -> 1 | AD38: ='2月'!AM39 -> 0 | AE38: ='3月'!AN39 -> 1 | AF38: ='3月'!AO39 -> 0 | AG38: =IF(AH38=0,1,1-AH38/365) -> 0.59178082 | AH38: =J38+L38+N38+P38+R38+T38+V38+X38+Z38+AB38+AD38+AF38 -> 149
F39: 合計 | I39: ='4月'!AM40 -> 100% | J39: ='4月'!AN40 -> 0 | K39: ='5月'!AN40 -> 100% | L39: ='5月'!AO40 -> 0 | M39: ='6月（停止あり）'!AM40 -> 0.6 | N39: ='6月（停止あり）'!AN40 -> 48 | O39: ='7月（停止あり）'!AN40 -> 0 | P39: ='7月（停止あり）'!AO40 -> 124 | Q39: ='8月（停止あり）'!AN40 -> 0 | R39: ='8月（停止あり）'!AO40 -> 124 | S39: ='9月（停止あり）'!AM40 -> 0 | T39: ='9月（停止あり）'!AN40 -> 120 | U39: ='10月(停止あり）'!AN40 -> 0 | V39: ='10月(停止あり）'!AO40 -> 124 | W39: ='11月（停止あり）'!AM40 -> 0.53333333 | X39: ='11月（停止あり）'!AN40 -> 56 | Y39: ='12月'!AN40 -> 100% | Z39: ='12月'!AO40 -> 0 | AA39: ='1月'!AN40 -> 100% | AB39: ='1月'!AO40 -> 0 | AC39: ='2月'!AL40 -> 100% | AD39: ='2月'!AM40 -> 0 | AE39: ='3月'!AN40 -> 100% | AF39: ='3月'!AO40 -> 0 | AG39: =IF(AH39=0,1,1-AH39/1460) -> 0.59178082 | AH39: =SUM(AH35:AH38) -> 596
B40: 33 | D40: ５００系統 | F40: ０５０１９ | G40: 高浜町８－１ | H40: １．０ | I40: ='4月'!AM41 -> 1 | J40: ='4月'!AN41 -> 0 | K40: ='5月'!AN41 -> 1 | L40: ='5月'!AO41 -> 0 | M40: ='6月（停止あり）'!AM41 -> 0.7 | N40: ='6月（停止あり）'!AN41 -> 9 | O40: ='7月（停止あり）'!AN41 -> 1 | P40: ='7月（停止あり）'!AO41 -> 0 | Q40: ='8月（停止あり）'!AN41 -> 1 | R40: ='8月（停止あり）'!AO41 -> 0 | S40: ='9月（停止あり）'!AM41 -> 1 | T40: ='9月（停止あり）'!AN41 -> 0 | U40: ='10月(停止あり）'!AN41 -> 1 | V40: ='10月(停止あり）'!AO41 -> 0 | W40: ='11月（停止あり）'!AM41 -> 1 | X40: ='11月（停止あり）'!AN41 -> 0 | Y40: ='12月'!AN41 -> 1 | Z40: ='12月'!AO41 -> 0 | AA40: ='1月'!AN41 -> 1 | AB40: ='1月'!AO41 -> 0 | AC40: ='2月'!AL41 -> 1 | AD40: ='2月'!AM41 -> 0 | AE40: ='3月'!AN41 -> 1 | AF40: ='3月'!AO41 -> 0 | AG40: =IF(AH40=0,1,1-AH40/365) -> 0.97534247 | AH40: =J40+L40+N40+P40+R40+T40+V40+X40+Z40+AB40+AD40+AF40 -> 9
B41: 34 | F41: ０５０２９ | G41: 高浜町５－１ | H41: １．５ | I41: ='4月'!AM42 -> 1 | J41: ='4月'!AN42 -> 0 | K41: ='5月'!AN42 -> 1 | L41: ='5月'!AO42 -> 0 | M41: ='6月（停止あり）'!AM42 -> 0.7 | N41: ='6月（停止あり）'!AN42 -> 9 | O41: ='7月（停止あり）'!AN42 -> 1 | P41: ='7月（停止あり）'!AO42 -> 0 | Q41: ='8月（停止あり）'!AN42 -> 1 | R41: ='8月（停止あり）'!AO42 -> 0 | S41: ='9月（停止あり）'!AM42 -> 1 | T41: ='9月（停止あり）'!AN42 -> 0 | U41: ='10月(停止あり）'!AN42 -> 1 | V41: ='10月(停止あり）'!AO42 -> 0 | W41: ='11月（停止あり）'!AM42 -> 1 | X41: ='11月（停止あり）'!AN42 -> 0 | Y41: ='12月'!AN42 -> 1 | Z41: ='12月'!AO42 -> 0 | AA41: ='1月'!AN42 -> 1 | AB41: ='1月'!AO42 -> 0 | AC41: ='2月'!AL42 -> 1 | AD41: ='2月'!AM42 -> 0 | AE41: ='3月'!AN42 -> 1 | AF41: ='3月'!AO42 -> 0 | AG41: =IF(AH41=0,1,1-AH41/365) -> 0.97534247 | AH41: =J41+L41+N41+P41+R41+T41+V41+X41+Z41+AB41+AD41+AF41 -> 9
B42: 35 | F42: ０５０３９ | G42: 高浜町５－２ | H42: １．５ | I42: ='4月'!AM43 -> 1 | J42: ='4月'!AN43 -> 0 | K42: ='5月'!AN43 -> 1 | L42: ='5月'!AO43 -> 0 | M42: ='6月（停止あり）'!AM43 -> 0.7 | N42: ='6月（停止あり）'!AN43 -> 9 | O42: ='7月（停止あり）'!AN43 -> 1 | P42: ='7月（停止あり）'!AO43 -> 0 | Q42: ='8月（停止あり）'!AN43 -> 1 | R42: ='8月（停止あり）'!AO43 -> 0 | S42: ='9月（停止あり）'!AM43 -> 1 | T42: ='9月（停止あり）'!AN43 -> 0 | U42: ='10月(停止あり）'!AN43 -> 1 | V42: ='10月(停止あり）'!AO43 -> 0 | W42: ='11月（停止あり）'!AM43 -> 1 | X42: ='11月（停止あり）'!AN43 -> 0 | Y42: ='12月'!AN43 -> 1 | Z42: ='12月'!AO43 -> 0 | AA42: ='1月'!AN43 -> 1 | AB42: ='1月'!AO43 -> 0 | AC42: ='2月'!AL43 -> 1 | AD42: ='2月'!AM43 -> 0 | AE42: ='3月'!AN43 -> 1 | AF42: ='3月'!AO43 -> 0 | AG42: =IF(AH42=0,1,1-AH42/365) -> 0.97534247 | AH42: =J42+L42+N42+P42+R42+T42+V42+X42+Z42+AB42+AD42+AF42 -> 9
B43: 36 | F43: ０５０４９ | G43: 高浜町３－１ | H43: １．５ | I43: ='4月'!AM44 -> 1 | J43: ='4月'!AN44 -> 0 | K43: ='5月'!AN44 -> 1 | L43: ='5月'!AO44 -> 0 | M43: ='6月（停止あり）'!AM44 -> 0.7 | N43: ='6月（停止あり）'!AN44 -> 9 | O43: ='7月（停止あり）'!AN44 -> 1 | P43: ='7月（停止あり）'!AO44 -> 0 | Q43: ='8月（停止あり）'!AN44 -> 1 | R43: ='8月（停止あり）'!AO44 -> 0 | S43: ='9月（停止あり）'!AM44 -> 1 | T43: ='9月（停止あり）'!AN44 -> 0 | U43: ='10月(停止あり）'!AN44 -> 1 | V43: ='10月(停止あり）'!AO44 -> 0 | W43: ='11月（停止あり）'!AM44 -> 1 | X43: ='11月（停止あり）'!AN44 -> 0 | Y43: ='12月'!AN44 -> 1 | Z43: ='12月'!AO44 -> 0 | AA43: ='1月'!AN44 -> 1 | AB43: ='1月'!AO44 -> 0 | AC43: ='2月'!AL44 -> 1 | AD43: ='2月'!AM44 -> 0 | AE43: ='3月'!AN44 -> 1 | AF43: ='3月'!AO44 -> 0 | AG43: =IF(AH43=0,1,1-AH43/365) -> 0.97534247 | AH43: =J43+L43+N43+P43+R43+T43+V43+X43+Z43+AB43+AD43+AF43 -> 9
B44: 37 | F44: ０５０５９ | G44: 高浜町２－１ | H44: １．５ | I44: ='4月'!AM45 -> 1 | J44: ='4月'!AN45 -> 0 | K44: ='5月'!AN45 -> 1 | L44: ='5月'!AO45 -> 0 | M44: ='6月（停止あり）'!AM45 -> 0.7 | N44: ='6月（停止あり）'!AN45 -> 9 | O44: ='7月（停止あり）'!AN45 -> 1 | P44: ='7月（停止あり）'!AO45 -> 0 | Q44: ='8月（停止あり）'!AN45 -> 1 | R44: ='8月（停止あり）'!AO45 -> 0 | S44: ='9月（停止あり）'!AM45 -> 1 | T44: ='9月（停止あり）'!AN45 -> 0 | U44: ='10月(停止あり）'!AN45 -> 1 | V44: ='10月(停止あり）'!AO45 -> 0 | W44: ='11月（停止あり）'!AM45 -> 1 | X44: ='11月（停止あり）'!AN45 -> 0 | Y44: ='12月'!AN45 -> 1 | Z44: ='12月'!AO45 -> 0 | AA44: ='1月'!AN45 -> 1 | AB44: ='1月'!AO45 -> 0 | AC44: ='2月'!AL45 -> 1 | AD44: ='2月'!AM45 -> 0 | AE44: ='3月'!AN45 -> 1 | AF44: ='3月'!AO45 -> 0 | AG44: =IF(AH44=0,1,1-AH44/365) -> 0.97534247 | AH44: =J44+L44+N44+P44+R44+T44+V44+X44+Z44+AB44+AD44+AF44 -> 9
B45: 38 | F45: ０５０６９ | G45: 高浜町２－２ | H45: １．５ | I45: ='4月'!AM46 -> 1 | J45: ='4月'!AN46 -> 0 | K45: ='5月'!AN46 -> 1 | L45: ='5月'!AO46 -> 0 | M45: ='6月（停止あり）'!AM46 -> 0.7 | N45: ='6月（停止あり）'!AN46 -> 9 | O45: ='7月（停止あり）'!AN46 -> 1 | P45: ='7月（停止あり）'!AO46 -> 0 | Q45: ='8月（停止あり）'!AN46 -> 1 | R45: ='8月（停止あり）'!AO46 -> 0 | S45: ='9月（停止あり）'!AM46 -> 1 | T45: ='9月（停止あり）'!AN46 -> 0 | U45: ='10月(停止あり）'!AN46 -> 1 | V45: ='10月(停止あり）'!AO46 -> 0 | W45: ='11月（停止あり）'!AM46 -> 1 | X45: ='11月（停止あり）'!AN46 -> 0 | Y45: ='12月'!AN46 -> 1 | Z45: ='12月'!AO46 -> 0 | AA45: ='1月'!AN46 -> 1 | AB45: ='1月'!AO46 -> 0 | AC45: ='2月'!AL46 -> 1 | AD45: ='2月'!AM46 -> 0 | AE45: ='3月'!AN46 -> 1 | AF45: ='3月'!AO46 -> 0 | AG45: =IF(AH45=0,1,1-AH45/365) -> 0.97534247 | AH45: =J45+L45+N45+P45+R45+T45+V45+X45+Z45+AB45+AD45+AF45 -> 9
B46: 39 | F46: ０５０７９ | G46: 高浜町２－３ | H46: １．５ | I46: ='4月'!AM47 -> 1 | J46: ='4月'!AN47 -> 0 | K46: ='5月'!AN47 -> 1 | L46: ='5月'!AO47 -> 0 | M46: ='6月（停止あり）'!AM47 -> 0.7 | N46: ='6月（停止あり）'!AN47 -> 9 | O46: ='7月（停止あり）'!AN47 -> 1 | P46: ='7月（停止あり）'!AO47 -> 0 | Q46: ='8月（停止あり）'!AN47 -> 1 | R46: ='8月（停止あり）'!AO47 -> 0 | S46: ='9月（停止あり）'!AM47 -> 1 | T46: ='9月（停止あり）'!AN47 -> 0 | U46: ='10月(停止あり）'!AN47 -> 1 | V46: ='10月(停止あり）'!AO47 -> 0 | W46: ='11月（停止あり）'!AM47 -> 1 | X46: ='11月（停止あり）'!AN47 -> 0 | Y46: ='12月'!AN47 -> 1 | Z46: ='12月'!AO47 -> 0 | AA46: ='1月'!AN47 -> 1 | AB46: ='1月'!AO47 -> 0 | AC46: ='2月'!AL47 -> 1 | AD46: ='2月'!AM47 -> 0 | AE46: ='3月'!AN47 -> 1 | AF46: ='3月'!AO47 -> 0 | AG46: =IF(AH46=0,1,1-AH46/365) -> 0.97534247 | AH46: =J46+L46+N46+P46+R46+T46+V46+X46+Z46+AB46+AD46+AF46 -> 9
B47: 40 | F47: ０５０８９ | G47: 高浜町４－２ | H47: １．５ | I47: ='4月'!AM48 -> 1 | J47: ='4月'!AN48 -> 0 | K47: ='5月'!AN48 -> 1 | L47: ='5月'!AO48 -> 0 | M47: ='6月（停止あり）'!AM48 -> 0.7 | N47: ='6月（停止あり）'!AN48 -> 9 | O47: ='7月（停止あり）'!AN48 -> 1 | P47: ='7月（停止あり）'!AO48 -> 0 | Q47: ='8月（停止あり）'!AN48 -> 1 | R47: ='8月（停止あり）'!AO48 -> 0 | S47: ='9月（停止あり）'!AM48 -> 1 | T47: ='9月（停止あり）'!AN48 -> 0 | U47: ='10月(停止あり）'!AN48 -> 1 | V47: ='10月(停止あり）'!AO48 -> 0 | W47: ='11月（停止あり）'!AM48 -> 1 | X47: ='11月（停止あり）'!AN48 -> 0 | Y47: ='12月'!AN48 -> 1 | Z47: ='12月'!AO48 -> 0 | AA47: ='1月'!AN48 -> 1 | AB47: ='1月'!AO48 -> 0 | AC47: ='2月'!AL48 -> 1 | AD47: ='2月'!AM48 -> 0 | AE47: ='3月'!AN48 -> 1 | AF47: ='3月'!AO48 -> 0 | AG47: =IF(AH47=0,1,1-AH47/365) -> 0.97534247 | AH47: =J47+L47+N47+P47+R47+T47+V47+X47+Z47+AB47+AD47+AF47 -> 9
B48: 41 | F48: ０５０９９ | G48: 高浜町４－１ | H48: １．５ | I48: ='4月'!AM49 -> 1 | J48: ='4月'!AN49 -> 0 | K48: ='5月'!AN49 -> 1 | L48: ='5月'!AO49 -> 0 | M48: ='6月（停止あり）'!AM49 -> 0.7 | N48: ='6月（停止あり）'!AN49 -> 9 | O48: ='7月（停止あり）'!AN49 -> 1 | P48: ='7月（停止あり）'!AO49 -> 0 | Q48: ='8月（停止あり）'!AN49 -> 1 | R48: ='8月（停止あり）'!AO49 -> 0 | S48: ='9月（停止あり）'!AM49 -> 1 | T48: ='9月（停止あり）'!AN49 -> 0 | U48: ='10月(停止あり）'!AN49 -> 1 | V48: ='10月(停止あり）'!AO49 -> 0 | W48: ='11月（停止あり）'!AM49 -> 1 | X48: ='11月（停止あり）'!AN49 -> 0 | Y48: ='12月'!AN49 -> 1 | Z48: ='12月'!AO49 -> 0 | AA48: ='1月'!AN49 -> 1 | AB48: ='1月'!AO49 -> 0 | AC48: ='2月'!AL49 -> 1 | AD48: ='2月'!AM49 -> 0 | AE48: ='3月'!AN49 -> 1 | AF48: ='3月'!AO49 -> 0 | AG48: =IF(AH48=0,1,1-AH48/365) -> 0.97534247 | AH48: =J48+L48+N48+P48+R48+T48+V48+X48+Z48+AB48+AD48+AF48 -> 9
B49: 42 | F49: ０５１３１ | G49: 新浜町１ | H49: ０．４ | I49: ='4月'!AM50 -> 1 | J49: ='4月'!AN50 -> 0 | K49: ='5月'!AN50 -> 1 | L49: ='5月'!AO50 -> 0 | M49: ='6月（停止あり）'!AM50 -> 0.7 | N49: ='6月（停止あり）'!AN50 -> 9 | O49: ='7月（停止あり）'!AN50 -> 1 | P49: ='7月（停止あり）'!AO50 -> 0 | Q49: ='8月（停止あり）'!AN50 -> 1 | R49: ='8月（停止あり）'!AO50 -> 0 | S49: ='9月（停止あり）'!AM50 -> 1 | T49: ='9月（停止あり）'!AN50 -> 0 | U49: ='10月(停止あり）'!AN50 -> 1 | V49: ='10月(停止あり）'!AO50 -> 0 | W49: ='11月（停止あり）'!AM50 -> 1 | X49: ='11月（停止あり）'!AN50 -> 0 | Y49: ='12月'!AN50 -> 1 | Z49: ='12月'!AO50 -> 0 | AA49: ='1月'!AN50 -> 1 | AB49: ='1月'!AO50 -> 0 | AC49: ='2月'!AL50 -> 1 | AD49: ='2月'!AM50 -> 0 | AE49: ='3月'!AN50 -> 1 | AF49: ='3月'!AO50 -> 0 | AG49: =IF(AH49=0,1,1-AH49/365) -> 0.97534247 | AH49: =J49+L49+N49+P49+R49+T49+V49+X49+Z49+AB49+AD49+AF49 -> 9
B50: 43 | F50: ０５１４１ | G50: 新浜町１ | H50: ０．７ | I50: ='4月'!AM51 -> 1 | J50: ='4月'!AN51 -> 0 | K50: ='5月'!AN51 -> 1 | L50: ='5月'!AO51 -> 0 | M50: ='6月（停止あり）'!AM51 -> 0.7 | N50: ='6月（停止あり）'!AN51 -> 9 | O50: ='7月（停止あり）'!AN51 -> 1 | P50: ='7月（停止あり）'!AO51 -> 0 | Q50: ='8月（停止あり）'!AN51 -> 1 | R50: ='8月（停止あり）'!AO51 -> 0 | S50: ='9月（停止あり）'!AM51 -> 1 | T50: ='9月（停止あり）'!AN51 -> 0 | U50: ='10月(停止あり）'!AN51 -> 1 | V50: ='10月(停止あり）'!AO51 -> 0 | W50: ='11月（停止あり）'!AM51 -> 1 | X50: ='11月（停止あり）'!AN51 -> 0 | Y50: ='12月'!AN51 -> 1 | Z50: ='12月'!AO51 -> 0 | AA50: ='1月'!AN51 -> 1 | AB50: ='1月'!AO51 -> 0 | AC50: ='2月'!AL51 -> 1 | AD50: ='2月'!AM51 -> 0 | AE50: ='3月'!AN51 -> 1 | AF50: ='3月'!AO51 -> 0 | AG50: =IF(AH50=0,1,1-AH50/365) -> 0.97534247 | AH50: =J50+L50+N50+P50+R50+T50+V50+X50+Z50+AB50+AD50+AF50 -> 9
F51: 合計 | I51: ='4月'!AM52 -> 100% | J51: ='4月'!AN52 -> 0 | K51: ='5月'!AN52 -> 100% | L51: ='5月'!AO52 -> 0 | M51: ='6月（停止あり）'!AM52 -> 0.7 | N51: ='6月（停止あり）'!AN52 -> 99 | O51: ='7月（停止あり）'!AN52 -> 100% | P51: ='7月（停止あり）'!AO52 -> 0 | Q51: ='8月（停止あり）'!AN52 -> 100% | R51: ='8月（停止あり）'!AO52 -> 0 | S51: ='9月（停止あり）'!AM52 -> 100% | T51: ='9月（停止あり）'!AN52 -> 0 | U51: ='10月(停止あり）'!AN52 -> 100% | V51: ='10月(停止あり）'!AO52 -> 0 | W51: ='11月（停止あり）'!AM52 -> 100% | X51: ='11月（停止あり）'!AN52 -> 0 | Y51: ='12月'!AN52 -> 100% | Z51: ='12月'!AO52 -> 0 | AA51: ='1月'!AN52 -> 100% | AB51: ='1月'!AO52 -> 0 | AC51: ='2月'!AL52 -> 100% | AD51: ='2月'!AM52 -> 0 | AE51: ='3月'!AN52 -> 100% | AF51: ='3月'!AO52 -> 0 | AG51: =IF(AH51=0,1,1-AH51/1460) -> 0.93219178 | AH51: =SUM(AH40:AH50) -> 99
B52: 44 | D52: ６００系統 | F52: ０６０１１ | G52: 浜風町１６ | H52: ０．７ | I52: ='4月'!AM53 -> 1 | J52: ='4月'!AN53 -> 0 | K52: ='5月'!AN53 -> 1 | L52: ='5月'!AO53 -> 0 | M52: ='6月（停止あり）'!AM53 -> 0.7 | N52: ='6月（停止あり）'!AN53 -> 9 | O52: ='7月（停止あり）'!AN53 -> 1 | P52: ='7月（停止あり）'!AO53 -> 0 | Q52: ='8月（停止あり）'!AN53 -> 1 | R52: ='8月（停止あり）'!AO53 -> 0 | S52: ='9月（停止あり）'!AM53 -> 1 | T52: ='9月（停止あり）'!AN53 -> 0 | U52: ='10月(停止あり）'!AN53 -> 1 | V52: ='10月(停止あり）'!AO53 -> 0 | W52: ='11月（停止あり）'!AM53 -> 1 | X52: ='11月（停止あり）'!AN53 -> 0 | Y52: ='12月'!AN53 -> 1 | Z52: ='12月'!AO53 -> 0 | AA52: ='1月'!AN53 -> 1 | AB52: ='1月'!AO53 -> 0 | AC52: ='2月'!AL53 -> 1 | AD52: ='2月'!AM53 -> 0 | AE52: ='3月'!AN53 -> 1 | AF52: ='3月'!AO53 -> 0 | AG52: =IF(AH52=0,1,1-AH52/365) -> 0.97534247 | AH52: =J52+L52+N52+P52+R52+T52+V52+X52+Z52+AB52+AD52+AF52 -> 9
B53: 45 | F53: ０６０１２ | G53: 浜風町９ | H53: ０．７ | I53: ='4月'!AM54 -> 1 | J53: ='4月'!AN54 -> 0 | K53: ='5月'!AN54 -> 1 | L53: ='5月'!AO54 -> 0 | M53: ='6月（停止あり）'!AM54 -> 0.7 | N53: ='6月（停止あり）'!AN54 -> 9 | O53: ='7月（停止あり）'!AN54 -> 1 | P53: ='7月（停止あり）'!AO54 -> 0 | Q53: ='8月（停止あり）'!AN54 -> 1 | R53: ='8月（停止あり）'!AO54 -> 0 | S53: ='9月（停止あり）'!AM54 -> 1 | T53: ='9月（停止あり）'!AN54 -> 0 | U53: ='10月(停止あり）'!AN54 -> 1 | V53: ='10月(停止あり）'!AO54 -> 0 | W53: ='11月（停止あり）'!AM54 -> 1 | X53: ='11月（停止あり）'!AN54 -> 0 | Y53: ='12月'!AN54 -> 1 | Z53: ='12月'!AO54 -> 0 | AA53: ='1月'!AN54 -> 1 | AB53: ='1月'!AO54 -> 0 | AC53: ='2月'!AL54 -> 1 | AD53: ='2月'!AM54 -> 0 | AE53: ='3月'!AN54 -> 1 | AF53: ='3月'!AO54 -> 0 | AG53: =IF(AH53=0,1,1-AH53/365) -> 0.97534247 | AH53: =J53+L53+N53+P53+R53+T53+V53+X53+Z53+AB53+AD53+AF53 -> 9
B54: 46 | F54: ０６０２１ | G54: 浜風町１５ | H54: ０．７ | I54: ='4月'!AM55 -> 1 | J54: ='4月'!AN55 -> 0 | K54: ='5月'!AN55 -> 1 | L54: ='5月'!AO55 -> 0 | M54: ='6月（停止あり）'!AM55 -> 0.7 | N54: ='6月（停止あり）'!AN55 -> 9 | O54: ='7月（停止あり）'!AN55 -> 1 | P54: ='7月（停止あり）'!AO55 -> 0 | Q54: ='8月（停止あり）'!AN55 -> 1 | R54: ='8月（停止あり）'!AO55 -> 0 | S54: ='9月（停止あり）'!AM55 -> 1 | T54: ='9月（停止あり）'!AN55 -> 0 | U54: ='10月(停止あり）'!AN55 -> 1 | V54: ='10月(停止あり）'!AO55 -> 0 | W54: ='11月（停止あり）'!AM55 -> 1 | X54: ='11月（停止あり）'!AN55 -> 0 | Y54: ='12月'!AN55 -> 1 | Z54: ='12月'!AO55 -> 0 | AA54: ='1月'!AN55 -> 1 | AB54: ='1月'!AO55 -> 0 | AC54: ='2月'!AL55 -> 1 | AD54: ='2月'!AM55 -> 0 | AE54: ='3月'!AN55 -> 1 | AF54: ='3月'!AO55 -> 0 | AG54: =IF(AH54=0,1,1-AH54/365) -> 0.97534247 | AH54: =J54+L54+N54+P54+R54+T54+V54+X54+Z54+AB54+AD54+AF54 -> 9
B55: 47 | F55: ０６０３１ | G55: 浜風町１１ | H55: ０．７ | I55: ='4月'!AM56 -> 1 | J55: ='4月'!AN56 -> 0 | K55: ='5月'!AN56 -> 1 | L55: ='5月'!AO56 -> 0 | M55: ='6月（停止あり）'!AM56 -> 0.7 | N55: ='6月（停止あり）'!AN56 -> 9 | O55: ='7月（停止あり）'!AN56 -> 1 | P55: ='7月（停止あり）'!AO56 -> 0 | Q55: ='8月（停止あり）'!AN56 -> 1 | R55: ='8月（停止あり）'!AO56 -> 0 | S55: ='9月（停止あり）'!AM56 -> 1 | T55: ='9月（停止あり）'!AN56 -> 0 | U55: ='10月(停止あり）'!AN56 -> 1 | V55: ='10月(停止あり）'!AO56 -> 0 | W55: ='11月（停止あり）'!AM56 -> 1 | X55: ='11月（停止あり）'!AN56 -> 0 | Y55: ='12月'!AN56 -> 1 | Z55: ='12月'!AO56 -> 0 | AA55: ='1月'!AN56 -> 1 | AB55: ='1月'!AO56 -> 0 | AC55: ='2月'!AL56 -> 1 | AD55: ='2月'!AM56 -> 0 | AE55: ='3月'!AN56 -> 1 | AF55: ='3月'!AO56 -> 0 | AG55: =IF(AH55=0,1,1-AH55/365) -> 0.97534247 | AH55: =J55+L55+N55+P55+R55+T55+V55+X55+Z55+AB55+AD55+AF55 -> 9
B56: 48 | F56: ０６０４１ | G56: 浜風町１３ | H56: ０．７ | I56: ='4月'!AM57 -> 1 | J56: ='4月'!AN57 -> 0 | K56: ='5月'!AN57 -> 1 | L56: ='5月'!AO57 -> 0 | M56: ='6月（停止あり）'!AM57 -> 0.7 | N56: ='6月（停止あり）'!AN57 -> 9 | O56: ='7月（停止あり）'!AN57 -> 1 | P56: ='7月（停止あり）'!AO57 -> 0 | Q56: ='8月（停止あり）'!AN57 -> 1 | R56: ='8月（停止あり）'!AO57 -> 0 | S56: ='9月（停止あり）'!AM57 -> 1 | T56: ='9月（停止あり）'!AN57 -> 0 | U56: ='10月(停止あり）'!AN57 -> 1 | V56: ='10月(停止あり）'!AO57 -> 0 | W56: ='11月（停止あり）'!AM57 -> 1 | X56: ='11月（停止あり）'!AN57 -> 0 | Y56: ='12月'!AN57 -> 1 | Z56: ='12月'!AO57 -> 0 | AA56: ='1月'!AN57 -> 1 | AB56: ='1月'!AO57 -> 0 | AC56: ='2月'!AL57 -> 1 | AD56: ='2月'!AM57 -> 0 | AE56: ='3月'!AN57 -> 1 | AF56: ='3月'!AO57 -> 0 | AG56: =IF(AH56=0,1,1-AH56/365) -> 0.97534247 | AH56: =J56+L56+N56+P56+R56+T56+V56+X56+Z56+AB56+AD56+AF56 -> 9
B57: 49 | F57: ０６０５１ | G57: 浜風町１０ | H57: ０．７ | I57: ='4月'!AM58 -> 1 | J57: ='4月'!AN58 -> 0 | K57: ='5月'!AN58 -> 1 | L57: ='5月'!AO58 -> 0 | M57: ='6月（停止あり）'!AM58 -> 0.7 | N57: ='6月（停止あり）'!AN58 -> 9 | O57: ='7月（停止あり）'!AN58 -> 1 | P57: ='7月（停止あり）'!AO58 -> 0 | Q57: ='8月（停止あり）'!AN58 -> 1 | R57: ='8月（停止あり）'!AO58 -> 0 | S57: ='9月（停止あり）'!AM58 -> 1 | T57: ='9月（停止あり）'!AN58 -> 0 | U57: ='10月(停止あり）'!AN58 -> 1 | V57: ='10月(停止あり）'!AO58 -> 0 | W57: ='11月（停止あり）'!AM58 -> 1 | X57: ='11月（停止あり）'!AN58 -> 0 | Y57: ='12月'!AN58 -> 1 | Z57: ='12月'!AO58 -> 0 | AA57: ='1月'!AN58 -> 1 | AB57: ='1月'!AO58 -> 0 | AC57: ='2月'!AL58 -> 1 | AD57: ='2月'!AM58 -> 0 | AE57: ='3月'!AN58 -> 1 | AF57: ='3月'!AO58 -> 0 | AG57: =IF(AH57=0,1,1-AH57/365) -> 0.97534247 | AH57: =J57+L57+N57+P57+R57+T57+V57+X57+Z57+AB57+AD57+AF57 -> 9
F58: 合計 | I58: ='4月'!AM59 -> 100% | J58: ='4月'!AN59 -> 0 | K58: ='5月'!AN59 -> 100% | L58: ='5月'!AO59 -> 0 | M58: ='6月（停止あり）'!AM59 -> 0.7 | N58: ='6月（停止あり）'!AN59 -> 54 | O58: ='7月（停止あり）'!AN59 -> 100% | P58: ='7月（停止あり）'!AO59 -> 0 | Q58: ='8月（停止あり）'!AN59 -> 100% | R58: ='8月（停止あり）'!AO59 -> 0 | S58: ='9月（停止あり）'!AM59 -> 100% | T58: ='9月（停止あり）'!AN59 -> 0 | U58: ='10月(停止あり）'!AN59 -> 100% | V58: ='10月(停止あり）'!AO59 -> 0 | W58: ='11月（停止あり）'!AM59 -> 100% | X58: ='11月（停止あり）'!AN59 -> 0 | Y58: ='12月'!AN59 -> 100% | Z58: ='12月'!AO59 -> 0 | AA58: ='1月'!AN59 -> 100% | AB58: ='1月'!AO59 -> 0 | AC58: ='2月'!AL59 -> 100% | AD58: ='2月'!AM59 -> 0 | AE58: ='3月'!AN59 -> 100% | AF58: ='3月'!AO59 -> 0 | AG58: =IF(AH58=0,1,1-AH58/2190) -> 0.97534247 | AH58: =SUM(AH52:AH57) -> 54
B59: 50 | D59: ７００系統 | F59: ０７０１９ | G59: 高浜町７－１ | H59: １．０ | I59: ='4月'!AM60 -> 1 | J59: ='4月'!AN60 -> 0 | K59: ='5月'!AN60 -> 1 | L59: ='5月'!AO60 -> 0 | M59: ='6月（停止あり）'!AM60 -> 0.7 | N59: ='6月（停止あり）'!AN60 -> 9 | O59: ='7月（停止あり）'!AN60 -> 1 | P59: ='7月（停止あり）'!AO60 -> 0 | Q59: ='8月（停止あり）'!AN60 -> 1 | R59: ='8月（停止あり）'!AO60 -> 0 | S59: ='9月（停止あり）'!AM60 -> 1 | T59: ='9月（停止あり）'!AN60 -> 0 | U59: ='10月(停止あり）'!AN60 -> 1 | V59: ='10月(停止あり）'!AO60 -> 0 | W59: ='11月（停止あり）'!AM60 -> 1 | X59: ='11月（停止あり）'!AN60 -> 0 | Y59: ='12月'!AN60 -> 1 | Z59: ='12月'!AO60 -> 0 | AA59: ='1月'!AN60 -> 1 | AB59: ='1月'!AO60 -> 0 | AC59: ='2月'!AL60 -> 1 | AD59: ='2月'!AM60 -> 0 | AE59: ='3月'!AN60 -> 1 | AF59: ='3月'!AO60 -> 0 | AG59: =IF(AH59=0,1,1-AH59/365) -> 0.97534247 | AH59: =J59+L59+N59+P59+R59+T59+V59+X59+Z59+AB59+AD59+AF59 -> 9
B60: 51 | F60: ０７０２９ | G60: 高浜町７－２ | H60: １．０ | I60: ='4月'!AM61 -> 1 | J60: ='4月'!AN61 -> 0 | K60: ='5月'!AN61 -> 1 | L60: ='5月'!AO61 -> 0 | M60: ='6月（停止あり）'!AM61 -> 1 | N60: ='6月（停止あり）'!AN61 -> 0 | O60: ='7月（停止あり）'!AN61 -> 1 | P60: ='7月（停止あり）'!AO61 -> 0 | Q60: ='8月（停止あり）'!AN61 -> 1 | R60: ='8月（停止あり）'!AO61 -> 0 | S60: ='9月（停止あり）'!AM61 -> 1 | T60: ='9月（停止あり）'!AN61 -> 0 | U60: ='10月(停止あり）'!AN61 -> 1 | V60: ='10月(停止あり）'!AO61 -> 0 | W60: ='11月（停止あり）'!AM61 -> 1 | X60: ='11月（停止あり）'!AN61 -> 0 | Y60: ='12月'!AN61 -> 1 | Z60: ='12月'!AO61 -> 0 | AA60: ='1月'!AN61 -> 1 | AB60: ='1月'!AO61 -> 0 | AC60: ='2月'!AL61 -> 1 | AD60: ='2月'!AM61 -> 0 | AE60: ='3月'!AN61 -> 1 | AF60: ='3月'!AO61 -> 0 | AG60: =IF(AH60=0,1,1-AH60/365) -> 1 | AH60: =J60+L60+N60+P60+R60+T60+V60+X60+Z60+AB60+AD60+AF60 -> 0
F61: 合計 | I61: ='4月'!AM62 -> 100% | J61: ='4月'!AN62 -> 0 | K61: ='5月'!AN62 -> 100% | L61: ='5月'!AO62 -> 0 | M61: ='6月（停止あり）'!AM62 -> 0.85 | N61: ='6月（停止あり）'!AN62 -> 9 | O61: ='7月（停止あり）'!AN62 -> 100% | P61: ='7月（停止あり）'!AO62 -> 0 | Q61: ='8月（停止あり）'!AN62 -> 100% | R61: ='8月（停止あり）'!AO62 -> 0 | S61: ='9月（停止あり）'!AM62 -> 100% | T61: ='9月（停止あり）'!AN62 -> 0 | U61: ='10月(停止あり）'!AN62 -> 100% | V61: ='10月(停止あり）'!AO62 -> 0 | W61: ='11月（停止あり）'!AM62 -> 100% | X61: ='11月（停止あり）'!AN62 -> 0 | Y61: ='12月'!AN62 -> 100% | Z61: ='12月'!AO62 -> 0 | AA61: ='1月'!AN62 -> 100% | AB61: ='1月'!AO62 -> 0 | AC61: ='2月'!AL62 -> 100% | AD61: ='2月'!AM62 -> 0 | AE61: ='3月'!AN62 -> 100% | AF61: ='3月'!AO62 -> 0 | AG61: =IF(AH61=0,1,1-AH61/730) -> 0.98767123 | AH61: =SUM(AH59:AH60) -> 9
B62: 52 | C62: 宮川西側 | D62: ８００系統 | F62: ０８０１９ | G62: 若葉町４－１ | H62: １．５ | I62: ='4月'!AM63 -> 1 | J62: ='4月'!AN63 -> 0 | K62: ='5月'!AN63 -> 1 | L62: ='5月'!AO63 -> 0 | M62: ='6月（停止あり）'!AM63 -> 1 | N62: ='6月（停止あり）'!AN63 -> 0 | O62: ='7月（停止あり）'!AN63 -> 1 | P62: ='7月（停止あり）'!AO63 -> 0 | Q62: ='8月（停止あり）'!AN63 -> 1 | R62: ='8月（停止あり）'!AO63 -> 0 | S62: ='9月（停止あり）'!AM63 -> 1 | T62: ='9月（停止あり）'!AN63 -> 0 | U62: ='10月(停止あり）'!AN63 -> 1 | V62: ='10月(停止あり）'!AO63 -> 0 | W62: ='11月（停止あり）'!AM63 -> 1 | X62: ='11月（停止あり）'!AN63 -> 0 | Y62: ='12月'!AN63 -> 1 | Z62: ='12月'!AO63 -> 0 | AA62: ='1月'!AN63 -> 1 | AB62: ='1月'!AO63 -> 0 | AC62: ='2月'!AL63 -> 1 | AD62: ='2月'!AM63 -> 0 | AE62: ='3月'!AN63 -> 1 | AF62: ='3月'!AO63 -> 0 | AG62: =IF(AH62=0,1,1-AH62/365) -> 1 | AH62: =J62+L62+N62+P62+R62+T62+V62+X62+Z62+AB62+AD62+AF62 -> 0
B63: 53 | F63: ０８０２９ | G63: 若葉町５－１ | H63: １．５ | I63: ='4月'!AM64 -> 1 | J63: ='4月'!AN64 -> 0 | K63: ='5月'!AN64 -> 1 | L63: ='5月'!AO64 -> 0 | M63: ='6月（停止あり）'!AM64 -> 1 | N63: ='6月（停止あり）'!AN64 -> 0 | O63: ='7月（停止あり）'!AN64 -> 1 | P63: ='7月（停止あり）'!AO64 -> 0 | Q63: ='8月（停止あり）'!AN64 -> 1 | R63: ='8月（停止あり）'!AO64 -> 0 | S63: ='9月（停止あり）'!AM64 -> 1 | T63: ='9月（停止あり）'!AN64 -> 0 | U63: ='10月(停止あり）'!AN64 -> 1 | V63: ='10月(停止あり）'!AO64 -> 0 | W63: ='11月（停止あり）'!AM64 -> 1 | X63: ='11月（停止あり）'!AN64 -> 0 | Y63: ='12月'!AN64 -> 1 | Z63: ='12月'!AO64 -> 0 | AA63: ='1月'!AN64 -> 1 | AB63: ='1月'!AO64 -> 0 | AC63: ='2月'!AL64 -> 1 | AD63: ='2月'!AM64 -> 0 | AE63: ='3月'!AN64 -> 1 | AF63: ='3月'!AO64 -> 0 | AG63: =IF(AH63=0,1,1-AH63/365) -> 1 | AH63: =J63+L63+N63+P63+R63+T63+V63+X63+Z63+AB63+AD63+AF63 -> 0
B64: 54 | F64: ０８０３９ | G64: 若葉町５－２ | H64: １．５ | I64: ='4月'!AM65 -> 1 | J64: ='4月'!AN65 -> 0 | K64: ='5月'!AN65 -> 1 | L64: ='5月'!AO65 -> 0 | M64: ='6月（停止あり）'!AM65 -> 1 | N64: ='6月（停止あり）'!AN65 -> 0 | O64: ='7月（停止あり）'!AN65 -> 1 | P64: ='7月（停止あり）'!AO65 -> 0 | Q64: ='8月（停止あり）'!AN65 -> 1 | R64: ='8月（停止あり）'!AO65 -> 0 | S64: ='9月（停止あり）'!AM65 -> 1 | T64: ='9月（停止あり）'!AN65 -> 0 | U64: ='10月(停止あり）'!AN65 -> 1 | V64: ='10月(停止あり）'!AO65 -> 0 | W64: ='11月（停止あり）'!AM65 -> 1 | X64: ='11月（停止あり）'!AN65 -> 0 | Y64: ='12月'!AN65 -> 1 | Z64: ='12月'!AO65 -> 0 | AA64: ='1月'!AN65 -> 1 | AB64: ='1月'!AO65 -> 0 | AC64: ='2月'!AL65 -> 1 | AD64: ='2月'!AM65 -> 0 | AE64: ='3月'!AN65 -> 1 | AF64: ='3月'!AO65 -> 0 | AG64: =IF(AH64=0,1,1-AH64/365) -> 1 | AH64: =J64+L64+N64+P64+R64+T64+V64+X64+Z64+AB64+AD64+AF64 -> 0
B65: 55 | F65: ０８０４９ | G65: 若葉町６－１ | H65: １．５ | I65: ='4月'!AM66 -> 1 | J65: ='4月'!AN66 -> 0 | K65: ='5月'!AN66 -> 1 | L65: ='5月'!AO66 -> 0 | M65: ='6月（停止あり）'!AM66 -> 1 | N65: ='6月（停止あり）'!AN66 -> 0 | O65: ='7月（停止あり）'!AN66 -> 1 | P65: ='7月（停止あり）'!AO66 -> 0 | Q65: ='8月（停止あり）'!AN66 -> 1 | R65: ='8月（停止あり）'!AO66 -> 0 | S65: ='9月（停止あり）'!AM66 -> 1 | T65: ='9月（停止あり）'!AN66 -> 0 | U65: ='10月(停止あり）'!AN66 -> 1 | V65: ='10月(停止あり）'!AO66 -> 0 | W65: ='11月（停止あり）'!AM66 -> 1 | X65: ='11月（停止あり）'!AN66 -> 0 | Y65: ='12月'!AN66 -> 1 | Z65: ='12月'!AO66 -> 0 | AA65: ='1月'!AN66 -> 1 | AB65: ='1月'!AO66 -> 0 | AC65: ='2月'!AL66 -> 1 | AD65: ='2月'!AM66 -> 0 | AE65: ='3月'!AN66 -> 1 | AF65: ='3月'!AO66 -> 0 | AG65: =IF(AH65=0,1,1-AH65/365) -> 1 | AH65: =J65+L65+N65+P65+R65+T65+V65+X65+Z65+AB65+AD65+AF65 -> 0
B66: 56 | F66: ０８０５９ | G66: 若葉町６－２ | H66: １．５ | I66: ='4月'!AM67 -> 1 | J66: ='4月'!AN67 -> 0 | K66: ='5月'!AN67 -> 1 | L66: ='5月'!AO67 -> 0 | M66: ='6月（停止あり）'!AM67 -> 1 | N66: ='6月（停止あり）'!AN67 -> 0 | O66: ='7月（停止あり）'!AN67 -> 1 | P66: ='7月（停止あり）'!AO67 -> 0 | Q66: ='8月（停止あり）'!AN67 -> 1 | R66: ='8月（停止あり）'!AO67 -> 0 | S66: ='9月（停止あり）'!AM67 -> 1 | T66: ='9月（停止あり）'!AN67 -> 0 | U66: ='10月(停止あり）'!AN67 -> 1 | V66: ='10月(停止あり）'!AO67 -> 0 | W66: ='11月（停止あり）'!AM67 -> 1 | X66: ='11月（停止あり）'!AN67 -> 0 | Y66: ='12月'!AN67 -> 1 | Z66: ='12月'!AO67 -> 0 | AA66: ='1月'!AN67 -> 1 | AB66: ='1月'!AO67 -> 0 | AC66: ='2月'!AL67 -> 1 | AD66: ='2月'!AM67 -> 0 | AE66: ='3月'!AN67 -> 1 | AF66: ='3月'!AO67 -> 0 | AG66: =IF(AH66=0,1,1-AH66/365) -> 1 | AH66: =J66+L66+N66+P66+R66+T66+V66+X66+Z66+AB66+AD66+AF66 -> 0
B67: 57 | F67: ０８０６９ | G67: 若葉町７－２ | H67: １．０ | I67: ='4月'!AM68 -> 1 | J67: ='4月'!AN68 -> 0 | K67: ='5月'!AN68 -> 1 | L67: ='5月'!AO68 -> 0 | M67: ='6月（停止あり）'!AM68 -> 1 | N67: ='6月（停止あり）'!AN68 -> 0 | O67: ='7月（停止あり）'!AN68 -> 1 | P67: ='7月（停止あり）'!AO68 -> 0 | Q67: ='8月（停止あり）'!AN68 -> 1 | R67: ='8月（停止あり）'!AO68 -> 0 | S67: ='9月（停止あり）'!AM68 -> 1 | T67: ='9月（停止あり）'!AN68 -> 0 | U67: ='10月(停止あり）'!AN68 -> 1 | V67: ='10月(停止あり）'!AO68 -> 0 | W67: ='11月（停止あり）'!AM68 -> 1 | X67: ='11月（停止あり）'!AN68 -> 0 | Y67: ='12月'!AN68 -> 1 | Z67: ='12月'!AO68 -> 0 | AA67: ='1月'!AN68 -> 1 | AB67: ='1月'!AO68 -> 0 | AC67: ='2月'!AL68 -> 1 | AD67: ='2月'!AM68 -> 0 | AE67: ='3月'!AN68 -> 1 | AF67: ='3月'!AO68 -> 0 | AG67: =IF(AH67=0,1,1-AH67/365) -> 1 | AH67: =J67+L67+N67+P67+R67+T67+V67+X67+Z67+AB67+AD67+AF67 -> 0
B68: 58 | F68: ０８０７９ | G68: 若葉町７－３ | H68: １．０ | I68: ='4月'!AM69 -> 1 | J68: ='4月'!AN69 -> 0 | K68: ='5月'!AN69 -> 1 | L68: ='5月'!AO69 -> 0 | M68: ='6月（停止あり）'!AM69 -> 1 | N68: ='6月（停止あり）'!AN69 -> 0 | O68: ='7月（停止あり）'!AN69 -> 1 | P68: ='7月（停止あり）'!AO69 -> 0 | Q68: ='8月（停止あり）'!AN69 -> 1 | R68: ='8月（停止あり）'!AO69 -> 0 | S68: ='9月（停止あり）'!AM69 -> 1 | T68: ='9月（停止あり）'!AN69 -> 0 | U68: ='10月(停止あり）'!AN69 -> 1 | V68: ='10月(停止あり）'!AO69 -> 0 | W68: ='11月（停止あり）'!AM69 -> 1 | X68: ='11月（停止あり）'!AN69 -> 0 | Y68: ='12月'!AN69 -> 1 | Z68: ='12月'!AO69 -> 0 | AA68: ='1月'!AN69 -> 1 | AB68: ='1月'!AO69 -> 0 | AC68: ='2月'!AL69 -> 1 | AD68: ='2月'!AM69 -> 0 | AE68: ='3月'!AN69 -> 1 | AF68: ='3月'!AO69 -> 0 | AG68: =IF(AH68=0,1,1-AH68/365) -> 1 | AH68: =J68+L68+N68+P68+R68+T68+V68+X68+Z68+AB68+AD68+AF68 -> 0
F69: 合計 | I69: ='4月'!AM70 -> 100% | J69: ='4月'!AN70 -> 0 | K69: ='5月'!AN70 -> 100% | L69: ='5月'!AO70 -> 0 | M69: ='6月（停止あり）'!AM70 -> 100% | N69: ='6月（停止あり）'!AN70 -> 0 | O69: ='7月（停止あり）'!AN70 -> 100% | P69: ='7月（停止あり）'!AO70 -> 0 | Q69: ='8月（停止あり）'!AN70 -> 100% | R69: ='8月（停止あり）'!AO70 -> 0 | S69: ='9月（停止あり）'!AM70 -> 100% | T69: ='9月（停止あり）'!AN70 -> 0 | U69: ='10月(停止あり）'!AN70 -> 100% | V69: ='10月(停止あり）'!AO70 -> 0 | W69: ='11月（停止あり）'!AM70 -> 100% | X69: ='11月（停止あり）'!AN70 -> 0 | Y69: ='12月'!AN70 -> 100% | Z69: ='12月'!AO70 -> 0 | AA69: ='1月'!AN70 -> 100% | AB69: ='1月'!AO70 -> 0 | AC69: ='2月'!AL70 -> 100% | AD69: ='2月'!AM70 -> 0 | AE69: ='3月'!AN70 -> 100% | AF69: ='3月'!AO70 -> 0 | AG69: =IF(AH69=0,1,1-AH69/2555) -> 1 | AH69: =SUM(AH62:AH68) -> 0
B70: 59 | D70: ９００系統 | F70: ０９０１９ | G70: 若葉町２－１ | H70: １．５ | I70: ='4月'!AM71 -> 1 | J70: ='4月'!AN71 -> 0 | K70: ='5月'!AN71 -> 1 | L70: ='5月'!AO71 -> 0 | M70: ='6月（停止あり）'!AM71 -> 1 | N70: ='6月（停止あり）'!AN71 -> 0 | O70: ='7月（停止あり）'!AN71 -> 1 | P70: ='7月（停止あり）'!AO71 -> 0 | Q70: ='8月（停止あり）'!AN71 -> 1 | R70: ='8月（停止あり）'!AO71 -> 0 | S70: ='9月（停止あり）'!AM71 -> 1 | T70: ='9月（停止あり）'!AN71 -> 0 | U70: ='10月(停止あり）'!AN71 -> 1 | V70: ='10月(停止あり）'!AO71 -> 0 | W70: ='11月（停止あり）'!AM71 -> 1 | X70: ='11月（停止あり）'!AN71 -> 0 | Y70: ='12月'!AN71 -> 1 | Z70: ='12月'!AO71 -> 0 | AA70: ='1月'!AN71 -> 1 | AB70: ='1月'!AO71 -> 0 | AC70: ='2月'!AL71 -> 1 | AD70: ='2月'!AM71 -> 0 | AE70: ='3月'!AN71 -> 1 | AF70: ='3月'!AO71 -> 0 | AG70: =IF(AH70=0,1,1-AH70/365) -> 1 | AH70: =J70+L70+N70+P70+R70+T70+V70+X70+Z70+AB70+AD70+AF70 -> 0
B71: 60 | F71: ０９０２９ | G71: 若葉町２－２ | H71: １．５ | I71: ='4月'!AM72 -> 1 | J71: ='4月'!AN72 -> 0 | K71: ='5月'!AN72 -> 1 | L71: ='5月'!AO72 -> 0 | M71: ='6月（停止あり）'!AM72 -> 1 | N71: ='6月（停止あり）'!AN72 -> 0 | O71: ='7月（停止あり）'!AN72 -> 1 | P71: ='7月（停止あり）'!AO72 -> 0 | Q71: ='8月（停止あり）'!AN72 -> 1 | R71: ='8月（停止あり）'!AO72 -> 0 | S71: ='9月（停止あり）'!AM72 -> 1 | T71: ='9月（停止あり）'!AN72 -> 0 | U71: ='10月(停止あり）'!AN72 -> 1 | V71: ='10月(停止あり）'!AO72 -> 0 | W71: ='11月（停止あり）'!AM72 -> 1 | X71: ='11月（停止あり）'!AN72 -> 0 | Y71: ='12月'!AN72 -> 1 | Z71: ='12月'!AO72 -> 0 | AA71: ='1月'!AN72 -> 1 | AB71: ='1月'!AO72 -> 0 | AC71: ='2月'!AL72 -> 1 | AD71: ='2月'!AM72 -> 0 | AE71: ='3月'!AN72 -> 1 | AF71: ='3月'!AO72 -> 0 | AG71: =IF(AH71=0,1,1-AH71/365) -> 1 | AH71: =J71+L71+N71+P71+R71+T71+V71+X71+Z71+AB71+AD71+AF71 -> 0
F72: 合計 | I72: ='4月'!AM73 -> 100% | J72: ='4月'!AN73 -> 0 | K72: ='5月'!AN73 -> 100% | L72: ='5月'!AO73 -> 0 | M72: ='6月（停止あり）'!AM73 -> 100% | N72: ='6月（停止あり）'!AN73 -> 0 | O72: ='7月（停止あり）'!AN73 -> 100% | P72: ='7月（停止あり）'!AO73 -> 0 | Q72: ='8月（停止あり）'!AN73 -> 100% | R72: ='8月（停止あり）'!AO73 -> 0 | S72: ='9月（停止あり）'!AM73 -> 100% | T72: ='9月（停止あり）'!AN73 -> 0 | U72: ='10月(停止あり）'!AN73 -> 100% | V72: ='10月(停止あり）'!AO73 -> 0 | W72: ='11月（停止あり）'!AM73 -> 100% | X72: ='11月（停止あり）'!AN73 -> 0 | Y72: ='12月'!AN73 -> 100% | Z72: ='12月'!AO73 -> 0 | AA72: ='1月'!AN73 -> 100% | AB72: ='1月'!AO73 -> 0 | AC72: ='2月'!AL73 -> 100% | AD72: ='2月'!AM73 -> 0 | AE72: ='3月'!AN73 -> 100% | AF72: ='3月'!AO73 -> 0 | AG72: =IF(AH72=0,1,1-AH72/730) -> 1 | AH72: =SUM(AH70:AH71) -> 0
B73: 61 | D73: １０００系統 | F73: １００１９ | G73: 若葉町４－２ | H73: １．５ | I73: ='4月'!AM74 -> 1 | J73: ='4月'!AN74 -> 0 | K73: ='5月'!AN74 | L73: ='5月'!AO74 -> 0 | M73: ='6月（停止あり）'!AM74 -> 1 | N73: ='6月（停止あり）'!AN74 -> 0 | O73: ='7月（停止あり）'!AN74 -> 1 | P73: ='7月（停止あり）'!AO74 -> 0 | Q73: ='8月（停止あり）'!AN74 -> 1 | R73: ='8月（停止あり）'!AO74 -> 0 | S73: ='9月（停止あり）'!AM74 -> 1 | T73: ='9月（停止あり）'!AN74 -> 0 | U73: ='10月(停止あり）'!AN74 -> 1 | V73: ='10月(停止あり）'!AO74 -> 0 | W73: ='11月（停止あり）'!AM74 -> 1 | X73: ='11月（停止あり）'!AN74 -> 0 | Y73: ='12月'!AN74 -> 1 | Z73: ='12月'!AO74 -> 0 | AA73: ='1月'!AN74 -> 1 | AB73: ='1月'!AO74 -> 0 | AC73: ='2月'!AL74 -> 1 | AD73: ='2月'!AM74 -> 0 | AE73: ='3月'!AN74 | AF73: ='3月'!AO74 -> 0 | AG73: =IF(AH73=0,1,1-AH73/365) -> 1 | AH73: =J73+L73+N73+P73+R73+T73+V73+X73+Z73+AB73+AD73+AF73 -> 0
B74: 62 | F74: １００２９ | G74: 若葉町７－１ | H74: １．０ | I74: ='4月'!AM75 -> 1 | J74: ='4月'!AN75 -> 0 | K74: ='5月'!AN75 | L74: ='5月'!AO75 -> 0 | M74: ='6月（停止あり）'!AM75 -> 1 | N74: ='6月（停止あり）'!AN75 -> 0 | O74: ='7月（停止あり）'!AN75 -> 1 | P74: ='7月（停止あり）'!AO75 -> 0 | Q74: ='8月（停止あり）'!AN75 -> 1 | R74: ='8月（停止あり）'!AO75 -> 0 | S74: ='9月（停止あり）'!AM75 -> 1 | T74: ='9月（停止あり）'!AN75 -> 0 | U74: ='10月(停止あり）'!AN75 -> 1 | V74: ='10月(停止あり）'!AO75 -> 0 | W74: ='11月（停止あり）'!AM75 -> 1 | X74: ='11月（停止あり）'!AN75 -> 0 | Y74: ='12月'!AN75 -> 1 | Z74: ='12月'!AO75 -> 0 | AA74: ='1月'!AN75 -> 1 | AB74: ='1月'!AO75 -> 0 | AC74: ='2月'!AL75 -> 1 | AD74: ='2月'!AM75 -> 0 | AE74: ='3月'!AN75 | AF74: ='3月'!AO75 -> 0 | AG74: =IF(AH74=0,1,1-AH74/365) -> 1 | AH74: =J74+L74+N74+P74+R74+T74+V74+X74+Z74+AB74+AD74+AF74 -> 0
F75: 合計 | I75: ='4月'!AM76 -> 100% | J75: ='4月'!AN76 -> 0 | K75: ='5月'!AN76 -> 100% | L75: ='5月'!AO76 -> 0 | M75: ='6月（停止あり）'!AM76 -> 100% | N75: ='6月（停止あり）'!AN76 -> 0 | O75: ='7月（停止あり）'!AN76 -> 100% | P75: ='7月（停止あり）'!AO76 -> 0 | Q75: ='8月（停止あり）'!AN76 -> 100% | R75: ='8月（停止あり）'!AO76 -> 0 | S75: ='9月（停止あり）'!AM76 -> 100% | T75: ='9月（停止あり）'!AN76 -> 0 | U75: ='10月(停止あり）'!AN76 -> 100% | V75: ='10月(停止あり）'!AO76 -> 0 | W75: ='11月（停止あり）'!AM76 -> 100% | X75: ='11月（停止あり）'!AN76 -> 0 | Y75: ='12月'!AN76 -> 100% | Z75: ='12月'!AO76 -> 0 | AA75: ='1月'!AN76 -> 100% | AB75: ='1月'!AO76 -> 0 | AC75: ='2月'!AL76 -> 100% | AD75: ='2月'!AM76 -> 0 | AE75: ='3月'!AN76 -> 100% | AF75: ='3月'!AO76 -> 0 | AG75: =IF(AH75=0,1,1-AH75/730) -> 1 | AH75: =SUM(AH73:AH74) -> 0
B76: 63 | D76: １１００系統 | F76: １１０１１ | G76: 緑町２ | H76: ０．７ | I76: ='4月'!AM77 -> 1 | J76: ='4月'!AN77 -> 0 | K76: ='5月'!AN77 | L76: ='5月'!AO77 -> 0 | M76: ='6月（停止あり）'!AM77 -> 1 | N76: ='6月（停止あり）'!AN77 -> 0 | O76: ='7月（停止あり）'!AN77 -> 1 | P76: ='7月（停止あり）'!AO77 -> 0 | Q76: ='8月（停止あり）'!AN77 -> 1 | R76: ='8月（停止あり）'!AO77 -> 0 | S76: ='9月（停止あり）'!AM77 -> 1 | T76: ='9月（停止あり）'!AN77 -> 0 | U76: ='10月(停止あり）'!AN77 -> 1 | V76: ='10月(停止あり）'!AO77 -> 0 | W76: ='11月（停止あり）'!AM77 -> 1 | X76: ='11月（停止あり）'!AN77 -> 0 | Y76: ='12月'!AN77 -> 1 | Z76: ='12月'!AO77 -> 0 | AA76: ='1月'!AN77 -> 1 | AB76: ='1月'!AO77 -> 0 | AC76: ='2月'!AL77 -> 1 | AD76: ='2月'!AM77 -> 0 | AE76: ='3月'!AN77 | AF76: ='3月'!AO77 -> 0 | AG76: =IF(AH76=0,1,1-AH76/365) -> 1 | AH76: =J76+L76+N76+P76+R76+T76+V76+X76+Z76+AB76+AD76+AF76 -> 0
B77: 64 | F77: １１０２１ | G77: 緑町１ | H77: ０．７ | I77: ='4月'!AM78 -> 1 | J77: ='4月'!AN78 -> 0 | K77: ='5月'!AN78 | L77: ='5月'!AO78 -> 0 | M77: ='6月（停止あり）'!AM78 -> 1 | N77: ='6月（停止あり）'!AN78 -> 0 | O77: ='7月（停止あり）'!AN78 -> 1 | P77: ='7月（停止あり）'!AO78 -> 0 | Q77: ='8月（停止あり）'!AN78 -> 1 | R77: ='8月（停止あり）'!AO78 -> 0 | S77: ='9月（停止あり）'!AM78 -> 1 | T77: ='9月（停止あり）'!AN78 -> 0 | U77: ='10月(停止あり）'!AN78 -> 1 | V77: ='10月(停止あり）'!AO78 -> 0 | W77: ='11月（停止あり）'!AM78 -> 1 | X77: ='11月（停止あり）'!AN78 -> 0 | Y77: ='12月'!AN78 -> 1 | Z77: ='12月'!AO78 -> 0 | AA77: ='1月'!AN78 -> 1 | AB77: ='1月'!AO78 -> 0 | AC77: ='2月'!AL78 -> 1 | AD77: ='2月'!AM78 -> 0 | AE77: ='3月'!AN78 | AF77: ='3月'!AO78 -> 0 | AG77: =IF(AH77=0,1,1-AH77/365) -> 1 | AH77: =J77+L77+N77+P77+R77+T77+V77+X77+Z77+AB77+AD77+AF77 -> 0
B78: 65 | F78: １１０３１ | G78: 緑町２ | H78: ０．７ | I78: ='4月'!AM79 -> 1 | J78: ='4月'!AN79 -> 0 | K78: ='5月'!AN79 | L78: ='5月'!AO79 -> 0 | M78: ='6月（停止あり）'!AM79 -> 1 | N78: ='6月（停止あり）'!AN79 -> 0 | O78: ='7月（停止あり）'!AN79 -> 0.25806452 | P78: ='7月（停止あり）'!AO79 -> 23 | Q78: ='8月（停止あり）'!AN79 -> 1 | R78: ='8月（停止あり）'!AO79 -> 0 | S78: ='9月（停止あり）'!AM79 -> 1 | T78: ='9月（停止あり）'!AN79 -> 0 | U78: ='10月(停止あり）'!AN79 -> 1 | V78: ='10月(停止あり）'!AO79 -> 0 | W78: ='11月（停止あり）'!AM79 -> 1 | X78: ='11月（停止あり）'!AN79 -> 0 | Y78: ='12月'!AN79 -> 1 | Z78: ='12月'!AO79 -> 0 | AA78: ='1月'!AN79 -> 1 | AB78: ='1月'!AO79 -> 0 | AC78: ='2月'!AL79 -> 1 | AD78: ='2月'!AM79 -> 0 | AE78: ='3月'!AN79 | AF78: ='3月'!AO79 -> 0 | AG78: =IF(AH78=0,1,1-AH78/365) -> 0.9369863 | AH78: =J78+L78+N78+P78+R78+T78+V78+X78+Z78+AB78+AD78+AF78 -> 23
B79: 66 | F79: １１０４１ | G79: 緑町３ | H79: ０．７ | I79: ='4月'!AM80 -> 1 | J79: ='4月'!AN80 -> 0 | K79: ='5月'!AN80 | L79: ='5月'!AO80 -> 0 | M79: ='6月（停止あり）'!AM80 -> 1 | N79: ='6月（停止あり）'!AN80 -> 0 | O79: ='7月（停止あり）'!AN80 -> 1 | P79: ='7月（停止あり）'!AO80 -> 0 | Q79: ='8月（停止あり）'!AN80 -> 1 | R79: ='8月（停止あり）'!AO80 -> 0 | S79: ='9月（停止あり）'!AM80 -> 1 | T79: ='9月（停止あり）'!AN80 -> 0 | U79: ='10月(停止あり）'!AN80 -> 1 | V79: ='10月(停止あり）'!AO80 -> 0 | W79: ='11月（停止あり）'!AM80 -> 1 | X79: ='11月（停止あり）'!AN80 -> 0 | Y79: ='12月'!AN80 -> 1 | Z79: ='12月'!AO80 -> 0 | AA79: ='1月'!AN80 -> 1 | AB79: ='1月'!AO80 -> 0 | AC79: ='2月'!AL80 -> 1 | AD79: ='2月'!AM80 -> 0 | AE79: ='3月'!AN80 | AF79: ='3月'!AO80 -> 0 | AG79: =IF(AH79=0,1,1-AH79/365) -> 1 | AH79: =J79+L79+N79+P79+R79+T79+V79+X79+Z79+AB79+AD79+AF79 -> 0
B80: 67 | F80: １１０５１ | G80: 緑町４ | H80: ０．７ | I80: ='4月'!AM81 -> 1 | J80: ='4月'!AN81 -> 0 | K80: ='5月'!AN81 | L80: ='5月'!AO81 -> 0 | M80: ='6月（停止あり）'!AM81 -> 1 | N80: ='6月（停止あり）'!AN81 -> 0 | O80: ='7月（停止あり）'!AN81 -> 1 | P80: ='7月（停止あり）'!AO81 -> 0 | Q80: ='8月（停止あり）'!AN81 -> 1 | R80: ='8月（停止あり）'!AO81 -> 0 | S80: ='9月（停止あり）'!AM81 -> 1 | T80: ='9月（停止あり）'!AN81 -> 0 | U80: ='10月(停止あり）'!AN81 -> 1 | V80: ='10月(停止あり）'!AO81 -> 0 | W80: ='11月（停止あり）'!AM81 -> 1 | X80: ='11月（停止あり）'!AN81 -> 0 | Y80: ='12月'!AN81 -> 1 | Z80: ='12月'!AO81 -> 0 | AA80: ='1月'!AN81 -> 1 | AB80: ='1月'!AO81 -> 0 | AC80: ='2月'!AL81 -> 1 | AD80: ='2月'!AM81 -> 0 | AE80: ='3月'!AN81 | AF80: ='3月'!AO81 -> 0 | AG80: =IF(AH80=0,1,1-AH80/365) -> 1 | AH80: =J80+L80+N80+P80+R80+T80+V80+X80+Z80+AB80+AD80+AF80 -> 0
B81: 68 | F81: １１０６１ | G81: 緑町５ | H81: ０．７ | I81: ='4月'!AM82 -> 1 | J81: ='4月'!AN82 -> 0 | K81: ='5月'!AN82 | L81: ='5月'!AO82 -> 0 | M81: ='6月（停止あり）'!AM82 -> 1 | N81: ='6月（停止あり）'!AN82 -> 0 | O81: ='7月（停止あり）'!AN82 -> 0.25806452 | P81: ='7月（停止あり）'!AO82 -> 23 | Q81: ='8月（停止あり）'!AN82 -> 0 | R81: ='8月（停止あり）'!AO82 -> 31 | S81: ='9月（停止あり）'!AM82 -> 0 | T81: ='9月（停止あり）'!AN82 -> 30 | U81: ='10月(停止あり）'!AN82 -> 1 | V81: ='10月(停止あり）'!AO82 -> 0 | W81: ='11月（停止あり）'!AM82 -> 1 | X81: ='11月（停止あり）'!AN82 -> 0 | Y81: ='12月'!AN82 -> 1 | Z81: ='12月'!AO82 -> 0 | AA81: ='1月'!AN82 -> 1 | AB81: ='1月'!AO82 -> 0 | AC81: ='2月'!AL82 -> 1 | AD81: ='2月'!AM82 -> 0 | AE81: ='3月'!AN82 | AF81: ='3月'!AO82 -> 0 | AG81: =IF(AH81=0,1,1-AH81/365) -> 0.76986301 | AH81: =J81+L81+N81+P81+R81+T81+V81+X81+Z81+AB81+AD81+AF81 -> 84
B82: 69 | F82: １１０６２ | G82: 緑町５ | H82: ０．７ | I82: ='4月'!AM83 -> 1 | J82: ='4月'!AN83 -> 0 | K82: ='5月'!AN83 | L82: ='5月'!AO83 -> 0 | M82: ='6月（停止あり）'!AM83 -> 1 | N82: ='6月（停止あり）'!AN83 -> 0 | O82: ='7月（停止あり）'!AN83 -> 0 | P82: ='7月（停止あり）'!AO83 -> 31 | Q82: ='8月（停止あり）'!AN83 -> 0 | R82: ='8月（停止あり）'!AO83 -> 31 | S82: ='9月（停止あり）'!AM83 -> 0 | T82: ='9月（停止あり）'!AN83 -> 30 | U82: ='10月(停止あり）'!AN83 -> 1 | V82: ='10月(停止あり）'!AO83 -> 0 | W82: ='11月（停止あり）'!AM83 -> 1 | X82: ='11月（停止あり）'!AN83 -> 0 | Y82: ='12月'!AN83 -> 1 | Z82: ='12月'!AO83 -> 0 | AA82: ='1月'!AN83 -> 1 | AB82: ='1月'!AO83 -> 0 | AC82: ='2月'!AL83 -> 1 | AD82: ='2月'!AM83 -> 0 | AE82: ='3月'!AN83 | AF82: ='3月'!AO83 -> 0 | AG82: =IF(AH82=0,1,1-AH82/365) -> 0.74794521 | AH82: =J82+L82+N82+P82+R82+T82+V82+X82+Z82+AB82+AD82+AF82 -> 92
B83: 70 | F83: １１０６３ | G83: 潮見町８ | H83: ０．７ | I83: ='4月'!AM84 -> 1 | J83: ='4月'!AN84 -> 0 | K83: ='5月'!AN84 | L83: ='5月'!AO84 -> 0 | M83: ='6月（停止あり）'!AM84 -> 1 | N83: ='6月（停止あり）'!AN84 -> 0 | O83: ='7月（停止あり）'!AN84 -> 0 | P83: ='7月（停止あり）'!AO84 -> 31 | Q83: ='8月（停止あり）'!AN84 -> 0 | R83: ='8月（停止あり）'!AO84 -> 31 | S83: ='9月（停止あり）'!AM84 -> 0 | T83: ='9月（停止あり）'!AN84 -> 30 | U83: ='10月(停止あり）'!AN84 -> 1 | V83: ='10月(停止あり）'!AO84 -> 0 | W83: ='11月（停止あり）'!AM84 -> 1 | X83: ='11月（停止あり）'!AN84 -> 0 | Y83: ='12月'!AN84 -> 1 | Z83: ='12月'!AO84 -> 0 | AA83: ='1月'!AN84 -> 1 | AB83: ='1月'!AO84 -> 0 | AC83: ='2月'!AL84 -> 1 | AD83: ='2月'!AM84 -> 0 | AE83: ='3月'!AN84 | AF83: ='3月'!AO84 -> 0 | AG83: =IF(AH83=0,1,1-AH83/365) -> 0.74794521 | AH83: =J83+L83+N83+P83+R83+T83+V83+X83+Z83+AB83+AD83+AF83 -> 92
B84: 71 | F84: １１０７１ | G84: 緑町７ | H84: ０．７ | I84: ='4月'!AM85 -> 1 | J84: ='4月'!AN85 -> 0 | K84: ='5月'!AN85 | L84: ='5月'!AO85 -> 0 | M84: ='6月（停止あり）'!AM85 -> 1 | N84: ='6月（停止あり）'!AN85 -> 0 | O84: ='7月（停止あり）'!AN85 -> 0 | P84: ='7月（停止あり）'!AO85 -> 31 | Q84: ='8月（停止あり）'!AN85 -> 0 | R84: ='8月（停止あり）'!AO85 -> 31 | S84: ='9月（停止あり）'!AM85 -> 0 | T84: ='9月（停止あり）'!AN85 -> 30 | U84: ='10月(停止あり）'!AN85 -> 1 | V84: ='10月(停止あり）'!AO85 -> 0 | W84: ='11月（停止あり）'!AM85 -> 1 | X84: ='11月（停止あり）'!AN85 -> 0 | Y84: ='12月'!AN85 -> 1 | Z84: ='12月'!AO85 -> 0 | AA84: ='1月'!AN85 -> 1 | AB84: ='1月'!AO85 -> 0 | AC84: ='2月'!AL85 -> 1 | AD84: ='2月'!AM85 -> 0 | AE84: ='3月'!AN85 | AF84: ='3月'!AO85 -> 0 | AG84: =IF(AH84=0,1,1-AH84/365) -> 0.74794521 | AH84: =J84+L84+N84+P84+R84+T84+V84+X84+Z84+AB84+AD84+AF84 -> 92
B85: 72 | F85: １１０８１ | G85: 緑町１０ | H85: ０．７ | I85: ='4月'!AM86 -> 1 | J85: ='4月'!AN86 -> 0 | K85: ='5月'!AN86 | L85: ='5月'!AO86 -> 0 | M85: ='6月（停止あり）'!AM86 -> 1 | N85: ='6月（停止あり）'!AN86 -> 0 | O85: ='7月（停止あり）'!AN86 -> 0 | P85: ='7月（停止あり）'!AO86 -> 31 | Q85: ='8月（停止あり）'!AN86 -> 0 | R85: ='8月（停止あり）'!AO86 -> 31 | S85: ='9月（停止あり）'!AM86 -> 0 | T85: ='9月（停止あり）'!AN86 -> 30 | U85: ='10月(停止あり）'!AN86 -> 1 | V85: ='10月(停止あり）'!AO86 -> 0 | W85: ='11月（停止あり）'!AM86 -> 1 | X85: ='11月（停止あり）'!AN86 -> 0 | Y85: ='12月'!AN86 -> 1 | Z85: ='12月'!AO86 -> 0 | AA85: ='1月'!AN86 -> 1 | AB85: ='1月'!AO86 -> 0 | AC85: ='2月'!AL86 -> 1 | AD85: ='2月'!AM86 -> 0 | AE85: ='3月'!AN86 | AF85: ='3月'!AO86 -> 0 | AG85: =IF(AH85=0,1,1-AH85/365) -> 0.74794521 | AH85: =J85+L85+N85+P85+R85+T85+V85+X85+Z85+AB85+AD85+AF85 -> 92
B86: 73 | F86: １１０９１ | G86: 緑町６ | H86: ０．７ | I86: ='4月'!AM87 -> 1 | J86: ='4月'!AN87 -> 0 | K86: ='5月'!AN87 | L86: ='5月'!AO87 -> 0 | M86: ='6月（停止あり）'!AM87 -> 1 | N86: ='6月（停止あり）'!AN87 -> 0 | O86: ='7月（停止あり）'!AN87 -> 0 | P86: ='7月（停止あり）'!AO87 -> 31 | Q86: ='8月（停止あり）'!AN87 -> 0 | R86: ='8月（停止あり）'!AO87 -> 31 | S86: ='9月（停止あり）'!AM87 -> 0 | T86: ='9月（停止あり）'!AN87 -> 30 | U86: ='10月(停止あり）'!AN87 -> 1 | V86: ='10月(停止あり）'!AO87 -> 0 | W86: ='11月（停止あり）'!AM87 -> 1 | X86: ='11月（停止あり）'!AN87 -> 0 | Y86: ='12月'!AN87 -> 1 | Z86: ='12月'!AO87 -> 0 | AA86: ='1月'!AN87 -> 1 | AB86: ='1月'!AO87 -> 0 | AC86: ='2月'!AL87 -> 1 | AD86: ='2月'!AM87 -> 0 | AE86: ='3月'!AN87 | AF86: ='3月'!AO87 -> 0 | AG86: =IF(AH86=0,1,1-AH86/365) -> 0.74794521 | AH86: =J86+L86+N86+P86+R86+T86+V86+X86+Z86+AB86+AD86+AF86 -> 92
B87: 74 | F87: １１１０１ | G87: 緑町９ | H87: ０．７ | I87: ='4月'!AM88 -> 1 | J87: ='4月'!AN88 -> 0 | K87: ='5月'!AN88 | L87: ='5月'!AO88 -> 0 | M87: ='6月（停止あり）'!AM88 -> 1 | N87: ='6月（停止あり）'!AN88 -> 0 | O87: ='7月（停止あり）'!AN88 -> 0 | P87: ='7月（停止あり）'!AO88 -> 31 | Q87: ='8月（停止あり）'!AN88 -> 0 | R87: ='8月（停止あり）'!AO88 -> 31 | S87: ='9月（停止あり）'!AM88 -> 0 | T87: ='9月（停止あり）'!AN88 -> 30 | U87: ='10月(停止あり）'!AN88 -> 1 | V87: ='10月(停止あり）'!AO88 -> 0 | W87: ='11月（停止あり）'!AM88 -> 1 | X87: ='11月（停止あり）'!AN88 -> 0 | Y87: ='12月'!AN88 -> 1 | Z87: ='12月'!AO88 -> 0 | AA87: ='1月'!AN88 -> 1 | AB87: ='1月'!AO88 -> 0 | AC87: ='2月'!AL88 -> 1 | AD87: ='2月'!AM88 -> 0 | AE87: ='3月'!AN88 | AF87: ='3月'!AO88 -> 0 | AG87: =IF(AH87=0,1,1-AH87/365) -> 0.74794521 | AH87: =J87+L87+N87+P87+R87+T87+V87+X87+Z87+AB87+AD87+AF87 -> 92
B88: 75 | F88: １１１１１ | G88: 潮見町８ | H88: ０．７ | I88: ='4月'!AM89 -> 1 | J88: ='4月'!AN89 -> 0 | K88: ='5月'!AN89 | L88: ='5月'!AO89 -> 0 | M88: ='6月（停止あり）'!AM89 -> 1 | N88: ='6月（停止あり）'!AN89 -> 0 | O88: ='7月（停止あり）'!AN89 -> 0 | P88: ='7月（停止あり）'!AO89 -> 31 | Q88: ='8月（停止あり）'!AN89 -> 1 | R88: ='8月（停止あり）'!AO89 -> 0 | S88: ='9月（停止あり）'!AM89 -> 1 | T88: ='9月（停止あり）'!AN89 -> 0 | U88: ='10月(停止あり）'!AN89 -> 1 | V88: ='10月(停止あり）'!AO89 -> 0 | W88: ='11月（停止あり）'!AM89 -> 1 | X88: ='11月（停止あり）'!AN89 -> 0 | Y88: ='12月'!AN89 -> 1 | Z88: ='12月'!AO89 -> 0 | AA88: ='1月'!AN89 -> 1 | AB88: ='1月'!AO89 -> 0 | AC88: ='2月'!AL89 -> 1 | AD88: ='2月'!AM89 -> 0 | AE88: ='3月'!AN89 | AF88: ='3月'!AO89 -> 0 | AG88: =IF(AH88=0,1,1-AH88/365) -> 0.91506849 | AH88: =J88+L88+N88+P88+R88+T88+V88+X88+Z88+AB88+AD88+AF88 -> 31
... B91: 78 | F91: １１１４９ | G91: 緑町１ | H91: １．５ | I91: ='4月'!AM92 -> 1 | J91: ='4月'!AN92 -> 0 | K91: ='5月'!AN92 | L91: ='5月'!AO92 -> 0 | M91: ='6月（停止あり）'!AM92 -> 1 | N91: ='6月（停止あり）'!AN92 -> 0 | O91: ='7月（停止あり）'!AN92 -> 0.25806452 | P91: ='7月（停止あり）'!AO92 -> 23 | Q91: ='8月（停止あり）'!AN92 -> 1 | R91: ='8月（停止あり）'!AO92 -> 0 | S91: ='9月（停止あり）'!AM92 -> 1 | T91: ='9月（停止あり）'!AN92 -> 0 | U91: ='10月(停止あり）'!AN92 -> 1 | V91: ='10月(停止あり）'!AO92 -> 0 | W91: ='11月（停止あり）'!AM92 -> 1 | X91: ='11月（停止あり）'!AN92 -> 0 | Y91: ='12月'!AN92 -> 1 | Z91: ='12月'!AO92 -> 0 | AA91: ='1月'!AN92 -> 1 | AB91: ='1月'!AO92 -> 0 | AC91: ='2月'!AL92 -> 1 | AD91: ='2月'!AM92 -> 0 | AE91: ='3月'!AN92 | AF91: ='3月'!AO92 -> 0 | AG91: =IF(AH91=0,1,1-AH91/365) -> 0.9369863 | AH91: =J91+L91+N91+P91+R91+T91+V91+X91+Z91+AB91+AD91+AF91 -> 23
F92: 合計 | I92: ='4月'!AM93 -> 100% | J92: ='4月'!AN93 -> 0 | K92: ='5月'!AN93 -> 100% | L92: ='5月'!AO93 -> 0 | M92: ='6月（停止あり）'!AM93 -> 100% | N92: ='6月（停止あり）'!AN93 -> 0 | O92: ='7月（停止あり）'!AN93 -> 0.33064516 | P92: ='7月（停止あり）'!AO93 -> 332 | Q92: ='8月（停止あり）'!AN93 -> 0.5625 | R92: ='8月（停止あり）'!AO93 -> 217 | S92: ='9月（停止あり）'!AM93 -> 0.5625 | T92: ='9月（停止あり）'!AN93 -> 210 | U92: ='10月(停止あり）'!AN93 -> 100% | V92: ='10月(停止あり）'!AO93 -> 0 | W92: ='11月（停止あり）'!AM93 -> 100% | X92: ='11月（停止あり）'!AN93 -> 0 | Y92: ='12月'!AN93 -> 100% | Z92: ='12月'!AO93 -> 0 | AA92: ='1月'!AN93 -> 100% | AB92: ='1月'!AO93 -> 0 | AC92: ='2月'!AL93 -> 100% | AD92: ='2月'!AM93 -> 0 | AE92: ='3月'!AN93 -> 100% | AF92: ='3月'!AO93 -> 0 | AG92: =IF(AH92=0,1,1-AH92/5840) -> 0.87003425 | AH92: =SUM(AH76:AH91) -> 759
B93: 79 | D93: １２００系統 | F93: １２０１１ | G93: 潮見町１ | H93: ０．４ | I93: ='4月'!AM94 -> 1 | J93: ='4月'!AN94 -> 0 | K93: ='5月'!AN94 | L93: ='5月'!AO94 -> 0 | M93: ='6月（停止あり）'!AM94 -> 1 | N93: ='6月（停止あり）'!AN94 -> 0 | O93: ='7月（停止あり）'!AN94 -> 1 | P93: ='7月（停止あり）'!AO94 -> 0 | Q93: ='8月（停止あり）'!AN94 -> 1 | R93: ='8月（停止あり）'!AO94 -> 0 | S93: ='9月（停止あり）'!AM94 -> 1 | T93: ='9月（停止あり）'!AN94 -> 0 | U93: ='10月(停止あり）'!AN94 -> 1 | V93: ='10月(停止あり）'!AO94 -> 0 | W93: ='11月（停止あり）'!AM94 -> 1 | X93: ='11月（停止あり）'!AN94 -> 0 | Y93: ='12月'!AN94 -> 1 | Z93: ='12月'!AO94 -> 0 | AA93: ='1月'!AN94 -> 1 | AB93: ='1月'!AO94 -> 0 | AC93: ='2月'!AL94 -> 1 | AD93: ='2月'!AM94 -> 0 | AE93: ='3月'!AN94 | AF93: ='3月'!AO94 -> 0 | AG93: =IF(AH93=0,1,1-AH93/365) -> 1 | AH93: =J93+L93+N93+P93+R93+T93+V93+X93+Z93+AB93+AD93+AF93 -> 0
B94: 80 | F94: １２０２１ | G94: 潮見町２０ | H94: ０．４ | I94: ='4月'!AM95 -> 1 | J94: ='4月'!AN95 -> 0 | K94: ='5月'!AN95 | L94: ='5月'!AO95 -> 0 | M94: ='6月（停止あり）'!AM95 -> 1 | N94: ='6月（停止あり）'!AN95 -> 0 | O94: ='7月（停止あり）'!AN95 -> 1 | P94: ='7月（停止あり）'!AO95 -> 0 | Q94: ='8月（停止あり）'!AN95 -> 1 | R94: ='8月（停止あり）'!AO95 -> 0 | S94: ='9月（停止あり）'!AM95 -> 1 | T94: ='9月（停止あり）'!AN95 -> 0 | U94: ='10月(停止あり）'!AN95 -> 1 | V94: ='10月(停止あり）'!AO95 -> 0 | W94: ='11月（停止あり）'!AM95 -> 1 | X94: ='11月（停止あり）'!AN95 -> 0 | Y94: ='12月'!AN95 -> 1 | Z94: ='12月'!AO95 -> 0 | AA94: ='1月'!AN95 -> 1 | AB94: ='1月'!AO95 -> 0 | AC94: ='2月'!AL95 -> 1 | AD94: ='2月'!AM95 -> 0 | AE94: ='3月'!AN95 | AF94: ='3月'!AO95 -> 0 | AG94: =IF(AH94=0,1,1-AH94/365) -> 1 | AH94: =J94+L94+N94+P94+R94+T94+V94+X94+Z94+AB94+AD94+AF94 -> 0
B95: 81 | F95: １２０３１ | G95: 潮見町４ | H95: ０．７ | I95: ='4月'!AM96 -> 1 | J95: ='4月'!AN96 -> 0 | K95: ='5月'!AN96 | L95: ='5月'!AO96 -> 0 | M95: ='6月（停止あり）'!AM96 -> 1 | N95: ='6月（停止あり）'!AN96 -> 0 | O95: ='7月（停止あり）'!AN96 -> 1 | P95: ='7月（停止あり）'!AO96 -> 0 | Q95: ='8月（停止あり）'!AN96 -> 1 | R95: ='8月（停止あり）'!AO96 -> 0 | S95: ='9月（停止あり）'!AM96 -> 1 | T95: ='9月（停止あり）'!AN96 -> 0 | U95: ='10月(停止あり）'!AN96 -> 1 | V95: ='10月(停止あり）'!AO96 -> 0 | W95: ='11月（停止あり）'!AM96 -> 1 | X95: ='11月（停止あり）'!AN96 -> 0 | Y95: ='12月'!AN96 -> 1 | Z95: ='12月'!AO96 -> 0 | AA95: ='1月'!AN96 -> 1 | AB95: ='1月'!AO96 -> 0 | AC95: ='2月'!AL96 -> 1 | AD95: ='2月'!AM96 -> 0 | AE95: ='3月'!AN96 | AF95: ='3月'!AO96 -> 0 | AG95: =IF(AH95=0,1,1-AH95/365) -> 1 | AH95: =J95+L95+N95+P95+R95+T95+V95+X95+Z95+AB95+AD95+AF95 -> 0
B96: 82 | F96: １２０３２ | G96: 潮見町３ | H96: ０．７ | I96: ='4月'!AM97 -> 1 | J96: ='4月'!AN97 -> 0 | K96: ='5月'!AN97 | L96: ='5月'!AO97 -> 0 | M96: ='6月（停止あり）'!AM97 -> 1 | N96: ='6月（停止あり）'!AN97 -> 0 | O96: ='7月（停止あり）'!AN97 -> 1 | P96: ='7月（停止あり）'!AO97 -> 0 | Q96: ='8月（停止あり）'!AN97 -> 1 | R96: ='8月（停止あり）'!AO97 -> 0 | S96: ='9月（停止あり）'!AM97 -> 1 | T96: ='9月（停止あり）'!AN97 -> 0 | U96: ='10月(停止あり）'!AN97 -> 1 | V96: ='10月(停止あり）'!AO97 -> 0 | W96: ='11月（停止あり）'!AM97 -> 1 | X96: ='11月（停止あり）'!AN97 -> 0 | Y96: ='12月'!AN97 -> 1 | Z96: ='12月'!AO97 -> 0 | AA96: ='1月'!AN97 -> 1 | AB96: ='1月'!AO97 -> 0 | AC96: ='2月'!AL97 -> 1 | AD96: ='2月'!AM97 -> 0 | AE96: ='3月'!AN97 | AF96: ='3月'!AO97 -> 0 | AG96: =IF(AH96=0,1,1-AH96/365) -> 1 | AH96: =J96+L96+N96+P96+R96+T96+V96+X96+Z96+AB96+AD96+AF96 -> 0
B97: 83 | F97: １２０４１ | G97: 潮見町４ | H97: ０．７ | I97: ='4月'!AM98 -> 1 | J97: ='4月'!AN98 -> 0 | K97: ='5月'!AN98 | L97: ='5月'!AO98 -> 0 | M97: ='6月（停止あり）'!AM98 -> 1 | N97: ='6月（停止あり）'!AN98 -> 0 | O97: ='7月（停止あり）'!AN98 -> 1 | P97: ='7月（停止あり）'!AO98 -> 0 | Q97: ='8月（停止あり）'!AN98 -> 1 | R97: ='8月（停止あり）'!AO98 -> 0 | S97: ='9月（停止あり）'!AM98 -> 1 | T97: ='9月（停止あり）'!AN98 -> 0 | U97: ='10月(停止あり）'!AN98 -> 1 | V97: ='10月(停止あり）'!AO98 -> 0 | W97: ='11月（停止あり）'!AM98 -> 1 | X97: ='11月（停止あり）'!AN98 -> 0 | Y97: ='12月'!AN98 -> 1 | Z97: ='12月'!AO98 -> 0 | AA97: ='1月'!AN98 -> 1 | AB97: ='1月'!AO98 -> 0 | AC97: ='2月'!AL98 -> 1 | AD97: ='2月'!AM98 -> 0 | AE97: ='3月'!AN98 | AF97: ='3月'!AO98 -> 0 | AG97: =IF(AH97=0,1,1-AH97/365) -> 1 | AH97: =J97+L97+N97+P97+R97+T97+V97+X97+Z97+AB97+AD97+AF97 -> 0
B98: 84 | F98: １２０５１ | G98: 潮見町７ | H98: ０．７ | I98: ='4月'!AM99 -> 1 | J98: ='4月'!AN99 -> 0 | K98: ='5月'!AN99 | L98: ='5月'!AO99 -> 0 | M98: ='6月（停止あり）'!AM99 -> 1 | N98: ='6月（停止あり）'!AN99 -> 0 | O98: ='7月（停止あり）'!AN99 -> 1 | P98: ='7月（停止あり）'!AO99 -> 0 | Q98: ='8月（停止あり）'!AN99 -> 1 | R98: ='8月（停止あり）'!AO99 -> 0 | S98: ='9月（停止あり）'!AM99 -> 1 | T98: ='9月（停止あり）'!AN99 -> 0 | U98: ='10月(停止あり）'!AN99 -> 1 | V98: ='10月(停止あり）'!AO99 -> 0 | W98: ='11月（停止あり）'!AM99 -> 1 | X98: ='11月（停止あり）'!AN99 -> 0 | Y98: ='12月'!AN99 -> 1 | Z98: ='12月'!AO99 -> 0 | AA98: ='1月'!AN99 -> 1 | AB98: ='1月'!AO99 -> 0 | AC98: ='2月'!AL99 -> 1 | AD98: ='2月'!AM99 -> 0 | AE98: ='3月'!AN99 | AF98: ='3月'!AO99 -> 0 | AG98: =IF(AH98=0,1,1-AH98/365) -> 1 | AH98: =J98+L98+N98+P98+R98+T98+V98+X98+Z98+AB98+AD98+AF98 -> 0
B99: 85 | F99: １２０６１ | G99: 潮見町５ | H99: ０．７ | I99: ='4月'!AM100 -> 1 | J99: ='4月'!AN100 -> 0 | K99: ='5月'!AN100 | L99: ='5月'!AO100 -> 0 | M99: ='6月（停止あり）'!AM100 -> 1 | N99: ='6月（停止あり）'!AN100 -> 0 | O99: ='7月（停止あり）'!AN100 -> 1 | P99: ='7月（停止あり）'!AO100 -> 0 | Q99: ='8月（停止あり）'!AN100 -> 1 | R99: ='8月（停止あり）'!AO100 -> 0 | S99: ='9月（停止あり）'!AM100 -> 1 | T99: ='9月（停止あり）'!AN100 -> 0 | U99: ='10月(停止あり）'!AN100 -> 1 | V99: ='10月(停止あり）'!AO100 -> 0 | W99: ='11月（停止あり）'!AM100 -> 1 | X99: ='11月（停止あり）'!AN100 -> 0 | Y99: ='12月'!AN100 -> 1 | Z99: ='12月'!AO100 -> 0 | AA99: ='1月'!AN100 -> 1 | AB99: ='1月'!AO100 -> 0 | AC99: ='2月'!AL100 -> 1 | AD99: ='2月'!AM100 -> 0 | AE99: ='3月'!AN100 | AF99: ='3月'!AO100 -> 0 | AG99: =IF(AH99=0,1,1-AH99/365) -> 1 | AH99: =J99+L99+N99+P99+R99+T99+V99+X99+Z99+AB99+AD99+AF99 -> 0
B100: 86 | F100: １２０７１ | G100: 潮見町６ | H100: ０．７ | I100: ='4月'!AM101 -> 1 | J100: ='4月'!AN101 -> 0 | K100: ='5月'!AN101 | L100: ='5月'!AO101 -> 0 | M100: ='6月（停止あり）'!AM101 -> 1 | N100: ='6月（停止あり）'!AN101 -> 0 | O100: ='7月（停止あり）'!AN101 -> 1 | P100: ='7月（停止あり）'!AO101 -> 0 | Q100: ='8月（停止あり）'!AN101 -> 1 | R100: ='8月（停止あり）'!AO101 -> 0 | S100: ='9月（停止あり）'!AM101 -> 1 | T100: ='9月（停止あり）'!AN101 -> 0 | U100: ='10月(停止あり）'!AN101 -> 1 | V100: ='10月(停止あり）'!AO101 -> 0 | W100: ='11月（停止あり）'!AM101 -> 1 | X100: ='11月（停止あり）'!AN101 -> 0 | Y100: ='12月'!AN101 -> 1 | Z100: ='12月'!AO101 -> 0 | AA100: ='1月'!AN101 -> 1 | AB100: ='1月'!AO101 -> 0 | AC100: ='2月'!AL101 -> 1 | AD100: ='2月'!AM101 -> 0 | AE100: ='3月'!AN101 | AF100: ='3月'!AO101 -> 0 | AG100: =IF(AH100=0,1,1-AH100/365) -> 1 | AH100: =J100+L100+N100+P100+R100+T100+V100+X100+Z100+AB100+AD100+AF100 -> 0
B101: 87 | F101: １２０８１ | G101: 潮見町１７ | H101: ０．７ | I101: ='4月'!AM102 -> 1 | J101: ='4月'!AN102 -> 0 | K101: ='5月'!AN102 | L101: ='5月'!AO102 -> 0 | M101: ='6月（停止あり）'!AM102 -> 1 | N101: ='6月（停止あり）'!AN102 -> 0 | O101: ='7月（停止あり）'!AN102 -> 1 | P101: ='7月（停止あり）'!AO102 -> 0 | Q101: ='8月（停止あり）'!AN102 -> 1 | R101: ='8月（停止あり）'!AO102 -> 0 | S101: ='9月（停止あり）'!AM102 -> 1 | T101: ='9月（停止あり）'!AN102 -> 0 | U101: ='10月(停止あり）'!AN102 -> 1 | V101: ='10月(停止あり）'!AO102 -> 0 | W101: ='11月（停止あり）'!AM102 -> 1 | X101: ='11月（停止あり）'!AN102 -> 0 | Y101: ='12月'!AN102 -> 1 | Z101: ='12月'!AO102 -> 0 | AA101: ='1月'!AN102 -> 1 | AB101: ='1月'!AO102 -> 0 | AC101: ='2月'!AL102 -> 1 | AD101: ='2月'!AM102 -> 0 | AE101: ='3月'!AN102 | AF101: ='3月'!AO102 -> 0 | AG101: =IF(AH101=0,1,1-AH101/365) -> 1 | AH101: =J101+L101+N101+P101+R101+T101+V101+X101+Z101+AB101+AD101+AF101 -> 0
B102: 88 | F102: １２０８２ | G102: 潮見町１８ | H102: ０．７ | I102: ='4月'!AM103 -> 1 | J102: ='4月'!AN103 -> 0 | K102: ='5月'!AN103 | L102: ='5月'!AO103 -> 0 | M102: ='6月（停止あり）'!AM103 -> 1 | N102: ='6月（停止あり）'!AN103 -> 0 | O102: ='7月（停止あり）'!AN103 -> 1 | P102: ='7月（停止あり）'!AO103 -> 0 | Q102: ='8月（停止あり）'!AN103 -> 1 | R102: ='8月（停止あり）'!AO103 -> 0 | S102: ='9月（停止あり）'!AM103 -> 1 | T102: ='9月（停止あり）'!AN103 -> 0 | U102: ='10月(停止あり）'!AN103 -> 1 | V102: ='10月(停止あり）'!AO103 -> 0 | W102: ='11月（停止あり）'!AM103 -> 1 | X102: ='11月（停止あり）'!AN103 -> 0 | Y102: ='12月'!AN103 -> 1 | Z102: ='12月'!AO103 -> 0 | AA102: ='1月'!AN103 -> 1 | AB102: ='1月'!AO103 -> 0 | AC102: ='2月'!AL103 -> 1 | AD102: ='2月'!AM103 -> 0 | AE102: ='3月'!AN103 | AF102: ='3月'!AO103 -> 0 | AG102: =IF(AH102=0,1,1-AH102/365) -> 1 | AH102: =J102+L102+N102+P102+R102+T102+V102+X102+Z102+AB102+AD102+AF102 -> 0
...

Sheet 4月
B2: Ｎｏ． | C2: 地区 | D2: 系統 | F2: 投入口ｱﾄﾞﾚｽ | G2: 住所 | H2: 容量（ｍ２） | I2: ４月 | AM2: 稼働率 | AN2: 停止日数
I3: 1 | J3: 2 | K3: 3 | L3: 4 | M3: 5 | N3: 6 | O3: 7 | P3: 8 | Q3: 9 | R3: 10 | S3: 11 | T3: 12 | U3: 13 | V3: 14 | W3: 15 | X3: 16 | Y3: 17 | Z3: 18 | AA3: 19 | AB3: 20 | AC3: 21 | AD3: 22 | AE3: 23 | AF3: 24 | AG3: 25 | AH3: 26 | AI3: 27 | AJ3: 28 | AK3: 29 | AL3: 30
H4: ☓ | I4: 月 | J4: 火 | K4: 水 | L4: 木 | M4: 金 | N4: 土 | O4: 日 | P4: 月 | Q4: 火 | R4: 水 | S4: 木 | T4: 金 | U4: 土 | V4: 日 | W4: 月 | X4: 火 | Y4: 水 | Z4: 木 | AA4: 金 | AB4: 土 | AC4: 日 | AD4: 月 | AE4: 火 | AF4: 水 | AG4: 木 | AH4: 金 | AI4: 土 | AJ4: 日 | AK4: 月 | AL4: 火
B5: 1 | C5: 宮川東側 | D5: １００系統 | F5: ０１０１１ | G5: 浜風町２１ | H5: ０．７ | AM5: =IF(COUNTA(I5:AL5)=0,1,1-COUNTIF(I5:AL5,"☓")/30) -> 1 | AN5: =COUNTA(I5:AL5) -> 0
B6: 2 | F6: ０１０１２ | G6: 浜風町２２ | H6: ０．７ | AM6: =IF(COUNTA(I6:AL6)=0,1,1-COUNTIF(I6:AL6,"☓")/30) -> 1 | AN6: =COUNTA(I6:AL6) -> 0
B7: 3 | F7: ０１０１３ | G7: 浜風町２４ | H7: ０．７ | AM7: =IF(COUNTA(I7:AL7)=0,1,1-COUNTIF(I7:AL7,"☓")/30) -> 1 | AN7: =COUNTA(I7:AL7) -> 0
B8: 4 | F8: ０１０１４ | G8: 浜風町２７ | H8: ０．７ | AM8: =IF(COUNTA(I8:AL8)=0,1,1-COUNTIF(I8:AL8,"☓")/30) -> 1 | AN8: =COUNTA(I8:AL8) -> 0
B9: 5 | F9: ０１０２１ | G9: 浜風町１９ | H9: ０．７ | AM9: =IF(COUNTA(I9:AL9)=0,1,1-COUNTIF(I9:AL9,"☓")/30) -> 1 | AN9: =COUNTA(I9:AL9) -> 0
B10: 6 | F10: ０１０３１ | G10: 浜風町１８ | H10: ０．７ | AM10: =IF(COUNTA(I10:AL10)=0,1,1-COUNTIF(I10:AL10,"☓")/30) -> 1 | AN10: =COUNTA(I10:AL10) -> 0
F11: 合計 | H11: =COUNTA(H5:H10) -> 6 | I11: =1-(COUNTIF(I5:I10,"☓"))/6 -> 1 | J11: =1-(COUNTIF(J5:J10,"☓"))/6 -> 1 | K11: =1-(COUNTIF(K5:K10,"☓"))/6 -> 1 | L11: =1-(COUNTIF(L5:L10,"☓"))/6 -> 1 | M11: =1-(COUNTIF(M5:M10,"☓"))/6 -> 1 | N11: =1-(COUNTIF(N5:N10,"☓"))/6 -> 1 | O11: =1-(COUNTIF(O5:O10,"☓"))/6 -> 1 | P11: =1-(COUNTIF(P5:P10,"☓"))/6 -> 1 | ... AL11: =1-(COUNTIF(AL5:AL10,"☓"))/6 -> 1 | AM11: =IF(AN11=0,"100%",AVERAGE(AM5:AM10)) -> 100% | AN11: =SUM(AN5:AN10) -> 0
B12: 7 | D12: ３００系統 | E12: Ｋライン | F12: ０３０１１ | G12: 浜風町１ | H12: ０．７ | AM12: =IF(COUNTA(I12:AL12)=0,1,1-COUNTIF(I12:AL12,"☓")/30) -> 1 | AN12: =COUNTA(I12:AL12) -> 0
B13: 8 | F13: ０３０３１ | G13: 浜風町８ | H13: ０．７ | AM13: =IF(COUNTA(I13:AL13)=0,1,1-COUNTIF(I13:AL13,"☓")/30) -> 1 | AN13: =COUNTA(I13:AL13) -> 0
B14: 9 | F14: ０３０３２ | G14: 浜風町２ | H14: ０．７ | AM14: =IF(COUNTA(I14:AL14)=0,1,1-COUNTIF(I14:AL14,"☓")/30) -> 1 | AN14: =COUNTA(I14:AL14) -> 0
B15: 10 | F15: ０３０２１ | G15: 浜風町８ | H15: ０．７ | AM15: =IF(COUNTA(I15:AL15)=0,1,1-COUNTIF(I15:AL15,"☓")/30) -> 1 | AN15: =COUNTA(I15:AL15) -> 0
B16: 11 | F16: ０３０３３ | G16: 浜風町７ | H16: ０．７ | AM16: =IF(COUNTA(I16:AL16)=0,1,1-COUNTIF(I16:AL16,"☓")/30) -> 1 | AN16: =COUNTA(I16:AL16) -> 0
B17: 12 | F17: ０３０４１ | G17: 浜風町７ | H17: ０．７ | AM17: =IF(COUNTA(I17:AL17)=0,1,1-COUNTIF(I17:AL17,"☓")/30) -> 1 | AN17: =COUNTA(I17:AL17) -> 0
B18: 13 | F18: ０３０５１ | G18: 浜風町７ | H18: ０．７ | AM18: =IF(COUNTA(I18:AL18)=0,1,1-COUNTIF(I18:AL18,"☓")/30) -> 1 | AN18: =COUNTA(I18:AL18) -> 0
B19: 14 | F19: ０３０５２ | G19: 浜風町３ | H19: ０．７ | AM19: =IF(COUNTA(I19:AL19)=0,1,1-COUNTIF(I19:AL19,"☓")/30) -> 1 | AN19: =COUNTA(I19:AL19) -> 0
B20: 15 | F20: ０３０５３ | G20: 浜風町６ | H20: ０．７ | AM20: =IF(COUNTA(I20:AL20)=0,1,1-COUNTIF(I20:AL20,"☓")/30) -> 1 | AN20: =COUNTA(I20:AL20) -> 0
B21: 16 | F21: ０３０６１ | G21: 浜風町５ | H21: ０．７ | AM21: =IF(COUNTA(I21:AL21)=0,1,1-COUNTIF(I21:AL21,"☓")/30) -> 1 | AN21: =COUNTA(I21:AL21) -> 0
B22: 17 | F22: ０３０５４ | G22: 浜風町６ | H22: ０．７ | AM22: =IF(COUNTA(I22:AL22)=0,1,1-COUNTIF(I22:AL22,"☓")/30) -> 1 | AN22: =COUNTA(I22:AL22) -> 0
F23: 合計 | I23: =1-(COUNTIF(I12:I22,"☓"))/11 -> 1 | J23: =1-(COUNTIF(J12:J22,"☓"))/11 -> 1 | K23: =1-(COUNTIF(K12:K22,"☓"))/11 -> 1 | L23: =1-(COUNTIF(L12:L22,"☓"))/11 -> 1 | M23: =1-(COUNTIF(M12:M22,"☓"))/11 -> 1 | N23: =1-(COUNTIF(N12:N22,"☓"))/11 -> 1 | O23: =1-(COUNTIF(O12:O22,"☓"))/11 -> 1 | P23: =1-(COUNTIF(P12:P22,"☓"))/11 -> 1 | ... AL23: =1-(COUNTIF(AL12:AL22,"☓"))/11 -> 1 | AM23: =IF(AN23=0,"100%",AVERAGE(AM12:AM22)) -> 100% | AN23: =SUM(AN12:AN22) -> 0
B24: 18 | E24: Ｇライン | F24: ０３０７１ | G24: 新浜町４ | H24: ０．７ | AM24: =IF(COUNTA(I24:AL24)=0,1,1-COUNTIF(I24:AL24,"☓")/30) -> 1 | AN24: =COUNTA(I24:AL24) -> 0
B25: 19 | F25: ０３０７２ | G25: 新浜町４ | H25: ０．７ | AM25: =IF(COUNTA(I25:AL25)=0,1,1-COUNTIF(I25:AL25,"☓")/30) -> 1 | AN25: =COUNTA(I25:AL25) -> 0
B26: 20 | F26: ０３０８１ | G26: 新浜町５ | H26: ０．７ | AM26: =IF(COUNTA(I26:AL26)=0,1,1-COUNTIF(I26:AL26,"☓")/30) -> 1 | AN26: =COUNTA(I26:AL26) -> 0
B27: 21 | F27: ０３１３９ | G27: 新浜町２ | H27: １．５ | AM27: =IF(COUNTA(I27:AL27)=0,1,1-COUNTIF(I27:AL27,"☓")/30) -> 1 | AN27: =COUNTA(I27:AL27) -> 0
B28: 22 | F28: ０３１４９ | G28: 新浜町２ | H28: １．５ | AM28: =IF(COUNTA(I28:AL28)=0,1,1-COUNTIF(I28:AL28,"☓")/30) -> 1 | AN28: =COUNTA(I28:AL28) -> 0
B29: 23 | F29: ０３１５９ | G29: 新浜町２ | H29: １．５ | AM29: =IF(COUNTA(I29:AL29)=0,1,1-COUNTIF(I29:AL29,"☓")/30) -> 1 | AN29: =COUNTA(I29:AL29) -> 0
B30: 24 | F30: ０３１１１ | G30: 新浜町６ | H30: ０．７ | AM30: =IF(COUNTA(I30:AL30)=0,1,1-COUNTIF(I30:AL30,"☓")/30) -> 1 | AN30: =COUNTA(I30:AL30) -> 0
B31: 25 | F31: ０３０９９ | G31: 浜風町３０ | H31: １．５ | AM31: =IF(COUNTA(I31:AL31)=0,1,1-COUNTIF(I31:AL31,"☓")/30) -> 1 | AN31: =COUNTA(I31:AL31) -> 0
B32: 26 | F32: ０３１１２ | G32: 新浜町７ | H32: ０．７ | AM32: =IF(COUNTA(I32:AL32)=0,1,1-COUNTIF(I32:AL32,"☓")/30) -> 1 | AN32: =COUNTA(I32:AL32) -> 0
B33: 27 | F33: ０３１１３ | G33: 新浜町８ | H33: ０．７ | AM33: =IF(COUNTA(I33:AL33)=0,1,1-COUNTIF(I33:AL33,"☓")/30) -> 1 | AN33: =COUNTA(I33:AL33) -> 0
F34: ０３１０１ | G34: 新浜町７ | H34: ０．７ | AM34: =IF(COUNTA(I34:AL34)=0,1,1-COUNTIF(I34:AL34,"☓")/30) -> 1 | AN34: =COUNTA(I34:AL34) -> 0
B35: 28 | F35: 合計 | I35: =1-(COUNTIF(I24:I34,"☓"))/11 -> 1 | J35: =1-(COUNTIF(J24:J34,"☓"))/11 -> 1 | K35: =1-(COUNTIF(K24:K34,"☓"))/11 -> 1 | L35: =1-(COUNTIF(L24:L34,"☓"))/11 -> 1 | M35: =1-(COUNTIF(M24:M34,"☓"))/11 -> 1 | N35: =1-(COUNTIF(N24:N34,"☓"))/11 -> 1 | O35: =1-(COUNTIF(O24:O34,"☓"))/11 -> 1 | P35: =1-(COUNTIF(P24:P34,"☓"))/11 -> 1 | ... AL35: =1-(COUNTIF(AL24:AL34,"☓"))/11 -> 1 | AM35: =IF(AN35=0,"100%",AVERAGE(AM24:AM34)) -> 100% | AN35: =SUM(AN24:AN34) -> 0
B36: 29 | D36: ４００系統 | F36: ０４０１９ | G36: 高浜町９－２ | H36: １．５ | AM36: =IF(COUNTA(I36:AL36)=0,1,1-COUNTIF(I36:AL36,"☓")/30) -> 1 | AN36: =COUNTA(I36:AL36) -> 0
B37: 30 | F37: ０４０２９ | G37: 高浜町９－１ | H37: １．５ | AM37: =IF(COUNTA(I37:AL37)=0,1,1-COUNTIF(I37:AL37,"☓")/30) -> 1 | AN37: =COUNTA(I37:AL37) -> 0
B38: 31 | F38: ０４０３９ | G38: 高浜町８－３ | H38: １．０ | AM38: =IF(COUNTA(I38:AL38)=0,1,1-COUNTIF(I38:AL38,"☓")/30) -> 1 | AN38: =COUNTA(I38:AL38) -> 0
B39: 32 | F39: ０４０４９ | G39: 高浜町８－２ | H39: １．０ | AM39: =IF(COUNTA(I39:AL39)=0,1,1-COUNTIF(I39:AL39,"☓")/30) -> 1 | AN39: =COUNTA(I39:AL39) -> 0
F40: 合計 | I40: =1-(COUNTIF(I36:I39,"☓"))/4 -> 1 | J40: =1-(COUNTIF(J36:J39,"☓"))/4 -> 1 | K40: =1-(COUNTIF(K36:K39,"☓"))/4 -> 1 | L40: =1-(COUNTIF(L36:L39,"☓"))/4 -> 1 | M40: =1-(COUNTIF(M36:M39,"☓"))/4 -> 1 | N40: =1-(COUNTIF(N36:N39,"☓"))/4 -> 1 | O40: =1-(COUNTIF(O36:O39,"☓"))/4 -> 1 | P40: =1-(COUNTIF(P36:P39,"☓"))/4 -> 1 | ... Z40: =1-(COUNTIF(Z36:Z39,"☓"))/4 -> 1 | AA40: =1-(COUNTIF(AA42:AA45,"☓"))/4 -> 1 | AB40: =1-(COUNTIF(AB36:AB39,"☓"))/4 -> 1 | AC40: =1-(COUNTIF(AC36:AC39,"☓"))/4 -> 1 | AD40: =1-(COUNTIF(AD36:AD39,"☓"))/4 -> 1 | AE40: =1-(COUNTIF(AE36:AE39,"☓"))/4 -> 1 | AF40: =1-(COUNTIF(AF36:AF39,"☓"))/4 -> 1 | AG40: =1-(COUNTIF(AG36:AG39,"☓"))/4 -> 1 | AH40: =1-(COUNTIF(AH36:AH39,"☓"))/4 -> 1 | AI40: =1-(COUNTIF(AI36:AI39,"☓"))/4 -> 1 | ... AL40: =1-(COUNTIF(AL36:AL39,"☓"))/4 -> 1 | AM40: =IF(AN40=0,"100%",AVERAGE(AM36:AM39)) -> 100% | AN40: =SUM(AN36:AN39) -> 0
B41: 33 | D41: ５００系統 | F41: ０５０１９ | G41: 高浜町８－１ | H41: １．０ | AM41: =IF(COUNTA(I41:AL41)=0,1,1-COUNTIF(I41:AL41,"☓")/30) -> 1 | AN41: =COUNTA(I41:AL41) -> 0
B42: 34 | F42: ０５０２９ | G42: 高浜町５－１ | H42: １．５ | AM42: =IF(COUNTA(I42:AL42)=0,1,1-COUNTIF(I42:AL42,"☓")/30) -> 1 | AN42: =COUNTA(I42:AL42) -> 0
B43: 35 | F43: ０５０３９ | G43: 高浜町５－２ | H43: １．５ | AM43: =IF(COUNTA(I43:AL43)=0,1,1-COUNTIF(I43:AL43,"☓")/30) -> 1 | AN43: =COUNTA(I43:AL43) -> 0
B44: 36 | F44: ０５０４９ | G44: 高浜町３－１ | H44: １．５ | AM44: =IF(COUNTA(I44:AL44)=0,1,1-COUNTIF(I44:AL44,"☓")/30) -> 1 | AN44: =COUNTA(I44:AL44) -> 0
B45: 37 | F45: ０５０５９ | G45: 高浜町２－１ | H45: １．５ | AM45: =IF(COUNTA(I45:AL45)=0,1,1-COUNTIF(I45:AL45,"☓")/30) -> 1 | AN45: =COUNTA(I45:AL45) -> 0
B46: 38 | F46: ０５０６９ | G46: 高浜町２－２ | H46: １．５ | AM46: =IF(COUNTA(I46:AL46)=0,1,1-COUNTIF(I46:AL46,"☓")/30) -> 1 | AN46: =COUNTA(I46:AL46) -> 0
B47: 39 | F47: ０５０７９ | G47: 高浜町２－３ | H47: １．５ | AM47: =IF(COUNTA(I47:AL47)=0,1,1-COUNTIF(I47:AL47,"☓")/30) -> 1 | AN47: =COUNTA(I47:AL47) -> 0
B48: 40 | F48: ０５０８９ | G48: 高浜町４－２ | H48: １．５ | AM48: =IF(COUNTA(I48:AL48)=0,1,1-COUNTIF(I48:AL48,"☓")/30) -> 1 | AN48: =COUNTA(I48:AL48) -> 0
B49: 41 | F49: ０５０９９ | G49: 高浜町４－１ | H49: １．５ | AM49: =IF(COUNTA(I49:AL49)=0,1,1-COUNTIF(I49:AL49,"☓")/30) -> 1 | AN49: =COUNTA(I49:AL49) -> 0
B50: 42 | F50: ０５１３１ | G50: 新浜町１ | H50: ０．４ | AM50: =IF(COUNTA(I50:AL50)=0,1,1-COUNTIF(I50:AL50,"☓")/30) -> 1 | AN50: =COUNTA(I50:AL50) -> 0
B51: 43 | F51: ０５１４１ | G51: 新浜町１ | H51: ０．７ | AM51: =IF(COUNTA(I51:AL51)=0,1,1-COUNTIF(I51:AL51,"☓")/30) -> 1 | AN51: =COUNTA(I51:AL51) -> 0
F52: 合計 | I52: =1-(COUNTIF(I41:I51,"☓"))/11 -> 1 | J52: =1-(COUNTIF(J41:J51,"☓"))/11 -> 1 | K52: =1-(COUNTIF(K41:K51,"☓"))/11 -> 1 | L52: =1-(COUNTIF(L41:L51,"☓"))/11 -> 1 | M52: =1-(COUNTIF(M41:M51,"☓"))/11 -> 1 | N52: =1-(COUNTIF(N41:N51,"☓"))/11 -> 1 | O52: =1-(COUNTIF(O41:O51,"☓"))/11 -> 1 | P52: =1-(COUNTIF(P41:P51,"☓"))/11 -> 1 | ... AL52: =1-(COUNTIF(AL41:AL51,"☓"))/11 -> 1 | AM52: =IF(AN52=0,"100%",AVERAGE(I52:AL52)) -> 100% | AN52: =SUM(AN41:AN51) -> 0
B53: 44 | D53: ６００系統 | F53: ０６０１１ | G53: 浜風町１６ | H53: ０．７ | AM53: =IF(COUNTA(I53:AL53)=0,1,1-COUNTIF(I53:AL53,"☓")/30) -> 1 | AN53: =COUNTA(I53:AL53) -> 0
B54: 45 | F54: ０６０１２ | G54: 浜風町９ | H54: ０．７ | AM54: =IF(COUNTA(I54:AL54)=0,1,1-COUNTIF(I54:AL54,"☓")/30) -> 1 | AN54: =COUNTA(I54:AL54) -> 0
B55: 46 | F55: ０６０２１ | G55: 浜風町１５ | H55: ０．７ | AM55: =IF(COUNTA(I55:AL55)=0,1,1-COUNTIF(I55:AL55,"☓")/30) -> 1 | AN55: =COUNTA(I55:AL55) -> 0
B56: 47 | F56: ０６０３１ | G56: 浜風町１１ | H56: ０．７ | AM56: =IF(COUNTA(I56:AL56)=0,1,1-COUNTIF(I56:AL56,"☓")/30) -> 1 | AN56: =COUNTA(I56:AL56) -> 0
B57: 48 | F57: ０６０４１ | G57: 浜風町１３ | H57: ０．７ | AM57: =IF(COUNTA(I57:AL57)=0,1,1-COUNTIF(I57:AL57,"☓")/30) -> 1 | AN57: =COUNTA(I57:AL57) -> 0
B58: 49 | F58: ０６０５１ | G58: 浜風町１０ | H58: ０．７ | AM58: =IF(COUNTA(I58:AL58)=0,1,1-COUNTIF(I58:AL58,"☓")/30) -> 1 | AN58: =COUNTA(I58:AL58) -> 0
F59: 合計 | I59: =1-(COUNTIF(I53:I58,"☓"))/6 -> 1 | J59: =1-(COUNTIF(J53:J58,"☓"))/6 -> 1 | K59: =1-(COUNTIF(K53:K58,"☓"))/6 -> 1 | L59: =1-(COUNTIF(L53:L58,"☓"))/6 -> 1 | M59: =1-(COUNTIF(M53:M58,"☓"))/6 -> 1 | N59: =1-(COUNTIF(N53:N58,"☓"))/6 -> 1 | O59: =1-(COUNTIF(O53:O58,"☓"))/6 -> 1 | P59: =1-(COUNTIF(P53:P58,"☓"))/6 -> 1 | ... AL59: =1-(COUNTIF(AL53:AL58,"☓"))/6 -> 1 | AM59: =IF(AN59=0,"100%",AVERAGE(AM53:AM58)) -> 100% | AN59: =SUM(AN53:AN58) -> 0
B60: 50 | D60: ７００系統 | F60: ０７０１９ | G60: 高浜町７－１ | H60: １．０ | AM60: =IF(COUNTA(I60:AL60)=0,1,1-COUNTIF(I60:AL60,"☓")/30) -> 1 | AN60: =COUNTA(I60:AL60) -> 0
B61: 51 | F61: ０７０２９ | G61: 高浜町７－２ | H61: １．０ | AM61: =IF(COUNTA(I61:AL61)=0,1,1-COUNTIF(I61:AL61,"☓")/30) -> 1 | AN61: =COUNTA(I61:AL61) -> 0
F62: 合計 | I62: =1-(COUNTIF(I60:I61,"☓"))/2 -> 1 | J62: =1-(COUNTIF(J60:J61,"☓"))/2 -> 1 | K62: =1-(COUNTIF(K60:K61,"☓"))/2 -> 1 | L62: =1-(COUNTIF(L60:L61,"☓"))/2 -> 1 | M62: =1-(COUNTIF(M60:M61,"☓"))/2 -> 1 | N62: =1-(COUNTIF(N60:N61,"☓"))/2 -> 1 | O62: =1-(COUNTIF(O60:O61,"☓"))/2 -> 1 | P62: =1-(COUNTIF(P60:P61,"☓"))/2 -> 1 | ... AL62: =1-(COUNTIF(AL60:AL61,"☓"))/2 -> 1 | AM62: =IF(AN62=0,"100%",AVERAGE(AM60:AM61)) -> 100% | AN62: =SUM(AN60:AN61) -> 0
B63: 52 | C63: 宮川西側 | D63: ８００系統 | F63: ０８０１９ | G63: 若葉町４－１ | H63: １．５ | AM63: =IF(COUNTA(I63:AL63)=0,1,1-COUNTIF(I63:AL63,"☓")/30) -> 1 | AN63: =COUNTA(I63:AL63) -> 0
B64: 53 | F64: ０８０２９ | G64: 若葉町５－１ | H64: １．５ | AM64: =IF(COUNTA(I64:AL64)=0,1,1-COUNTIF(I64:AL64,"☓")/30) -> 1 | AN64: =COUNTA(I64:AL64) -> 0
B65: 54 | F65: ０８０３９ | G65: 若葉町５－２ | H65: １．５ | AM65: =IF(COUNTA(I65:AL65)=0,1,1-COUNTIF(I65:AL65,"☓")/30) -> 1 | AN65: =COUNTA(I65:AL65) -> 0
B66: 55 | F66: ０８０４９ | G66: 若葉町６－１ | H66: １．５ | AM66: =IF(COUNTA(I66:AL66)=0,1,1-COUNTIF(I66:AL66,"☓")/30) -> 1 | AN66: =COUNTA(I66:AL66) -> 0
B67: 56 | F67: ０８０５９ | G67: 若葉町６－２ | H67: １．５ | AM67: =IF(COUNTA(I67:AL67)=0,1,1-COUNTIF(I67:AL67,"☓")/30) -> 1 | AN67: =COUNTA(I67:AL67) -> 0
B68: 57 | F68: ０８０６９ | G68: 若葉町７－２ | H68: １．０ | AM68: =IF(COUNTA(I68:AL68)=0,1,1-COUNTIF(I68:AL68,"☓")/30) -> 1 | AN68: =COUNTA(I68:AL68) -> 0
B69: 58 | F69: ０８０７９ | G69: 若葉町７－３ | H69: １．０ | AM69: =IF(COUNTA(I69:AL69)=0,1,1-COUNTIF(I69:AL69,"☓")/30) -> 1 | AN69: =COUNTA(I69:AL69) -> 0
F70: 合計 | I70: =1-(COUNTIF(I63:I69,"☓"))/7 -> 1 | J70: =1-(COUNTIF(J63:J69,"☓"))/7 -> 1 | K70: =1-(COUNTIF(K63:K69,"☓"))/7 -> 1 | L70: =1-(COUNTIF(L63:L69,"☓"))/7 -> 1 | M70: =1-(COUNTIF(M63:M69,"☓"))/7 -> 1 | N70: =1-(COUNTIF(N63:N69,"☓"))/7 -> 1 | O70: =1-(COUNTIF(O63:O69,"☓"))/7 -> 1 | P70: =1-(COUNTIF(P63:P69,"☓"))/7 -> 1 | ... AL70: =1-(COUNTIF(AL63:AL69,"☓"))/7 -> 1 | AM70: =IF(AN70=0,"100%",AVERAGE(AM63:AM69)) -> 100% | AN70: =SUM(AN63:AN69) -> 0
B71: 59 | D71: ９００系統 | F71: ０９０１９ | G71: 若葉町２－１ | H71: １．５ | AM71: =IF(COUNTA(I71:AL71)=0,1,1-COUNTIF(I71:AL71,"☓")/30) -> 1 | AN71: =COUNTA(I71:AL71) -> 0
B72: 60 | F72: ０９０２９ | G72: 若葉町２－２ | H72: １．５ | AM72: =IF(COUNTA(I72:AL72)=0,1,1-COUNTIF(I72:AL72,"☓")/30) -> 1 | AN72: =COUNTA(I72:AL72) -> 0
F73: 合計 | I73: =1-(COUNTIF(I71:I72,"☓"))/2 -> 1 | J73: =1-(COUNTIF(J71:J72,"☓"))/2 -> 1 | K73: =1-(COUNTIF(K71:K72,"☓"))/2 -> 1 | L73: =1-(COUNTIF(L71:L72,"☓"))/2 -> 1 | M73: =1-(COUNTIF(M71:M72,"☓"))/2 -> 1 | N73: =1-(COUNTIF(N71:N72,"☓"))/2 -> 1 | O73: =1-(COUNTIF(O71:O72,"☓"))/2 -> 1 | P73: =1-(COUNTIF(P71:P72,"☓"))/2 -> 1 | ... AL73: =1-(COUNTIF(AL71:AL72,"☓"))/2 -> 1 | AM73: =IF(AN73=0,"100%",AVERAGE(AM71:AM72)) -> 100% | AN73: =SUM(AN71:AN72) -> 0
B74: 61 | D74: １０００系統 | F74: １００１９ | G74: 若葉町４－２ | H74: １．５ | AM74: =IF(COUNTA(I74:AL74)=0,1,1-COUNTIF(I74:AL74,"☓")/30) -> 1 | AN74: =COUNTA(I74:AL74) -> 0
B75: 62 | F75: １００２９ | G75: 若葉町７－１ | H75: １．０ | AM75: =IF(COUNTA(I75:AL75)=0,1,1-COUNTIF(I75:AL75,"☓")/30) -> 1 | AN75: =COUNTA(I75:AL75) -> 0
F76: 合計 | I76: =1-(COUNTIF(I74:I75,"☓"))/2 -> 1 | J76: =1-(COUNTIF(J74:J75,"☓"))/2 -> 1 | K76: =1-(COUNTIF(K74:K75,"☓"))/2 -> 1 | L76: =1-(COUNTIF(L74:L75,"☓"))/2 -> 1 | M76: =1-(COUNTIF(M74:M75,"☓"))/2 -> 1 | N76: =1-(COUNTIF(N74:N75,"☓"))/2 -> 1 | O76: =1-(COUNTIF(O74:O75,"☓"))/2 -> 1 | P76: =1-(COUNTIF(P74:P75,"☓"))/2 -> 1 | ... AL76: =1-(COUNTIF(AL74:AL75,"☓"))/2 -> 1 | AM76: =IF(AN76=0,"100%",AVERAGE(I76:AL76)) -> 100% | AN76: =SUM(AN74:AN75) -> 0
B77: 63 | D77: １１００系統 | F77: １１０１１ | G77: 緑町２ | H77: ０．７ | AM77: =IF(COUNTA(I77:AL77)=0,1,1-COUNTIF(I77:AL77,"☓")/30) -> 1 | AN77: =COUNTA(I77:AL77) -> 0
B78: 64 | F78: １１０２１ | G78: 緑町１ | H78: ０．７ | AM78: =IF(COUNTA(I78:AL78)=0,1,1-COUNTIF(I78:AL78,"☓")/30) -> 1 | AN78: =COUNTA(I78:AL78) -> 0
B79: 65 | F79: １１０３１ | G79: 緑町２ | H79: ０．７ | AM79: =IF(COUNTA(I79:AL79)=0,1,1-COUNTIF(I79:AL79,"☓")/30) -> 1 | AN79: =COUNTA(I79:AL79) -> 0
B80: 66 | F80: １１０４１ | G80: 緑町３ | H80: ０．７ | AM80: =IF(COUNTA(I80:AL80)=0,1,1-COUNTIF(I80:AL80,"☓")/30) -> 1 | AN80: =COUNTA(I80:AL80) -> 0
B81: 67 | F81: １１０５１ | G81: 緑町４ | H81: ０．７ | AM81: =IF(COUNTA(I81:AL81)=0,1,1-COUNTIF(I81:AL81,"☓")/30) -> 1 | AN81: =COUNTA(I81:AL81) -> 0
B82: 68 | F82: １１０６１ | G82: 緑町５ | H82: ０．７ | AM82: =IF(COUNTA(I82:AL82)=0,1,1-COUNTIF(I82:AL82,"☓")/30) -> 1 | AN82: =COUNTA(I82:AL82) -> 0
B83: 69 | F83: １１０６２ | G83: 緑町５ | H83: ０．７ | AM83: =IF(COUNTA(I83:AL83)=0,1,1-COUNTIF(I83:AL83,"☓")/30) -> 1 | AN83: =COUNTA(I83:AL83) -> 0
B84: 70 | F84: １１０６３ | G84: 潮見町８ | H84: ０．７ | AM84: =IF(COUNTA(I84:AL84)=0,1,1-COUNTIF(I84:AL84,"☓")/30) -> 1 | AN84: =COUNTA(I84:AL84) -> 0
B85: 71 | F85: １１０７１ | G85: 緑町７ | H85: ０．７ | AM85: =IF(COUNTA(I85:AL85)=0,1,1-COUNTIF(I85:AL85,"☓")/30) -> 1 | AN85: =COUNTA(I85:AL85) -> 0
B86: 72 | F86: １１０８１ | G86: 緑町１０ | H86: ０．７ | AM86: =IF(COUNTA(I86:AL86)=0,1,1-COUNTIF(I86:AL86,"☓")/30) -> 1 | AN86: =COUNTA(I86:AL86) -> 0
B87: 73 | F87: １１０９１ | G87: 緑町６ | H87: ０．７ | AM87: =IF(COUNTA(I87:AL87)=0,1,1-COUNTIF(I87:AL87,"☓")/30) -> 1 | AN87: =COUNTA(I87:AL87) -> 0
B88: 74 | F88: １１１０１ | G88: 緑町９ | H88: ０．７ | AM88: =IF(COUNTA(I88:AL88)=0,1,1-COUNTIF(I88:AL88,"☓")/30) -> 1 | AN88: =COUNTA(I88:AL88) -> 0
B89: 75 | F89: １１１１１ | G89: 潮見町８ | H89: ０．７ | AM89: =IF(COUNTA(I89:AL89)=0,1,1-COUNTIF(I89:AL89,"☓")/30) -> 1 | AN89: =COUNTA(I89:AL89) -> 0
... B92: 78 | F92: １１１４９ | G92: 緑町１ | H92: １．５ | AM92: =IF(COUNTA(I92:AL92)=0,1,1-COUNTIF(I92:AL92,"☓")/30) -> 1 | AN92: =COUNTA(I92:AL92) -> 0
F93: 合計 | I93: =1-(COUNTIF(I77:I92,"☓"))/16 -> 1 | J93: =1-(COUNTIF(J77:J92,"☓"))/16 -> 1 | K93: =1-(COUNTIF(K77:K92,"☓"))/16 -> 1 | L93: =1-(COUNTIF(L77:L92,"☓"))/16 -> 1 | M93: =1-(COUNTIF(M77:M92,"☓"))/16 -> 1 | N93: =1-(COUNTIF(N77:N92,"☓"))/16 -> 1 | O93: =1-(COUNTIF(O77:O92,"☓"))/16 -> 1 | P93: =1-(COUNTIF(P77:P92,"☓"))/16 -> 1 | ... AL93: =1-(COUNTIF(AL77:AL92,"☓"))/16 -> 1 | AM93: =IF(AN93=0,"100%",AVERAGE(AM77:AM92)) -> 100% | AN93: =SUM(AN77:AN92) -> 0
B94: 79 | D94: １２００系統 | F94: １２０１１ | G94: 潮見町１ | H94: ０．４ | AM94: =IF(COUNTA(I94:AL94)=0,1,1-COUNTIF(I94:AL94,"☓")/30) -> 1 | AN94: =COUNTA(I94:AL94) -> 0
B95: 80 | F95: １２０２１ | G95: 潮見町２０ | H95: ０．４ | AM95: =IF(COUNTA(I95:AL95)=0,1,1-COUNTIF(I95:AL95,"☓")/30) -> 1 | AN95: =COUNTA(I95:AL95) -> 0
B96: 81 | F96: １２０３１ | G96: 潮見町４ | H96: ０．７ | AM96: =IF(COUNTA(I96:AL96)=0,1,1-COUNTIF(I96:AL96,"☓")/30) -> 1 | AN96: =COUNTA(I96:AL96) -> 0
B97: 82 | F97: １２０３２ | G97: 潮見町３ | H97: ０．７ | AM97: =IF(COUNTA(I97:AL97)=0,1,1-COUNTIF(I97:AL97,"☓")/30) -> 1 | AN97: =COUNTA(I97:AL97) -> 0
B98: 83 | F98: １２０４１ | G98: 潮見町４ | H98: ０．７ | AM98: =IF(COUNTA(I98:AL98)=0,1,1-COUNTIF(I98:AL98,"☓")/30) -> 1 | AN98: =COUNTA(I98:AL98) -> 0
B99: 84 | F99: １２０５１ | G99: 潮見町７ | H99: ０．７ | AM99: =IF(COUNTA(I99:AL99)=0,1,1-COUNTIF(I99:AL99,"☓")/30) -> 1 | AN99: =COUNTA(I99:AL99) -> 0
B100: 85 | F100: １２０６１ | G100: 潮見町５ | H100: ０．７ | AM100: =IF(COUNTA(I100:AL100)=0,1,1-COUNTIF(I100:AL100,"☓")/30) -> 1 | AN100: =COUNTA(I100:AL100) -> 0
B101: 86 | F101: １２０７１ | G101: 潮見町６ | H101: ０．７ | AM101: =IF(COUNTA(I101:AL101)=0,1,1-COUNTIF(I101:AL101,"☓")/30) -> 1 | AN101: =COUNTA(I101:AL101) -> 0
B102: 87 | F102: １２０８１ | G102: 潮見町１７ | H102: ０．７ | AM102: =IF(COUNTA(I102:AL102)=0,1,1-COUNTIF(I102:AL102,"☓")/30) -> 1 | AN102: =COUNTA(I102:AL102) -> 0
B103: 88 | F103: １２０８２ | G103: 潮見町１８ | H103: ０．７ | AM103: =IF(COUNTA(I103:AL103)=0,1,1-COUNTIF(I103:AL103,"☓")/30) -> 1 | AN103: =COUNTA(I103:AL103) -> 0
...

Sheet 5月
B2: Ｎｏ． | C2: 地区 | D2: 系統 | F2: 投入口ｱﾄﾞﾚｽ | G2: 住所 | H2: 容量（ｍ２） | I2: 5月 | AN2: 稼働率 | AO2: 停止日数
I3: 1 | J3: 2 | K3: 3 | L3: 4 | M3: 5 | N3: 6 | O3: 7 | P3: 8 | Q3: 9 | R3: 10 | S3: 11 | T3: 12 | U3: 13 | V3: 14 | W3: 15 | X3: 16 | Y3: 17 | Z3: 18 | AA3: 19 | AB3: 20 | AC3: 21 | AD3: 22 | AE3: 23 | AF3: 24 | AG3: 25 | AH3: 26 | AI3: 27 | AJ3: 28 | AK3: 29 | AL3: 30 | AM3: 31
H4: ☓ | I4: 水 | J4: 木 | K4: 金 | L4: 土 | M4: 日 | N4: 月 | O4: 火 | P4: 水 | Q4: 木 | R4: 金 | S4: 土 | T4: 日 | U4: 月 | V4: 火 | W4: 水 | X4: 木 | Y4: 金 | Z4: 土 | AA4: 日 | AB4: 月 | AC4: 火 | AD4: 水 | AE4: 木 | AF4: 金 | AG4: 土 | AH4: 日 | AI4: 月 | AJ4: 火 | AK4: 水 | AL4: 木 | AM4: 金
B5: 1 | C5: 宮川東側 | D5: １００系統 | F5: ０１０１１ | G5: 浜風町２１ | H5: ０．７ | AN5: =IF(COUNTA(I5:AM5)=0,1,1-COUNTIF(I5:AM5,"☓")/31) -> 1 | AO5: =COUNTA(I5:AM5) -> 0
B6: 2 | F6: ０１０１２ | G6: 浜風町２２ | H6: ０．７ | AN6: =IF(COUNTA(I6:AM6)=0,1,1-COUNTIF(I6:AM6,"☓")/31) -> 1 | AO6: =COUNTA(I6:AM6) -> 0
B7: 3 | F7: ０１０１３ | G7: 浜風町２４ | H7: ０．７ | AN7: =IF(COUNTA(I7:AM7)=0,1,1-COUNTIF(I7:AM7,"☓")/31) -> 1 | AO7: =COUNTA(I7:AM7) -> 0
B8: 4 | F8: ０１０１４ | G8: 浜風町２７ | H8: ０．７ | AN8: =IF(COUNTA(I8:AM8)=0,1,1-COUNTIF(I8:AM8,"☓")/31) -> 1 | AO8: =COUNTA(I8:AM8) -> 0
B9: 5 | F9: ０１０２１ | G9: 浜風町１９ | H9: ０．７ | AN9: =IF(COUNTA(I9:AM9)=0,1,1-COUNTIF(I9:AM9,"☓")/31) -> 1 | AO9: =COUNTA(I9:AM9) -> 0
B10: 6 | F10: ０１０３１ | G10: 浜風町１８ | H10: ０．７ | AN10: =IF(COUNTA(I10:AM10)=0,1,1-COUNTIF(I10:AM10,"☓")/31) -> 1 | AO10: =COUNTA(I10:AM10) -> 0
F11: 合計 | H11: =COUNTA(H5:H10) -> 6 | I11: =1-(COUNTIF(I5:I10,"☓"))/6 -> 1 | J11: =1-(COUNTIF(J5:J10,"☓"))/6 -> 1 | K11: =1-(COUNTIF(K5:K10,"☓"))/6 -> 1 | L11: =1-(COUNTIF(L5:L10,"☓"))/6 -> 1 | M11: =1-(COUNTIF(M5:M10,"☓"))/6 -> 1 | N11: =1-(COUNTIF(N5:N10,"☓"))/6 -> 1 | O11: =1-(COUNTIF(O5:O10,"☓"))/6 -> 1 | P11: =1-(COUNTIF(P5:P10,"☓"))/6 -> 1 | ... AM11: =1-(COUNTIF(AM5:AM10,"☓"))/6 -> 1 | AN11: =IF(AO11=0,"100%",AVERAGE(AN5:AN10)) -> 100% | AO11: =SUM(AO5:AO10) -> 0
B12: 7 | D12: ３００系統 | E12: Ｋライン | F12: ０３０１１ | G12: 浜風町１ | H12: ０．７ | AN12: =IF(COUNTA(I12:AM12)=0,1,1-COUNTIF(I12:AM12,"☓")/31) -> 1 | AO12: =COUNTA(I12:AM12) -> 0
B13: 8 | F13: ０３０３１ | G13: 浜風町８ | H13: ０．７ | AN13: =IF(COUNTA(I13:AM13)=0,1,1-COUNTIF(I13:AM13,"☓")/31) -> 1 | AO13: =COUNTA(I13:AM13) -> 0
B14: 9 | F14: ０３０３２ | G14: 浜風町２ | H14: ０．７ | AN14: =IF(COUNTA(I14:AM14)=0,1,1-COUNTIF(I14:AM14,"☓")/31) -> 1 | AO14: =COUNTA(I14:AM14) -> 0
B15: 10 | F15: ０３０２１ | G15: 浜風町８ | H15: ０．７ | AN15: =IF(COUNTA(I15:AM15)=0,1,1-COUNTIF(I15:AM15,"☓")/31) -> 1 | AO15: =COUNTA(I15:AM15) -> 0
B16: 11 | F16: ０３０３３ | G16: 浜風町７ | H16: ０．７ | AN16: =IF(COUNTA(I16:AM16)=0,1,1-COUNTIF(I16:AM16,"☓")/31) -> 1 | AO16: =COUNTA(I16:AM16) -> 0
B17: 12 | F17: ０３０４１ | G17: 浜風町７ | H17: ０．７ | AN17: =IF(COUNTA(I17:AM17)=0,1,1-COUNTIF(I17:AM17,"☓")/31) -> 1 | AO17: =COUNTA(I17:AM17) -> 0
B18: 13 | F18: ０３０５１ | G18: 浜風町７ | H18: ０．７ | AN18: =IF(COUNTA(I18:AM18)=0,1,1-COUNTIF(I18:AM18,"☓")/31) -> 1 | AO18: =COUNTA(I18:AM18) -> 0
B19: 14 | F19: ０３０５２ | G19: 浜風町３ | H19: ０．７ | AN19: =IF(COUNTA(I19:AM19)=0,1,1-COUNTIF(I19:AM19,"☓")/31) -> 1 | AO19: =COUNTA(I19:AM19) -> 0
B20: 15 | F20: ０３０５３ | G20: 浜風町６ | H20: ０．７ | AN20: =IF(COUNTA(I20:AM20)=0,1,1-COUNTIF(I20:AM20,"☓")/31) -> 1 | AO20: =COUNTA(I20:AM20) -> 0
B21: 16 | F21: ０３０６１ | G21: 浜風町５ | H21: ０．７ | AN21: =IF(COUNTA(I21:AM21)=0,1,1-COUNTIF(I21:AM21,"☓")/31) -> 1 | AO21: =COUNTA(I21:AM21) -> 0
B22: 17 | F22: ０３０５４ | G22: 浜風町６ | H22: ０．７ | AN22: =IF(COUNTA(I22:AM22)=0,1,1-COUNTIF(I22:AM22,"☓")/31) -> 1 | AO22: =COUNTA(I22:AM22) -> 0
F23: 合計 | I23: =1-(COUNTIF(I12:I22,"☓"))/11 -> 1 | J23: =1-(COUNTIF(J12:J22,"☓"))/11 -> 1 | K23: =1-(COUNTIF(K12:K22,"☓"))/11 -> 1 | L23: =1-(COUNTIF(L12:L22,"☓"))/11 -> 1 | M23: =1-(COUNTIF(M12:M22,"☓"))/11 -> 1 | N23: =1-(COUNTIF(N12:N22,"☓"))/11 -> 1 | O23: =1-(COUNTIF(O12:O22,"☓"))/11 -> 1 | P23: =1-(COUNTIF(P12:P22,"☓"))/11 -> 1 | ... AM23: =1-(COUNTIF(AM12:AM22,"☓"))/11 -> 1 | AN23: =IF(AO23=0,"100%",AVERAGE(AN12:AN22)) -> 100% | AO23: =SUM(AO12:AO22) -> 0
B24: 18 | E24: Ｇライン | F24: ０３０７１ | G24: 新浜町４ | H24: ０．７ | AN24: =IF(COUNTA(I24:AM24)=0,1,1-COUNTIF(I24:AM24,"☓")/31) -> 1 | AO24: =COUNTA(I24:AM24) -> 0
B25: 19 | F25: ０３０７２ | G25: 新浜町４ | H25: ０．７ | AN25: =IF(COUNTA(I25:AM25)=0,1,1-COUNTIF(I25:AM25,"☓")/31) -> 1 | AO25: =COUNTA(I25:AM25) -> 0
B26: 20 | F26: ０３０８１ | G26: 新浜町５ | H26: ０．７ | AN26: =IF(COUNTA(I26:AM26)=0,1,1-COUNTIF(I26:AM26,"☓")/31) -> 1 | AO26: =COUNTA(I26:AM26) -> 0
B27: 21 | F27: ０３１３９ | G27: 新浜町２ | H27: １．５ | AN27: =IF(COUNTA(I27:AM27)=0,1,1-COUNTIF(I27:AM27,"☓")/31) -> 1 | AO27: =COUNTA(I27:AM27) -> 0
B28: 22 | F28: ０３１４９ | G28: 新浜町２ | H28: １．５ | AN28: =IF(COUNTA(I28:AM28)=0,1,1-COUNTIF(I28:AM28,"☓")/31) -> 1 | AO28: =COUNTA(I28:AM28) -> 0
B29: 23 | F29: ０３１５９ | G29: 新浜町２ | H29: １．５ | AN29: =IF(COUNTA(I29:AM29)=0,1,1-COUNTIF(I29:AM29,"☓")/31) -> 1 | AO29: =COUNTA(I29:AM29) -> 0
B30: 24 | F30: ０３１１１ | G30: 新浜町６ | H30: ０．７ | AN30: =IF(COUNTA(I30:AM30)=0,1,1-COUNTIF(I30:AM30,"☓")/31) -> 1 | AO30: =COUNTA(I30:AM30) -> 0
B31: 25 | F31: ０３０９９ | G31: 浜風町３０ | H31: １．５ | AN31: =IF(COUNTA(I31:AM31)=0,1,1-COUNTIF(I31:AM31,"☓")/31) -> 1 | AO31: =COUNTA(I31:AM31) -> 0
B32: 26 | F32: ０３１１２ | G32: 新浜町７ | H32: ０．７ | AN32: =IF(COUNTA(I32:AM32)=0,1,1-COUNTIF(I32:AM32,"☓")/31) -> 1 | AO32: =COUNTA(I32:AM32) -> 0
B33: 27 | F33: ０３１１３ | G33: 新浜町８ | H33: ０．７ | AN33: =IF(COUNTA(I33:AM33)=0,1,1-COUNTIF(I33:AM33,"☓")/31) -> 1 | AO33: =COUNTA(I33:AM33) -> 0
B34: 28 | F34: ０３１０１ | G34: 新浜町７ | H34: ０．７ | AN34: =IF(COUNTA(I34:AM34)=0,1,1-COUNTIF(I34:AM34,"☓")/31) -> 1 | AO34: =COUNTA(I34:AM34) -> 0
F35: 合計 | I35: =1-(COUNTIF(I24:I34,"☓"))/11 -> 1 | J35: =1-(COUNTIF(J24:J34,"☓"))/11 -> 1 | K35: =1-(COUNTIF(K24:K34,"☓"))/11 -> 1 | L35: =1-(COUNTIF(L24:L34,"☓"))/11 -> 1 | M35: =1-(COUNTIF(M24:M34,"☓"))/11 -> 1 | N35: =1-(COUNTIF(N24:N34,"☓"))/11 -> 1 | O35: =1-(COUNTIF(O24:O34,"☓"))/11 -> 1 | P35: =1-(COUNTIF(P24:P34,"☓"))/11 -> 1 | ... AM35: =1-(COUNTIF(AM24:AM34,"☓"))/11 -> 1 | AN35: =IF(AO35=0,"100%",AVERAGE(AN24:AN34)) -> 100% | AO35: =SUM(AO24:AO34) -> 0
B36: 29 | D36: ４００系統 | F36: ０４０１９ | G36: 高浜町９－２ | H36: １．５ | AN36: =IF(COUNTA(I36:AM36)=0,1,1-COUNTIF(I36:AM36,"☓")/31) -> 1 | AO36: =COUNTA(I36:AM36) -> 0
B37: 30 | F37: ０４０２９ | G37: 高浜町９－１ | H37: １．５ | AN37: =IF(COUNTA(I37:AM37)=0,1,1-COUNTIF(I37:AM37,"☓")/31) -> 1 | AO37: =COUNTA(I37:AM37) -> 0
B38: 31 | F38: ０４０３９ | G38: 高浜町８－３ | H38: １．０ | AN38: =IF(COUNTA(I38:AM38)=0,1,1-COUNTIF(I38:AM38,"☓")/31) -> 1 | AO38: =COUNTA(I38:AM38) -> 0
B39: 32 | F39: ０４０４９ | G39: 高浜町８－２ | H39: １．０ | AN39: =IF(COUNTA(I39:AM39)=0,1,1-COUNTIF(I39:AM39,"☓")/31) -> 1 | AO39: =COUNTA(I39:AM39) -> 0
F40: 合計 | I40: =1-(COUNTIF(I36:I39,"☓"))/4 -> 1 | J40: =1-(COUNTIF(J36:J39,"☓"))/4 -> 1 | K40: =1-(COUNTIF(K36:K39,"☓"))/4 -> 1 | L40: =1-(COUNTIF(L36:L39,"☓"))/4 -> 1 | M40: =1-(COUNTIF(M36:M39,"☓"))/4 -> 1 | N40: =1-(COUNTIF(N36:N39,"☓"))/4 -> 1 | O40: =1-(COUNTIF(O36:O39,"☓"))/4 -> 1 | P40: =1-(COUNTIF(P36:P39,"☓"))/4 -> 1 | ... Z40: =1-(COUNTIF(Z36:Z39,"☓"))/4 -> 1 | AA40: =1-(COUNTIF(AA42:AA45,"☓"))/4 -> 1 | AB40: =1-(COUNTIF(AB36:AB39,"☓"))/4 -> 1 | AC40: =1-(COUNTIF(AC36:AC39,"☓"))/4 -> 1 | AD40: =1-(COUNTIF(AD36:AD39,"☓"))/4 -> 1 | AE40: =1-(COUNTIF(AE36:AE39,"☓"))/4 -> 1 | AF40: =1-(COUNTIF(AF36:AF39,"☓"))/4 -> 1 | AG40: =1-(COUNTIF(AG36:AG39,"☓"))/4 -> 1 | AH40: =1-(COUNTIF(AH36:AH39,"☓"))/4 -> 1 | AI40: =1-(COUNTIF(AI36:AI39,"☓"))/4 -> 1 | ... AM40: =1-(COUNTIF(AM36:AM39,"☓"))/4 -> 1 | AN40: =IF(AO40=0,"100%",AVERAGE(AN36:AN39)) -> 100% | AO40: =SUM(AO36:AO39) -> 0
B41: 33 | D41: ５００系統 | F41: ０５０１９ | G41: 高浜町８－１ | H41: １．０ | AN41: =IF(COUNTA(I41:AM41)=0,1,1-COUNTIF(I41:AM41,"☓")/31) -> 1 | AO41: =COUNTA(I41:AM41) -> 0
B42: 34 | F42: ０５０２９ | G42: 高浜町５－１ | H42: １．５ | AN42: =IF(COUNTA(I42:AM42)=0,1,1-COUNTIF(I42:AM42,"☓")/31) -> 1 | AO42: =COUNTA(I42:AM42) -> 0
B43: 35 | F43: ０５０３９ | G43: 高浜町５－２ | H43: １．５ | AN43: =IF(COUNTA(I43:AM43)=0,1,1-COUNTIF(I43:AM43,"☓")/31) -> 1 | AO43: =COUNTA(I43:AM43) -> 0
B44: 36 | F44: ０５０４９ | G44: 高浜町３－１ | H44: １．５ | AN44: =IF(COUNTA(I44:AM44)=0,1,1-COUNTIF(I44:AM44,"☓")/31) -> 1 | AO44: =COUNTA(I44:AM44) -> 0
B45: 37 | F45: ０５０５９ | G45: 高浜町２－１ | H45: １．５ | AN45: =IF(COUNTA(I45:AM45)=0,1,1-COUNTIF(I45:AM45,"☓")/31) -> 1 | AO45: =COUNTA(I45:AM45) -> 0
B46: 38 | F46: ０５０６９ | G46: 高浜町２－２ | H46: １．５ | AN46: =IF(COUNTA(I46:AM46)=0,1,1-COUNTIF(I46:AM46,"☓")/31) -> 1 | AO46: =COUNTA(I46:AM46) -> 0
B47: 39 | F47: ０５０７９ | G47: 高浜町２－３ | H47: １．５ | AN47: =IF(COUNTA(I47:AM47)=0,1,1-COUNTIF(I47:AM47,"☓")/31) -> 1 | AO47: =COUNTA(I47:AM47) -> 0
B48: 40 | F48: ０５０８９ | G48: 高浜町４－２ | H48: １．５ | AN48: =IF(COUNTA(I48:AM48)=0,1,1-COUNTIF(I48:AM48,"☓")/31) -> 1 | AO48: =COUNTA(I48:AM48) -> 0
B49: 41 | F49: ０５０９９ | G49: 高浜町４－１ | H49: １．５ | AN49: =IF(COUNTA(I49:AM49)=0,1,1-COUNTIF(I49:AM49,"☓")/31) -> 1 | AO49: =COUNTA(I49:AM49) -> 0
B50: 42 | F50: ０５１３１ | G50: 新浜町１ | H50: ０．４ | AN50: =IF(COUNTA(I50:AM50)=0,1,1-COUNTIF(I50:AM50,"☓")/31) -> 1 | AO50: =COUNTA(I50:AM50) -> 0
B51: 43 | F51: ０５１４１ | G51: 新浜町１ | H51: ０．７ | AN51: =IF(COUNTA(I51:AM51)=0,1,1-COUNTIF(I51:AM51,"☓")/31) -> 1 | AO51: =COUNTA(I51:AM51) -> 0
F52: 合計 | I52: =1-(COUNTIF(I41:I51,"☓"))/11 -> 1 | J52: =1-(COUNTIF(J41:J51,"☓"))/11 -> 1 | K52: =1-(COUNTIF(K41:K51,"☓"))/11 -> 1 | L52: =1-(COUNTIF(L41:L51,"☓"))/11 -> 1 | M52: =1-(COUNTIF(M41:M51,"☓"))/11 -> 1 | N52: =1-(COUNTIF(N41:N51,"☓"))/11 -> 1 | O52: =1-(COUNTIF(O41:O51,"☓"))/11 -> 1 | P52: =1-(COUNTIF(P41:P51,"☓"))/11 -> 1 | ... AM52: =1-(COUNTIF(AM41:AM51,"☓"))/11 -> 1 | AN52: =IF(AO52=0,"100%",AVERAGE(AN41:AN51)) -> 100% | AO52: =SUM(AO41:AO51) -> 0
B53: 44 | D53: ６００系統 | F53: ０６０１１ | G53: 浜風町１６ | H53: ０．７ | AN53: =IF(COUNTA(I53:AM53)=0,1,1-COUNTIF(I53:AM53,"☓")/31) -> 1 | AO53: =COUNTA(I53:AM53) -> 0
B54: 45 | F54: ０６０１２ | G54: 浜風町９ | H54: ０．７ | AN54: =IF(COUNTA(I54:AM54)=0,1,1-COUNTIF(I54:AM54,"☓")/31) -> 1 | AO54: =COUNTA(I54:AM54) -> 0
B55: 46 | F55: ０６０２１ | G55: 浜風町１５ | H55: ０．７ | AN55: =IF(COUNTA(I55:AM55)=0,1,1-COUNTIF(I55:AM55,"☓")/31) -> 1 | AO55: =COUNTA(I55:AM55) -> 0
B56: 47 | F56: ０６０３１ | G56: 浜風町１１ | H56: ０．７ | AN56: =IF(COUNTA(I56:AM56)=0,1,1-COUNTIF(I56:AM56,"☓")/31) -> 1 | AO56: =COUNTA(I56:AM56) -> 0
B57: 48 | F57: ０６０４１ | G57: 浜風町１３ | H57: ０．７ | AN57: =IF(COUNTA(I57:AM57)=0,1,1-COUNTIF(I57:AM57,"☓")/31) -> 1 | AO57: =COUNTA(I57:AM57) -> 0
B58: 49 | F58: ０６０５１ | G58: 浜風町１０ | H58: ０．７ | AN58: =IF(COUNTA(I58:AM58)=0,1,1-COUNTIF(I58:AM58,"☓")/31) -> 1 | AO58: =COUNTA(I58:AM58) -> 0
F59: 合計 | I59: =1-(COUNTIF(I53:I58,"☓"))/6 -> 1 | J59: =1-(COUNTIF(J53:J58,"☓"))/6 -> 1 | K59: =1-(COUNTIF(K53:K58,"☓"))/6 -> 1 | L59: =1-(COUNTIF(L53:L58,"☓"))/6 -> 1 | M59: =1-(COUNTIF(M53:M58,"☓"))/6 -> 1 | N59: =1-(COUNTIF(N53:N58,"☓"))/6 -> 1 | O59: =1-(COUNTIF(O53:O58,"☓"))/6 -> 1 | P59: =1-(COUNTIF(P53:P58,"☓"))/6 -> 1 | ... AM59: =1-(COUNTIF(AM53:AM58,"☓"))/6 -> 1 | AN59: =IF(AO59=0,"100%",AVERAGE(AN48:AN58)) -> 100% | AO59: =SUM(AO53:AO58) -> 0
B60: 50 | D60: ７００系統 | F60: ０７０１９ | G60: 高浜町７－１ | H60: １．０ | AN60: =IF(COUNTA(I60:AM60)=0,1,1-COUNTIF(I60:AM60,"☓")/31) -> 1 | AO60: =COUNTA(I60:AM60) -> 0
B61: 51 | F61: ０７０２９ | G61: 高浜町７－２ | H61: １．０ | AN61: =IF(COUNTA(I61:AM61)=0,1,1-COUNTIF(I61:AM61,"☓")/31) -> 1 | AO61: =COUNTA(I61:AM61) -> 0
F62: 合計 | I62: =1-(COUNTIF(I60:I61,"☓"))/2 -> 1 | J62: =1-(COUNTIF(J60:J61,"☓"))/2 -> 1 | K62: =1-(COUNTIF(K60:K61,"☓"))/2 -> 1 | L62: =1-(COUNTIF(L60:L61,"☓"))/2 -> 1 | M62: =1-(COUNTIF(M60:M61,"☓"))/2 -> 1 | N62: =1-(COUNTIF(N60:N61,"☓"))/2 -> 1 | O62: =1-(COUNTIF(O60:O61,"☓"))/2 -> 1 | P62: =1-(COUNTIF(P60:P61,"☓"))/2 -> 1 | ... AM62: =1-(COUNTIF(AM60:AM61,"☓"))/2 -> 1 | AN62: =IF(AO62=0,"100%",AVERAGE(I62:AM62)) -> 100% | AO62: =SUM(AO60:AO61) -> 0
B63: 52 | C63: 宮川西側 | D63: ８００系統 | F63: ０８０１９ | G63: 若葉町４－１ | H63: １．５ | AN63: =IF(COUNTA(I63:AM63)=0,1,1-COUNTIF(I63:AM63,"☓")/31) -> 1 | AO63: =COUNTA(I63:AM63) -> 0
B64: 53 | F64: ０８０２９ | G64: 若葉町５－１ | H64: １．５ | AN64: =IF(COUNTA(I64:AM64)=0,1,1-COUNTIF(I64:AM64,"☓")/31) -> 1 | AO64: =COUNTA(I64:AM64) -> 0
B65: 54 | F65: ０８０３９ | G65: 若葉町５－２ | H65: １．５ | AN65: =IF(COUNTA(I65:AM65)=0,1,1-COUNTIF(I65:AM65,"☓")/31) -> 1 | AO65: =COUNTA(I65:AM65) -> 0
B66: 55 | F66: ０８０４９ | G66: 若葉町６－１ | H66: １．５ | AN66: =IF(COUNTA(I66:AM66)=0,1,1-COUNTIF(I66:AM66,"☓")/31) -> 1 | AO66: =COUNTA(I66:AM66) -> 0
B67: 56 | F67: ０８０５９ | G67: 若葉町６－２ | H67: １．５ | AN67: =IF(COUNTA(I67:AM67)=0,1,1-COUNTIF(I67:AM67,"☓")/31) -> 1 | AO67: =COUNTA(I67:AM67) -> 0
B68: 57 | F68: ０８０６９ | G68: 若葉町７－２ | H68: １．０ | AN68: =IF(COUNTA(I68:AM68)=0,1,1-COUNTIF(I68:AM68,"☓")/31) -> 1 | AO68: =COUNTA(I68:AM68) -> 0
B69: 58 | F69: ０８０７９ | G69: 若葉町７－３ | H69: １．０ | AN69: =IF(COUNTA(I69:AM69)=0,1,1-COUNTIF(I69:AM69,"☓")/31) -> 1 | AO69: =COUNTA(I69:AM69) -> 0
F70: 合計 | I70: =1-(COUNTIF(I63:I69,"☓"))/7 -> 1 | J70: =1-(COUNTIF(J63:J69,"☓"))/7 -> 1 | K70: =1-(COUNTIF(K63:K69,"☓"))/7 -> 1 | L70: =1-(COUNTIF(L63:L69,"☓"))/7 -> 1 | M70: =1-(COUNTIF(M63:M69,"☓"))/7 -> 1 | N70: =1-(COUNTIF(N63:N69,"☓"))/7 -> 1 | O70: =1-(COUNTIF(O63:O69,"☓"))/7 -> 1 | P70: =1-(COUNTIF(P63:P69,"☓"))/7 -> 1 | ... AM70: =1-(COUNTIF(AM63:AM69,"☓"))/7 -> 1 | AN70: =IF(AO70=0,"100%",AVERAGE(I70:AM70)) -> 100% | AO70: =SUM(AO63:AO69) -> 0
B71: 59 | D71: ９００系統 | F71: ０９０１９ | G71: 若葉町２－１ | H71: １．５ | AN71: =IF(COUNTA(I71:AM71)=0,1,1-COUNTIF(I71:AM71,"☓")/31) -> 1 | AO71: =COUNTA(I71:AM71) -> 0
B72: 60 | F72: ０９０２９ | G72: 若葉町２－２ | H72: １．５ | AN72: =IF(COUNTA(I72:AM72)=0,1,1-COUNTIF(I72:AM72,"☓")/31) -> 1 | AO72: =COUNTA(I72:AM72) -> 0
F73: 合計 | I73: =1-(COUNTIF(I71:I72,"☓"))/2 -> 1 | J73: =1-(COUNTIF(J71:J72,"☓"))/2 -> 1 | K73: =1-(COUNTIF(K71:K72,"☓"))/2 -> 1 | L73: =1-(COUNTIF(L71:L72,"☓"))/2 -> 1 | M73: =1-(COUNTIF(M71:M72,"☓"))/2 -> 1 | N73: =1-(COUNTIF(N71:N72,"☓"))/2 -> 1 | O73: =1-(COUNTIF(O71:O72,"☓"))/2 -> 1 | P73: =1-(COUNTIF(P71:P72,"☓"))/2 -> 1 | ... AM73: =1-(COUNTIF(AM71:AM72,"☓"))/2 -> 1 | AN73: =IF(AO73=0,"100%",AVERAGE(I73:AM73)) -> 100% | AO73: =SUM(AO71:AO72) -> 0
B74: 61 | D74: １０００系統 | F74: １００１９ | G74: 若葉町４－２ | H74: １．５ | AN74: =IF(COUNTA(I74:AM74)=0,"",1-COUNTIF(I74:AM74,"☓")/31) | AO74: =COUNTA(I74:AM74) -> 0
B75: 62 | F75: １００２９ | G75: 若葉町７－１ | H75: １．０ | AN75: =IF(COUNTA(I75:AM75)=0,"",1-COUNTIF(I75:AM75,"☓")/31) | AO75: =COUNTA(I75:AM75) -> 0
F76: 合計 | I76: =1-(COUNTIF(I74:I75,"☓"))/2 -> 1 | J76: =1-(COUNTIF(J74:J75,"☓"))/2 -> 1 | K76: =1-(COUNTIF(K74:K75,"☓"))/2 -> 1 | L76: =1-(COUNTIF(L74:L75,"☓"))/2 -> 1 | M76: =1-(COUNTIF(M74:M75,"☓"))/2 -> 1 | N76: =1-(COUNTIF(N74:N75,"☓"))/2 -> 1 | O76: =1-(COUNTIF(O74:O75,"☓"))/2 -> 1 | P76: =1-(COUNTIF(P74:P75,"☓"))/2 -> 1 | ... AM76: =1-(COUNTIF(AM74:AM75,"☓"))/2 -> 1 | AN76: =IF(AO76=0,"100%",AVERAGE(I76:AM76)) -> 100% | AO76: =SUM(AO74:AO75) -> 0
B77: 63 | D77: １１００系統 | F77: １１０１１ | G77: 緑町２ | H77: ０．７ | AN77: =IF(COUNTA(I77:AM77)=0,"",1-COUNTIF(I77:AM77,"☓")/31) | AO77: =COUNTA(I77:AM77) -> 0
B78: 64 | F78: １１０２１ | G78: 緑町１ | H78: ０．７ | AN78: =IF(COUNTA(I78:AM78)=0,"",1-COUNTIF(I78:AM78,"☓")/31) | AO78: =COUNTA(I78:AM78) -> 0
B79: 65 | F79: １１０３１ | G79: 緑町２ | H79: ０．７ | AN79: =IF(COUNTA(I79:AM79)=0,"",1-COUNTIF(I79:AM79,"☓")/31) | AO79: =COUNTA(I79:AM79) -> 0
B80: 66 | F80: １１０４１ | G80: 緑町３ | H80: ０．７ | AN80: =IF(COUNTA(I80:AM80)=0,"",1-COUNTIF(I80:AM80,"☓")/31) | AO80: =COUNTA(I80:AM80) -> 0
B81: 67 | F81: １１０５１ | G81: 緑町４ | H81: ０．７ | AN81: =IF(COUNTA(I81:AM81)=0,"",1-COUNTIF(I81:AM81,"☓")/31) | AO81: =COUNTA(I81:AM81) -> 0
B82: 68 | F82: １１０６１ | G82: 緑町５ | H82: ０．７ | AN82: =IF(COUNTA(I82:AM82)=0,"",1-COUNTIF(I82:AM82,"☓")/31) | AO82: =COUNTA(I82:AM82) -> 0
B83: 69 | F83: １１０６２ | G83: 緑町５ | H83: ０．７ | AN83: =IF(COUNTA(I83:AM83)=0,"",1-COUNTIF(I83:AM83,"☓")/31) | AO83: =COUNTA(I83:AM83) -> 0
B84: 70 | F84: １１０６３ | G84: 潮見町８ | H84: ０．７ | AN84: =IF(COUNTA(I84:AM84)=0,"",1-COUNTIF(I84:AM84,"☓")/31) | AO84: =COUNTA(I84:AM84) -> 0
B85: 71 | F85: １１０７１ | G85: 緑町７ | H85: ０．７ | AN85: =IF(COUNTA(I85:AM85)=0,"",1-COUNTIF(I85:AM85,"☓")/31) | AO85: =COUNTA(I85:AM85) -> 0
B86: 72 | F86: １１０８１ | G86: 緑町１０ | H86: ０．７ | AN86: =IF(COUNTA(I86:AM86)=0,"",1-COUNTIF(I86:AM86,"☓")/31) | AO86: =COUNTA(I86:AM86) -> 0
B87: 73 | F87: １１０９１ | G87: 緑町６ | H87: ０．７ | AN87: =IF(COUNTA(I87:AM87)=0,"",1-COUNTIF(I87:AM87,"☓")/31) | AO87: =COUNTA(I87:AM87) -> 0
B88: 74 | F88: １１１０１ | G88: 緑町９ | H88: ０．７ | AN88: =IF(COUNTA(I88:AM88)=0,"",1-COUNTIF(I88:AM88,"☓")/31) | AO88: =COUNTA(I88:AM88) -> 0
B89: 75 | F89: １１１１１ | G89: 潮見町８ | H89: ０．７ | AN89: =IF(COUNTA(I89:AM89)=0,"",1-COUNTIF(I89:AM89,"☓")/31) | AO89: =COUNTA(I89:AM89) -> 0
B90: 76 | F90: １１１２９ | G90: 緑町１ | H90: １．５ | AN90: =IF(COUNTA(I90:AM90)=0,"",1-COUNTIF(I90:AM90,"☓")/31) | AO90: =COUNTA(I90:AM90) -> 0
B91: 77 | F91: １１１３９ | G91: 緑町１ | H91: １．５ | AN91: =IF(COUNTA(I91:AM91)=0,"",1-COUNTIF(I91:AM91,"☓")/31) | AO91: =COUNTA(I91:AM91) -> 0 | AS91: 31*
B92: 78 | F92: １１１４９ | G92: 緑町１ | H92: １．５ | AN92: =IF(COUNTA(I92:AM92)=0,"",1-COUNTIF(I92:AM92,"☓")/31) | AO92: =COUNTA(I92:AM92) -> 0
F93: 合計 | I93: =1-(COUNTIF(I77:I92,"☓"))/16 -> 1 | J93: =1-(COUNTIF(J77:J92,"☓"))/16 -> 1 | K93: =1-(COUNTIF(K77:K92,"☓"))/16 -> 1 | L93: =1-(COUNTIF(L77:L92,"☓"))/16 -> 1 | M93: =1-(COUNTIF(M77:M92,"☓"))/16 -> 1 | N93: =1-(COUNTIF(N77:N92,"☓"))/16 -> 1 | O93: =1-(COUNTIF(O77:O92,"☓"))/16 -> 1 | P93: =1-(COUNTIF(P77:P92,"☓"))/16 -> 1 | ... AM93: =1-(COUNTIF(AM77:AM92,"☓"))/16 -> 1 | AN93: =IF(AO93=0,"100%",AVERAGE(I93:AM93)) -> 100% | AO93: =SUM(AO77:AO92) -> 0
B94: 79 | D94: １２００系統 | F94: １２０１１ | G94: 潮見町１ | H94: ０．４ | AN94: =IF(COUNTA(I94:AM94)=0,"",1-COUNTIF(I94:AM94,"☓")/31) | AO94: =COUNTA(I94:AM94) -> 0
B95: 80 | F95: １２０２１ | G95: 潮見町２０ | H95: ０．４ | AN95: =IF(COUNTA(I95:AM95)=0,"",1-COUNTIF(I95:AM95,"☓")/31) | AO95: =COUNTA(I95:AM95) -> 0
B96: 81 | F96: １２０３１ | G96: 潮見町４ | H96: ０．７ | AN96: =IF(COUNTA(I96:AM96)=0,"",1-COUNTIF(I96:AM96,"☓")/31) | AO96: =COUNTA(I96:AM96) -> 0
B97: 82 | F97: １２０３２ | G97: 潮見町３ | H97: ０．７ | AN97: =IF(COUNTA(I97:AM97)=0,"",1-COUNTIF(I97:AM97,"☓")/31) | AO97: =COUNTA(I97:AM97) -> 0
B98: 83 | F98: １２０４１ | G98: 潮見町４ | H98: ０．７ | AN98: =IF(COUNTA(I98:AM98)=0,"",1-COUNTIF(I98:AM98,"☓")/31) | AO98: =COUNTA(I98:AM98) -> 0
B99: 84 | F99: １２０５１ | G99: 潮見町７ | H99: ０．７ | AN99: =IF(COUNTA(I99:AM99)=0,"",1-COUNTIF(I99:AM99,"☓")/31) | AO99: =COUNTA(I99:AM99) -> 0
B100: 85 | F100: １２０６１ | G100: 潮見町５ | H100: ０．７ | AN100: =IF(COUNTA(I100:AM100)=0,"",1-COUNTIF(I100:AM100,"☓")/31) | AO100: =COUNTA(I100:AM100) -> 0
B101: 86 | F101: １２０７１ | G101: 潮見町６ | H101: ０．７ | AN101: =IF(COUNTA(I101:AM101)=0,"",1-COUNTIF(I101:AM101,"☓")/31) | AO101: =COUNTA(I101:AM101) -> 0
...

Sheet 6月（停止あり）
B2: Ｎｏ． | C2: 地区 | D2: 系統 | F2: 投入口ｱﾄﾞﾚｽ | G2: 住所 | H2: 容量（ｍ２） | I2: 6月 | AM2: 稼働率 | AN2: 停止日数
I3: 1 | J3: 2 | K3: 3 | L3: 4 | M3: 5 | N3: 6 | O3: 7 | P3: 8 | Q3: 9 | R3: 10 | S3: 11 | T3: 12 | U3: 13 | V3: 14 | W3: 15 | X3: 16 | Y3: 17 | Z3: 18 | AA3: 19 | AB3: 20 | AC3: 21 | AD3: 22 | AE3: 23 | AF3: 24 | AG3: 25 | AH3: 26 | AI3: 27 | AJ3: 28 | AK3: 29 | AL3: 30
H4: ☓ | I4: 土 | J4: 日 | K4: 月 | L4: 火 | M4: 水 | N4: 木 | O4: 金 | P4: 土 | Q4: 日 | R4: 月 | S4: 火 | T4: 水 | U4: 木 | V4: 金 | W4: 土 | X4: 日 | Y4: 月 | Z4: 火 | AA4: 水 | AB4: 木 | AC4: 金 | AD4: 土 | AE4: 日 | AF4: 月 | AG4: 火 | AH4: 水 | AI4: 木 | AJ4: 金 | AK4: 土 | AL4: 日
B5: 1 | C5: 宮川東側 | D5: １００系統 | F5: ０１０１１ | G5: 浜風町２１ | H5: ０．７ | Y5: ☓ | Z5: ☓ | AA5: ☓ | AB5: ☓ | AC5: ☓ | AD5: ☓ | AE5: ☓ | AF5: ☓ | AG5: ☓ | AM5: =IF(COUNTA(I5:AL5)=0,1,1-COUNTIF(I5:AL5,"☓")/30) -> 0.7 | AN5: =COUNTA(I5:AL5) -> 9
B6: 2 | F6: ０１０１２ | G6: 浜風町２２ | H6: ０．７ | Y6: ☓ | Z6: ☓ | AA6: ☓ | AB6: ☓ | AC6: ☓ | AD6: ☓ | AE6: ☓ | AF6: ☓ | AG6: ☓ | AM6: =IF(COUNTA(I6:AL6)=0,1,1-COUNTIF(I6:AL6,"☓")/30) -> 0.7 | AN6: =COUNTA(I6:AL6) -> 9
B7: 3 | F7: ０１０１３ | G7: 浜風町２４ | H7: ０．７ | Y7: ☓ | Z7: ☓ | AA7: ☓ | AB7: ☓ | AC7: ☓ | AD7: ☓ | AE7: ☓ | AF7: ☓ | AG7: ☓ | AM7: =IF(COUNTA(I7:AL7)=0,1,1-COUNTIF(I7:AL7,"☓")/30) -> 0.7 | AN7: =COUNTA(I7:AL7) -> 9
B8: 4 | F8: ０１０１４ | G8: 浜風町２７ | H8: ０．７ | Y8: ☓ | Z8: ☓ | AA8: ☓ | AB8: ☓ | AC8: ☓ | AD8: ☓ | AE8: ☓ | AF8: ☓ | AG8: ☓ | AM8: =IF(COUNTA(I8:AL8)=0,1,1-COUNTIF(I8:AL8,"☓")/30) -> 0.7 | AN8: =COUNTA(I8:AL8) -> 9
B9: 5 | F9: ０１０２１ | G9: 浜風町１９ | H9: ０．７ | Y9: ☓ | Z9: ☓ | AA9: ☓ | AB9: ☓ | AC9: ☓ | AD9: ☓ | AE9: ☓ | AF9: ☓ | AG9: ☓ | AM9: =IF(COUNTA(I9:AL9)=0,1,1-COUNTIF(I9:AL9,"☓")/30) -> 0.7 | AN9: =COUNTA(I9:AL9) -> 9
B10: 6 | F10: ０１０３１ | G10: 浜風町１８ | H10: ０．７ | Y10: ☓ | Z10: ☓ | AA10: ☓ | AB10: ☓ | AC10: ☓ | AD10: ☓ | AE10: ☓ | AF10: ☓ | AG10: ☓ | AM10: =IF(COUNTA(I10:AL10)=0,1,1-COUNTIF(I10:AL10,"☓")/30) -> 0.7 | AN10: =COUNTA(I10:AL10) -> 9
F11: 合計 | H11: =COUNTA(H5:H10) -> 6 | I11: =1-(COUNTIF(I5:I10,"☓"))/6 -> 1 | J11: =1-(COUNTIF(J5:J10,"☓"))/6 -> 1 | K11: =1-(COUNTIF(K5:K10,"☓"))/6 -> 1 | L11: =1-(COUNTIF(L5:L10,"☓"))/6 -> 1 | M11: =1-(COUNTIF(M5:M10,"☓"))/6 -> 1 | N11: =1-(COUNTIF(N5:N10,"☓"))/6 -> 1 | O11: =1-(COUNTIF(O5:O10,"☓"))/6 -> 1 | P11: =1-(COUNTIF(P5:P10,"☓"))/6 -> 1 | ... AL11: =1-(COUNTIF(AL5:AL10,"☓"))/6 -> 1 | AM11: =IF(AN11=0,"100%",AVERAGE(AM5:AM10)) -> 0.7 | AN11: =SUM(AN5:AN10) -> 54
B12: 7 | D12: ３００系統 | E12: Ｋライン | F12: ０３０１１ | G12: 浜風町１ | H12: ０．７ | Y12: ☓ | Z12: ☓ | AA12: ☓ | AB12: ☓ | AC12: ☓ | AD12: ☓ | AE12: ☓ | AF12: ☓ | AG12: ☓ | AM12: =IF(COUNTA(I12:AL12)=0,1,1-COUNTIF(I12:AL12,"☓")/30) -> 0.7 | AN12: =COUNTA(I12:AL12) -> 9
B13: 8 | F13: ０３０３１ | G13: 浜風町８ | H13: ０．７ | Y13: ☓ | Z13: ☓ | AA13: ☓ | AB13: ☓ | AC13: ☓ | AD13: ☓ | AE13: ☓ | AF13: ☓ | AG13: ☓ | AM13: =IF(COUNTA(I13:AL13)=0,1,1-COUNTIF(I13:AL13,"☓")/30) -> 0.7 | AN13: =COUNTA(I13:AL13) -> 9
B14: 9 | F14: ０３０３２ | G14: 浜風町２ | H14: ０．７ | Y14: ☓ | Z14: ☓ | AA14: ☓ | AB14: ☓ | AC14: ☓ | AD14: ☓ | AE14: ☓ | AF14: ☓ | AG14: ☓ | AM14: =IF(COUNTA(I14:AL14)=0,1,1-COUNTIF(I14:AL14,"☓")/30) -> 0.7 | AN14: =COUNTA(I14:AL14) -> 9
B15: 10 | F15: ０３０２１ | G15: 浜風町８ | H15: ０．７ | Y15: ☓ | Z15: ☓ | AA15: ☓ | AB15: ☓ | AC15: ☓ | AD15: ☓ | AE15: ☓ | AF15: ☓ | AG15: ☓ | AM15: =IF(COUNTA(I15:AL15)=0,1,1-COUNTIF(I15:AL15,"☓")/30) -> 0.7 | AN15: =COUNTA(I15:AL15) -> 9
B16: 11 | F16: ０３０３３ | G16: 浜風町７ | H16: ０．７ | Y16: ☓ | Z16: ☓ | AA16: ☓ | AB16: ☓ | AC16: ☓ | AD16: ☓ | AE16: ☓ | AF16: ☓ | AG16: ☓ | AM16: =IF(COUNTA(I16:AL16)=0,1,1-COUNTIF(I16:AL16,"☓")/30) -> 0.7 | AN16: =COUNTA(I16:AL16) -> 9
B17: 12 | F17: ０３０４１ | G17: 浜風町７ | H17: ０．７ | Y17: ☓ | Z17: ☓ | AA17: ☓ | AB17: ☓ | AC17: ☓ | AD17: ☓ | AE17: ☓ | AF17: ☓ | AG17: ☓ | AM17: =IF(COUNTA(I17:AL17)=0,1,1-COUNTIF(I17:AL17,"☓")/30) -> 0.7 | AN17: =COUNTA(I17:AL17) -> 9
B18: 13 | F18: ０３０５１ | G18: 浜風町７ | H18: ０．７ | Y18: ☓ | Z18: ☓ | AA18: ☓ | AB18: ☓ | AC18: ☓ | AD18: ☓ | AE18: ☓ | AF18: ☓ | AG18: ☓ | AM18: =IF(COUNTA(I18:AL18)=0,1,1-COUNTIF(I18:AL18,"☓")/30) -> 0.7 | AN18: =COUNTA(I18:AL18) -> 9
B19: 14 | F19: ０３０５２ | G19: 浜風町３ | H19: ０．７ | Y19: ☓ | Z19: ☓ | AA19: ☓ | AB19: ☓ | AC19: ☓ | AD19: ☓ | AE19: ☓ | AF19: ☓ | AG19: ☓ | AM19: =IF(COUNTA(I19:AL19)=0,1,1-COUNTIF(I19:AL19,"☓")/30) -> 0.7 | AN19: =COUNTA(I19:AL19) -> 9
B20: 15 | F20: ０３０５３ | G20: 浜風町６ | H20: ０．７ | Y20: ☓ | Z20: ☓ | AA20: ☓ | AB20: ☓ | AC20: ☓ | AD20: ☓ | AE20: ☓ | AF20: ☓ | AG20: ☓ | AM20: =IF(COUNTA(I20:AL20)=0,1,1-COUNTIF(I20:AL20,"☓")/30) -> 0.7 | AN20: =COUNTA(I20:AL20) -> 9
B21: 16 | F21: ０３０６１ | G21: 浜風町５ | H21: ０．７ | Y21: ☓ | Z21: ☓ | AA21: ☓ | AB21: ☓ | AC21: ☓ | AD21: ☓ | AE21: ☓ | AF21: ☓ | AG21: ☓ | AM21: =IF(COUNTA(I21:AL21)=0,1,1-COUNTIF(I21:AL21,"☓")/30) -> 0.7 | AN21: =COUNTA(I21:AL21) -> 9
B22: 17 | F22: ０３０５４ | G22: 浜風町６ | H22: ０．７ | Y22: ☓ | Z22: ☓ | AA22: ☓ | AB22: ☓ | AC22: ☓ | AD22: ☓ | AE22: ☓ | AF22: ☓ | AG22: ☓ | AM22: =IF(COUNTA(I22:AL22)=0,1,1-COUNTIF(I22:AL22,"☓")/30) -> 0.7 | AN22: =COUNTA(I22:AL22) -> 9
F23: 合計 | I23: =1-(COUNTIF(I12:I22,"☓"))/11 -> 1 | J23: =1-(COUNTIF(J12:J22,"☓"))/11 -> 1 | K23: =1-(COUNTIF(K12:K22,"☓"))/11 -> 1 | L23: =1-(COUNTIF(L12:L22,"☓"))/11 -> 1 | M23: =1-(COUNTIF(M12:M22,"☓"))/11 -> 1 | N23: =1-(COUNTIF(N12:N22,"☓"))/11 -> 1 | O23: =1-(COUNTIF(O12:O22,"☓"))/11 -> 1 | P23: =1-(COUNTIF(P12:P22,"☓"))/11 -> 1 | ... AL23: =1-(COUNTIF(AL12:AL22,"☓"))/11 -> 1 | AM23: =IF(AN23=0,"100%",AVERAGE(AM12:AM22)) -> 0.7 | AN23: =SUM(AN12:AN22) -> 99
B24: 18 | E24: Ｇライン | F24: ０３０７１ | G24: 新浜町４ | H24: ０．７ | Y24: ☓ | Z24: ☓ | AA24: ☓ | AB24: ☓ | AC24: ☓ | AD24: ☓ | AE24: ☓ | AF24: ☓ | AG24: ☓ | AM24: =IF(COUNTA(I24:AL24)=0,1,1-COUNTIF(I24:AL24,"☓")/30) -> 0.7 | AN24: =COUNTA(I24:AL24) -> 9
B25: 19 | F25: ０３０７２ | G25: 新浜町４ | H25: ０．７ | Y25: ☓ | Z25: ☓ | AA25: ☓ | AB25: ☓ | AC25: ☓ | AD25: ☓ | AE25: ☓ | AF25: ☓ | AG25: ☓ | AM25: =IF(COUNTA(I25:AL25)=0,1,1-COUNTIF(I25:AL25,"☓")/30) -> 0.7 | AN25: =COUNTA(I25:AL25) -> 9
B26: 20 | F26: ０３０８１ | G26: 新浜町５ | H26: ０．７ | Y26: ☓ | Z26: ☓ | AA26: ☓ | AB26: ☓ | AC26: ☓ | AD26: ☓ | AE26: ☓ | AF26: ☓ | AG26: ☓ | AM26: =IF(COUNTA(I26:AL26)=0,1,1-COUNTIF(I26:AL26,"☓")/30) -> 0.7 | AN26: =COUNTA(I26:AL26) -> 9
B27: 21 | F27: ０３１３９ | G27: 新浜町２ | H27: １．５ | Y27: ☓ | Z27: ☓ | AA27: ☓ | AB27: ☓ | AC27: ☓ | AD27: ☓ | AE27: ☓ | AF27: ☓ | AG27: ☓ | AM27: =IF(COUNTA(I27:AL27)=0,1,1-COUNTIF(I27:AL27,"☓")/30) -> 0.7 | AN27: =COUNTA(I27:AL27) -> 9
B28: 22 | F28: ０３１４９ | G28: 新浜町２ | H28: １．５ | Y28: ☓ | Z28: ☓ | AA28: ☓ | AB28: ☓ | AC28: ☓ | AD28: ☓ | AE28: ☓ | AF28: ☓ | AG28: ☓ | AM28: =IF(COUNTA(I28:AL28)=0,1,1-COUNTIF(I28:AL28,"☓")/30) -> 0.7 | AN28: =COUNTA(I28:AL28) -> 9
B29: 23 | F29: ０３１５９ | G29: 新浜町２ | H29: １．５ | Y29: ☓ | Z29: ☓ | AA29: ☓ | AB29: ☓ | AC29: ☓ | AD29: ☓ | AE29: ☓ | AF29: ☓ | AG29: ☓ | AM29: =IF(COUNTA(I29:AL29)=0,1,1-COUNTIF(I29:AL29,"☓")/30) -> 0.7 | AN29: =COUNTA(I29:AL29) -> 9
B30: 24 | F30: ０３１１１ | G30: 新浜町６ | H30: ０．７ | Y30: ☓ | Z30: ☓ | AA30: ☓ | AB30: ☓ | AC30: ☓ | AD30: ☓ | AE30: ☓ | AF30: ☓ | AG30: ☓ | AM30: =IF(COUNTA(I30:AL30)=0,1,1-COUNTIF(I30:AL30,"☓")/30) -> 0.7 | AN30: =COUNTA(I30:AL30) -> 9
B31: 25 | F31: ０３０９９ | G31: 浜風町３０ | H31: １．５ | Y31: ☓ | Z31: ☓ | AA31: ☓ | AB31: ☓ | AC31: ☓ | AD31: ☓ | AE31: ☓ | AF31: ☓ | AG31: ☓ | AM31: =IF(COUNTA(I31:AL31)=0,1,1-COUNTIF(I31:AL31,"☓")/30) -> 0.7 | AN31: =COUNTA(I31:AL31) -> 9
B32: 26 | F32: ０３１１２ | G32: 新浜町７ | H32: ０．７ | Y32: ☓ | Z32: ☓ | AA32: ☓ | AB32: ☓ | AC32: ☓ | AD32: ☓ | AE32: ☓ | AF32: ☓ | AG32: ☓ | AM32: =IF(COUNTA(I32:AL32)=0,1,1-COUNTIF(I32:AL32,"☓")/30) -> 0.7 | AN32: =COUNTA(I32:AL32) -> 9
B33: 27 | F33: ０３１１３ | G33: 新浜町８ | H33: ０．７ | Y33: ☓ | Z33: ☓ | AA33: ☓ | AB33: ☓ | AC33: ☓ | AD33: ☓ | AE33: ☓ | AF33: ☓ | AG33: ☓ | AM33: =IF(COUNTA(I33:AL33)=0,1,1-COUNTIF(I33:AL33,"☓")/30) -> 0.7 | AN33: =COUNTA(I33:AL33) -> 9
F34: ０３１０１ | G34: 新浜町７ | H34: ０．７ | Y34: ☓ | Z34: ☓ | AA34: ☓ | AB34: ☓ | AC34: ☓ | AD34: ☓ | AE34: ☓ | AF34: ☓ | AG34: ☓ | AM34: =IF(COUNTA(I34:AL34)=0,1,1-COUNTIF(I34:AL34,"☓")/30) -> 0.7 | AN34: =COUNTA(I34:AL34) -> 9
B35: 28 | F35: 合計 | I35: =1-(COUNTIF(I24:I34,"☓"))/11 -> 1 | J35: =1-(COUNTIF(J24:J34,"☓"))/11 -> 1 | L35: =1-(COUNTIF(L24:L34,"☓"))/11 -> 1 | M35: =1-(COUNTIF(M24:M34,"☓"))/11 -> 1 | N35: =1-(COUNTIF(N24:N34,"☓"))/11 -> 1 | O35: =1-(COUNTIF(O24:O34,"☓"))/11 -> 1 | P35: =1-(COUNTIF(P24:P34,"☓"))/11 -> 1 | Q35: =1-(COUNTIF(Q24:Q34,"☓"))/11 -> 1 | R35: =1-(COUNTIF(R24:R34,"☓"))/11 -> 1 | S35: =1-(COUNTIF(S24:S34,"☓"))/11 -> 1 | ... AL35: =1-(COUNTIF(AL24:AL34,"☓"))/11 -> 1 | AM35: =IF(AN35=0,"100%",AVERAGE(AM24:AM34)) -> 0.7 | AN35: =SUM(AN24:AN34) -> 99
B36: 29 | D36: ４００系統 | F36: ０４０１９ | G36: 高浜町９－２ | H36: １．５ | Y36: ☓ | Z36: ☓ | AA36: ☓ | AB36: ☓ | AC36: ☓ | AD36: ☓ | AE36: ☓ | AF36: ☓ | AG36: ☓ | AJ36: ☓ | AK36: ☓ | AL36: ☓ | AM36: =IF(COUNTA(I36:AL36)=0,1,1-COUNTIF(I36:AL36,"☓")/30) -> 0.6 | AN36: =COUNTA(I36:AL36) -> 12
B37: 30 | F37: ０４０２９ | G37: 高浜町９－１ | H37: １．５ | Y37: ☓ | Z37: ☓ | AA37: ☓ | AB37: ☓ | AC37: ☓ | AD37: ☓ | AE37: ☓ | AF37: ☓ | AG37: ☓ | AJ37: ☓ | AK37: ☓ | AL37: ☓ | AM37: =IF(COUNTA(I37:AL37)=0,1,1-COUNTIF(I37:AL37,"☓")/30) -> 0.6 | AN37: =COUNTA(I37:AL37) -> 12
B38: 31 | F38: ０４０３９ | G38: 高浜町８－３ | H38: １．０ | Y38: ☓ | Z38: ☓ | AA38: ☓ | AB38: ☓ | AC38: ☓ | AD38: ☓ | AE38: ☓ | AF38: ☓ | AG38: ☓ | AJ38: ☓ | AK38: ☓ | AL38: ☓ | AM38: =IF(COUNTA(I38:AL38)=0,1,1-COUNTIF(I38:AL38,"☓")/30) -> 0.6 | AN38: =COUNTA(I38:AL38) -> 12
B39: 32 | F39: ０４０４９ | G39: 高浜町８－２ | H39: １．０ | Y39: ☓ | Z39: ☓ | AA39: ☓ | AB39: ☓ | AC39: ☓ | AD39: ☓ | AE39: ☓ | AF39: ☓ | AG39: ☓ | AJ39: ☓ | AK39: ☓ | AL39: ☓ | AM39: =IF(COUNTA(I39:AL39)=0,1,1-COUNTIF(I39:AL39,"☓")/30) -> 0.6 | AN39: =COUNTA(I39:AL39) -> 12
F40: 合計 | I40: =1-(COUNTIF(I36:I39,"☓"))/4 -> 1 | J40: =1-(COUNTIF(J36:J39,"☓"))/4 -> 1 | K40: =1-(COUNTIF(K36:K39,"☓"))/4 -> 1 | L40: =1-(COUNTIF(L36:L39,"☓"))/4 -> 1 | M40: =1-(COUNTIF(M36:M39,"☓"))/4 -> 1 | N40: =1-(COUNTIF(N36:N39,"☓"))/4 -> 1 | O40: =1-(COUNTIF(O36:O39,"☓"))/4 -> 1 | P40: =1-(COUNTIF(P36:P39,"☓"))/4 -> 1 | ... Z40: =1-(COUNTIF(Z36:Z39,"☓"))/4 -> 0 | AA40: =1-(COUNTIF(AA42:AA45,"☓"))/4 -> 0 | AB40: =1-(COUNTIF(AB36:AB39,"☓"))/4 -> 0 | AC40: =1-(COUNTIF(AC36:AC39,"☓"))/4 -> 0 | AD40: =1-(COUNTIF(AD36:AD39,"☓"))/4 -> 0 | AE40: =1-(COUNTIF(AE36:AE39,"☓"))/4 -> 0 | AF40: =1-(COUNTIF(AF36:AF39,"☓"))/4 -> 0 | AG40: =1-(COUNTIF(AG36:AG39,"☓"))/4 -> 0 | AH40: =1-(COUNTIF(AH36:AH39,"☓"))/4 -> 1 | AI40: =1-(COUNTIF(AI36:AI39,"☓"))/4 -> 1 | ... AL40: =1-(COUNTIF(AL36:AL39,"☓"))/4 -> 0 | AM40: =IF(AN40=0,"100%",AVERAGE(AM36:AM39)) -> 0.6 | AN40: =SUM(AN36:AN39) -> 48
B41: 33 | D41: ５００系統 | F41: ０５０１９ | G41: 高浜町８－１ | H41: １．０ | Y41: ☓ | Z41: ☓ | AA41: ☓ | AB41: ☓ | AC41: ☓ | AD41: ☓ | AE41: ☓ | AF41: ☓ | AG41: ☓ | AM41: =IF(COUNTA(I41:AL41)=0,1,1-COUNTIF(I41:AL41,"☓")/30) -> 0.7 | AN41: =COUNTA(I41:AL41) -> 9
B42: 34 | F42: ０５０２９ | G42: 高浜町５－１ | H42: １．５ | Y42: ☓ | Z42: ☓ | AA42: ☓ | AB42: ☓ | AC42: ☓ | AD42: ☓ | AE42: ☓ | AF42: ☓ | AG42: ☓ | AM42: =IF(COUNTA(I42:AL42)=0,1,1-COUNTIF(I42:AL42,"☓")/30) -> 0.7 | AN42: =COUNTA(I42:AL42) -> 9
B43: 35 | F43: ０５０３９ | G43: 高浜町５－２ | H43: １．５ | Y43: ☓ | Z43: ☓ | AA43: ☓ | AB43: ☓ | AC43: ☓ | AD43: ☓ | AE43: ☓ | AF43: ☓ | AG43: ☓ | AM43: =IF(COUNTA(I43:AL43)=0,1,1-COUNTIF(I43:AL43,"☓")/30) -> 0.7 | AN43: =COUNTA(I43:AL43) -> 9
B44: 36 | F44: ０５０４９ | G44: 高浜町３－１ | H44: １．５ | Y44: ☓ | Z44: ☓ | AA44: ☓ | AB44: ☓ | AC44: ☓ | AD44: ☓ | AE44: ☓ | AF44: ☓ | AG44: ☓ | AM44: =IF(COUNTA(I44:AL44)=0,1,1-COUNTIF(I44:AL44,"☓")/30) -> 0.7 | AN44: =COUNTA(I44:AL44) -> 9
B45: 37 | F45: ０５０５９ | G45: 高浜町２－１ | H45: １．５ | Y45: ☓ | Z45: ☓ | AA45: ☓ | AB45: ☓ | AC45: ☓ | AD45: ☓ | AE45: ☓ | AF45: ☓ | AG45: ☓ | AM45: =IF(COUNTA(I45:AL45)=0,1,1-COUNTIF(I45:AL45,"☓")/30) -> 0.7 | AN45: =COUNTA(I45:AL45) -> 9
B46: 38 | F46: ０５０６９ | G46: 高浜町２－２ | H46: １．５ | Y46: ☓ | Z46: ☓ | AA46: ☓ | AB46: ☓ | AC46: ☓ | AD46: ☓ | AE46: ☓ | AF46: ☓ | AG46: ☓ | AM46: =IF(COUNTA(I46:AL46)=0,1,1-COUNTIF(I46:AL46,"☓")/30) -> 0.7 | AN46: =COUNTA(I46:AL46) -> 9
B47: 39 | F47: ０５０７９ | G47: 高浜町２－３ | H47: １．５ | Y47: ☓ | Z47: ☓ | AA47: ☓ | AB47: ☓ | AC47: ☓ | AD47: ☓ | AE47: ☓ | AF47: ☓ | AG47: ☓ | AM47: =IF(COUNTA(I47:AL47)=0,1,1-COUNTIF(I47:AL47,"☓")/30) -> 0.7 | AN47: =COUNTA(I47:AL47) -> 9
B48: 40 | F48: ０５０８９ | G48: 高浜町４－２ | H48: １．５ | Y48: ☓ | Z48: ☓ | AA48: ☓ | AB48: ☓ | AC48: ☓ | AD48: ☓ | AE48: ☓ | AF48: ☓ | AG48: ☓ | AM48: =IF(COUNTA(I48:AL48)=0,1,1-COUNTIF(I48:AL48,"☓")/30) -> 0.7 | AN48: =COUNTA(I48:AL48) -> 9
B49: 41 | F49: ０５０９９ | G49: 高浜町４－１ | H49: １．５ | Y49: ☓ | Z49: ☓ | AA49: ☓ | AB49: ☓ | AC49: ☓ | AD49: ☓ | AE49: ☓ | AF49: ☓ | AG49: ☓ | AM49: =IF(COUNTA(I49:AL49)=0,1,1-COUNTIF(I49:AL49,"☓")/30) -> 0.7 | AN49: =COUNTA(I49:AL49) -> 9
B50: 42 | F50: ０５１３１ | G50: 新浜町１ | H50: ０．４ | Y50: ☓ | Z50: ☓ | AA50: ☓ | AB50: ☓ | AC50: ☓ | AD50: ☓ | AE50: ☓ | AF50: ☓ | AG50: ☓ | AM50: =IF(COUNTA(I50:AL50)=0,1,1-COUNTIF(I50:AL50,"☓")/30) -> 0.7 | AN50: =COUNTA(I50:AL50) -> 9
B51: 43 | F51: ０５１４１ | G51: 新浜町１ | H51: ０．７ | Y51: ☓ | Z51: ☓ | AA51: ☓ | AB51: ☓ | AC51: ☓ | AD51: ☓ | AE51: ☓ | AF51: ☓ | AG51: ☓ | AM51: =IF(COUNTA(I51:AL51)=0,1,1-COUNTIF(I51:AL51,"☓")/30) -> 0.7 | AN51: =COUNTA(I51:AL51) -> 9
F52: 合計 | I52: =1-(COUNTIF(I41:I51,"☓"))/11 -> 1 | J52: =1-(COUNTIF(J41:J51,"☓"))/11 -> 1 | K52: =1-(COUNTIF(K41:K51,"☓"))/11 -> 1 | L52: =1-(COUNTIF(L41:L51,"☓"))/11 -> 1 | M52: =1-(COUNTIF(M41:M51,"☓"))/11 -> 1 | N52: =1-(COUNTIF(N41:N51,"☓"))/11 -> 1 | O52: =1-(COUNTIF(O41:O51,"☓"))/11 -> 1 | P52: =1-(COUNTIF(P41:P51,"☓"))/11 -> 1 | ... AL52: =1-(COUNTIF(AL41:AL51,"☓"))/11 -> 1 | AM52: =IF(AN52=0,"100%",AVERAGE(I52:AL52)) -> 0.7 | AN52: =SUM(AN41:AN51) -> 99
B53: 44 | D53: ６００系統 | F53: ０６０１１ | G53: 浜風町１６ | H53: ０．７ | Y53: ☓ | Z53: ☓ | AA53: ☓ | AB53: ☓ | AC53: ☓ | AD53: ☓ | AE53: ☓ | AF53: ☓ | AG53: ☓ | AM53: =IF(COUNTA(I53:AL53)=0,1,1-COUNTIF(I53:AL53,"☓")/30) -> 0.7 | AN53: =COUNTA(I53:AL53) -> 9
B54: 45 | F54: ０６０１２ | G54: 浜風町９ | H54: ０．７ | Y54: ☓ | Z54: ☓ | AA54: ☓ | AB54: ☓ | AC54: ☓ | AD54: ☓ | AE54: ☓ | AF54: ☓ | AG54: ☓ | AM54: =IF(COUNTA(I54:AL54)=0,1,1-COUNTIF(I54:AL54,"☓")/30) -> 0.7 | AN54: =COUNTA(I54:AL54) -> 9
B55: 46 | F55: ０６０２１ | G55: 浜風町１５ | H55: ０．７ | Y55: ☓ | Z55: ☓ | AA55: ☓ | AB55: ☓ | AC55: ☓ | AD55: ☓ | AE55: ☓ | AF55: ☓ | AG55: ☓ | AM55: =IF(COUNTA(I55:AL55)=0,1,1-COUNTIF(I55:AL55,"☓")/30) -> 0.7 | AN55: =COUNTA(I55:AL55) -> 9
B56: 47 | F56: ０６０３１ | G56: 浜風町１１ | H56: ０．７ | Y56: ☓ | Z56: ☓ | AA56: ☓ | AB56: ☓ | AC56: ☓ | AD56: ☓ | AE56: ☓ | AF56: ☓ | AG56: ☓ | AM56: =IF(COUNTA(I56:AL56)=0,1,1-COUNTIF(I56:AL56,"☓")/30) -> 0.7 | AN56: =COUNTA(I56:AL56) -> 9
B57: 48 | F57: ０６０４１ | G57: 浜風町１３ | H57: ０．７ | Y57: ☓ | Z57: ☓ | AA57: ☓ | AB57: ☓ | AC57: ☓ | AD57: ☓ | AE57: ☓ | AF57: ☓ | AG57: ☓ | AM57: =IF(COUNTA(I57:AL57)=0,1,1-COUNTIF(I57:AL57,"☓")/30) -> 0.7 | AN57: =COUNTA(I57:AL57) -> 9
B58: 49 | F58: ０６０５１ | G58: 浜風町１０ | H58: ０．７ | Y58: ☓ | Z58: ☓ | AA58: ☓ | AB58: ☓ | AC58: ☓ | AD58: ☓ | AE58: ☓ | AF58: ☓ | AG58: ☓ | AM58: =IF(COUNTA(I58:AL58)=0,1,1-COUNTIF(I58:AL58,"☓")/30) -> 0.7 | AN58: =COUNTA(I58:AL58) -> 9
F59: 合計 | I59: =1-(COUNTIF(I53:I58,"☓"))/6 -> 1 | J59: =1-(COUNTIF(J53:J58,"☓"))/6 -> 1 | K59: =1-(COUNTIF(K53:K58,"☓"))/6 -> 1 | L59: =1-(COUNTIF(L53:L58,"☓"))/6 -> 1 | M59: =1-(COUNTIF(M53:M58,"☓"))/6 -> 1 | N59: =1-(COUNTIF(N53:N58,"☓"))/6 -> 1 | O59: =1-(COUNTIF(O53:O58,"☓"))/6 -> 1 | P59: =1-(COUNTIF(P53:P58,"☓"))/6 -> 1 | ... AL59: =1-(COUNTIF(AL53:AL58,"☓"))/6 -> 1 | AM59: =IF(AN59=0,"100%",AVERAGE(AM53:AM58)) -> 0.7 | AN59: =SUM(AN53:AN58) -> 54
B60: 50 | D60: ７００系統 | F60: ０７０１９ | G60: 高浜町７－１ | H60: １．０ | Y60: ☓ | Z60: ☓ | AA60: ☓ | AB60: ☓ | AC60: ☓ | AD60: ☓ | AE60: ☓ | AF60: ☓ | AG60: ☓ | AM60: =IF(COUNTA(I60:AL60)=0,1,1-COUNTIF(I60:AL60,"☓")/30) -> 0.7 | AN60: =COUNTA(I60:AL60) -> 9
B61: 51 | F61: ０７０２９ | G61: 高浜町７－２ | H61: １．０ | AM61: =IF(COUNTA(I61:AL61)=0,1,1-COUNTIF(I61:AL61,"☓")/30) -> 1 | AN61: =COUNTA(I61:AL61) -> 0
F62: 合計 | I62: =1-(COUNTIF(I60:I61,"☓"))/2 -> 1 | J62: =1-(COUNTIF(J60:J61,"☓"))/2 -> 1 | K62: =1-(COUNTIF(K60:K61,"☓"))/2 -> 1 | L62: =1-(COUNTIF(L60:L61,"☓"))/2 -> 1 | M62: =1-(COUNTIF(M60:M61,"☓"))/2 -> 1 | N62: =1-(COUNTIF(N60:N61,"☓"))/2 -> 1 | O62: =1-(COUNTIF(O60:O61,"☓"))/2 -> 1 | P62: =1-(COUNTIF(P60:P61,"☓"))/2 -> 1 | ... AL62: =1-(COUNTIF(AL60:AL61,"☓"))/2 -> 1 | AM62: =IF(AN62=0,"100%",AVERAGE(AM60:AM61)) -> 0.85 | AN62: =SUM(AN60:AN61) -> 9
B63: 52 | C63: 宮川西側 | D63: ８００系統 | F63: ０８０１９ | G63: 若葉町４－１ | H63: １．５ | AM63: =IF(COUNTA(I63:AL63)=0,1,1-COUNTIF(I63:AL63,"☓")/30) -> 1 | AN63: =COUNTA(I63:AL63) -> 0
B64: 53 | F64: ０８０２９ | G64: 若葉町５－１ | H64: １．５ | AM64: =IF(COUNTA(I64:AL64)=0,1,1-COUNTIF(I64:AL64,"☓")/30) -> 1 | AN64: =COUNTA(I64:AL64) -> 0
B65: 54 | F65: ０８０３９ | G65: 若葉町５－２ | H65: １．５ | AM65: =IF(COUNTA(I65:AL65)=0,1,1-COUNTIF(I65:AL65,"☓")/30) -> 1 | AN65: =COUNTA(I65:AL65) -> 0
B66: 55 | F66: ０８０４９ | G66: 若葉町６－１ | H66: １．５ | AM66: =IF(COUNTA(I66:AL66)=0,1,1-COUNTIF(I66:AL66,"☓")/30) -> 1 | AN66: =COUNTA(I66:AL66) -> 0
B67: 56 | F67: ０８０５９ | G67: 若葉町６－２ | H67: １．５ | AM67: =IF(COUNTA(I67:AL67)=0,1,1-COUNTIF(I67:AL67,"☓")/30) -> 1 | AN67: =COUNTA(I67:AL67) -> 0
B68: 57 | F68: ０８０６９ | G68: 若葉町７－２ | H68: １．０ | AM68: =IF(COUNTA(I68:AL68)=0,1,1-COUNTIF(I68:AL68,"☓")/30) -> 1 | AN68: =COUNTA(I68:AL68) -> 0
B69: 58 | F69: ０８０７９ | G69: 若葉町７－３ | H69: １．０ | AM69: =IF(COUNTA(I69:AL69)=0,1,1-COUNTIF(I69:AL69,"☓")/30) -> 1 | AN69: =COUNTA(I69:AL69) -> 0
F70: 合計 | I70: =1-(COUNTIF(I63:I69,"☓"))/7 -> 1 | J70: =1-(COUNTIF(J63:J69,"☓"))/7 -> 1 | K70: =1-(COUNTIF(K63:K69,"☓"))/7 -> 1 | L70: =1-(COUNTIF(L63:L69,"☓"))/7 -> 1 | M70: =1-(COUNTIF(M63:M69,"☓"))/7 -> 1 | N70: =1-(COUNTIF(N63:N69,"☓"))/7 -> 1 | O70: =1-(COUNTIF(O63:O69,"☓"))/7 -> 1 | P70: =1-(COUNTIF(P63:P69,"☓"))/7 -> 1 | ... AL70: =1-(COUNTIF(AL63:AL69,"☓"))/7 -> 1 | AM70: =IF(AN70=0,"100%",AVERAGE(AM63:AM69)) -> 100% | AN70: =SUM(AN63:AN69) -> 0
B71: 59 | D71: ９００系統 | F71: ０９０１９ | G71: 若葉町２－１ | H71: １．５ | AM71: =IF(COUNTA(I71:AL71)=0,1,1-COUNTIF(I71:AL71,"☓")/30) -> 1 | AN71: =COUNTA(I71:AL71) -> 0
B72: 60 | F72: ０９０２９ | G72: 若葉町２－２ | H72: １．５ | AM72: =IF(COUNTA(I72:AL72)=0,1,1-COUNTIF(I72:AL72,"☓")/30) -> 1 | AN72: =COUNTA(I72:AL72) -> 0
F73: 合計 | I73: =1-(COUNTIF(I71:I72,"☓"))/2 -> 1 | J73: =1-(COUNTIF(J71:J72,"☓"))/2 -> 1 | K73: =1-(COUNTIF(K71:K72,"☓"))/2 -> 1 | L73: =1-(COUNTIF(L71:L72,"☓"))/2 -> 1 | M73: =1-(COUNTIF(M71:M72,"☓"))/2 -> 1 | N73: =1-(COUNTIF(N71:N72,"☓"))/2 -> 1 | O73: =1-(COUNTIF(O71:O72,"☓"))/2 -> 1 | P73: =1-(COUNTIF(P71:P72,"☓"))/2 -> 1 | ... AL73: =1-(COUNTIF(AL71:AL72,"☓"))/2 -> 1 | AM73: =IF(AN73=0,"100%",AVERAGE(AM71:AM72)) -> 100% | AN73: =SUM(AN71:AN72) -> 0
B74: 61 | D74: １０００系統 | F74: １００１９ | G74: 若葉町４－２ | H74: １．５ | AM74: =IF(COUNTA(I74:AL74)=0,1,1-COUNTIF(I74:AL74,"☓")/30) -> 1 | AN74: =COUNTA(I74:AL74) -> 0
B75: 62 | F75: １００２９ | G75: 若葉町７－１ | H75: １．０ | AM75: =IF(COUNTA(I75:AL75)=0,1,1-COUNTIF(I75:AL75,"☓")/30) -> 1 | AN75: =COUNTA(I75:AL75) -> 0
F76: 合計 | I76: =1-(COUNTIF(I74:I75,"☓"))/2 -> 1 | J76: =1-(COUNTIF(J74:J75,"☓"))/2 -> 1 | K76: =1-(COUNTIF(K74:K75,"☓"))/2 -> 1 | L76: =1-(COUNTIF(L74:L75,"☓"))/2 -> 1 | M76: =1-(COUNTIF(M74:M75,"☓"))/2 -> 1 | N76: =1-(COUNTIF(N74:N75,"☓"))/2 -> 1 | O76: =1-(COUNTIF(O74:O75,"☓"))/2 -> 1 | P76: =1-(COUNTIF(P74:P75,"☓"))/2 -> 1 | ... AL76: =1-(COUNTIF(AL74:AL75,"☓"))/2 -> 1 | AM76: =IF(AN76=0,"100%",AVERAGE(I76:AL76)) -> 100% | AN76: =SUM(AN74:AN75) -> 0
B77: 63 | D77: １１００系統 | F77: １１０１１ | G77: 緑町２ | H77: ０．７ | AM77: =IF(COUNTA(I77:AL77)=0,1,1-COUNTIF(I77:AL77,"☓")/30) -> 1 | AN77: =COUNTA(I77:AL77) -> 0
B78: 64 | F78: １１０２１ | G78: 緑町１ | H78: ０．７ | AM78: =IF(COUNTA(I78:AL78)=0,1,1-COUNTIF(I78:AL78,"☓")/30) -> 1 | AN78: =COUNTA(I78:AL78) -> 0
B79: 65 | F79: １１０３１ | G79: 緑町２ | H79: ０．７ | AM79: =IF(COUNTA(I79:AL79)=0,1,1-COUNTIF(I79:AL79,"☓")/30) -> 1 | AN79: =COUNTA(I79:AL79) -> 0
B80: 66 | F80: １１０４１ | G80: 緑町３ | H80: ０．７ | AM80: =IF(COUNTA(I80:AL80)=0,1,1-COUNTIF(I80:AL80,"☓")/30) -> 1 | AN80: =COUNTA(I80:AL80) -> 0
B81: 67 | F81: １１０５１ | G81: 緑町４ | H81: ０．７ | AM81: =IF(COUNTA(I81:AL81)=0,1,1-COUNTIF(I81:AL81,"☓")/30) -> 1 | AN81: =COUNTA(I81:AL81) -> 0
B82: 68 | F82: １１０６１ | G82: 緑町５ | H82: ０．７ | AM82: =IF(COUNTA(I82:AL82)=0,1,1-COUNTIF(I82:AL82,"☓")/30) -> 1 | AN82: =COUNTA(I82:AL82) -> 0
B83: 69 | F83: １１０６２ | G83: 緑町５ | H83: ０．７ | AM83: =IF(COUNTA(I83:AL83)=0,1,1-COUNTIF(I83:AL83,"☓")/30) -> 1 | AN83: =COUNTA(I83:AL83) -> 0
B84: 70 | F84: １１０６３ | G84: 潮見町８ | H84: ０．７ | AM84: =IF(COUNTA(I84:AL84)=0,1,1-COUNTIF(I84:AL84,"☓")/30) -> 1 | AN84: =COUNTA(I84:AL84) -> 0
B85: 71 | F85: １１０７１ | G85: 緑町７ | H85: ０．７ | AM85: =IF(COUNTA(I85:AL85)=0,1,1-COUNTIF(I85:AL85,"☓")/30) -> 1 | AN85: =COUNTA(I85:AL85) -> 0
B86: 72 | F86: １１０８１ | G86: 緑町１０ | H86: ０．７ | AM86: =IF(COUNTA(I86:AL86)=0,1,1-COUNTIF(I86:AL86,"☓")/30) -> 1 | AN86: =COUNTA(I86:AL86) -> 0
B87: 73 | F87: １１０９１ | G87: 緑町６ | H87: ０．７ | AM87: =IF(COUNTA(I87:AL87)=0,1,1-COUNTIF(I87:AL87,"☓")/30) -> 1 | AN87: =COUNTA(I87:AL87) -> 0
B88: 74 | F88: １１１０１ | G88: 緑町９ | H88: ０．７ | AM88: =IF(COUNTA(I88:AL88)=0,1,1-COUNTIF(I88:AL88,"☓")/30) -> 1 | AN88: =COUNTA(I88:AL88) -> 0
B89: 75 | F89: １１１１１ | G89: 潮見町８ | H89: ０．７ | AM89: =IF(COUNTA(I89:AL89)=0,1,1-COUNTIF(I89:AL89,"☓")/30) -> 1 | AN89: =COUNTA(I89:AL89) -> 0
... B92: 78 | F92: １１１４９ | G92: 緑町１ | H92: １．５ | AM92: =IF(COUNTA(I92:AL92)=0,1,1-COUNTIF(I92:AL92,"☓")/30) -> 1 | AN92: =COUNTA(I92:AL92) -> 0
F93: 合計 | I93: =1-(COUNTIF(I77:I92,"☓"))/16 -> 1 | J93: =1-(COUNTIF(J77:J92,"☓"))/16 -> 1 | K93: =1-(COUNTIF(K77:K92,"☓"))/16 -> 1 | L93: =1-(COUNTIF(L77:L92,"☓"))/16 -> 1 | M93: =1-(COUNTIF(M77:M92,"☓"))/16 -> 1 | N93: =1-(COUNTIF(N77:N92,"☓"))/16 -> 1 | O93: =1-(COUNTIF(O77:O92,"☓"))/16 -> 1 | P93: =1-(COUNTIF(P77:P92,"☓"))/16 -> 1 | ... AL93: =1-(COUNTIF(AL77:AL92,"☓"))/16 -> 1 | AM93: =IF(AN93=0,"100%",AVERAGE(AM77:AM92)) -> 100% | AN93: =SUM(AN77:AN92) -> 0
B94: 79 | D94: １２００系統 | F94: １２０１１ | G94: 潮見町１ | H94: ０．４ | AM94: =IF(COUNTA(I94:AL94)=0,1,1-COUNTIF(I94:AL94,"☓")/30) -> 1 | AN94: =COUNTA(I94:AL94) -> 0
B95: 80 | F95: １２０２１ | G95: 潮見町２０ | H95: ０．４ | AM95: =IF(COUNTA(I95:AL95)=0,1,1-COUNTIF(I95:AL95,"☓")/30) -> 1 | AN95: =COUNTA(I95:AL95) -> 0
B96: 81 | F96: １２０３１ | G96: 潮見町４ | H96: ０．７ | AM96: =IF(COUNTA(I96:AL96)=0,1,1-COUNTIF(I96:AL96,"☓")/30) -> 1 | AN96: =COUNTA(I96:AL96) -> 0
B97: 82 | F97: １２０３２ | G97: 潮見町３ | H97: ０．７ | AM97: =IF(COUNTA(I97:AL97)=0,1,1-COUNTIF(I97:AL97,"☓")/30) -> 1 | AN97: =COUNTA(I97:AL97) -> 0
B98: 83 | F98: １２０４１ | G98: 潮見町４ | H98: ０．７ | AM98: =IF(COUNTA(I98:AL98)=0,1,1-COUNTIF(I98:AL98,"☓")/30) -> 1 | AN98: =COUNTA(I98:AL98) -> 0
B99: 84 | F99: １２０５１ | G99: 潮見町７ | H99: ０．７ | AM99: =IF(COUNTA(I99:AL99)=0,1,1-COUNTIF(I99:AL99,"☓")/30) -> 1 | AN99: =COUNTA(I99:AL99) -> 0
B100: 85 | F100: １２０６１ | G100: 潮見町５ | H100: ０．７ | AM100: =IF(COUNTA(I100:AL100)=0,1,1-COUNTIF(I100:AL100,"☓")/30) -> 1 | AN100: =COUNTA(I100:AL100) -> 0
B101: 86 | F101: １２０７１ | G101: 潮見町６ | H101: ０．７ | AM101: =IF(COUNTA(I101:AL101)=0,1,1-COUNTIF(I101:AL101,"☓")/30) -> 1 | AN101: =COUNTA(I101:AL101) -> 0
B102: 87 | F102: １２０８１ | G102: 潮見町１７ | H102: ０．７ | AM102: =IF(COUNTA(I102:AL102)=0,1,1-COUNTIF(I102:AL102,"☓")/30) -> 1 | AN102: =COUNTA(I102:AL102) -> 0
B103: 88 | F103: １２０８２ | G103: 潮見町１８ | H103: ０．７ | AM103: =IF(COUNTA(I103:AL103)=0,1,1-COUNTIF(I103:AL103,"☓")/30) -> 1 | AN103: =COUNTA(I103:AL103) -> 0
...

Sheet 7月（停止あり）
B2: Ｎｏ． | C2: 地区 | D2: 系統 | F2: 投入口ｱﾄﾞﾚｽ | G2: 住所 | H2: 容量（ｍ２） | I2: 7月 | AN2: 稼働率 | AO2: 停止日数
I3: 1 | J3: 2 | K3: 3 | L3: 4 | M3: 5 | N3: 6 | O3: 7 | P3: 8 | Q3: 9 | R3: 10 | S3: 11 | T3: 12 | U3: 13 | V3: 14 | W3: 15 | X3: 16 | Y3: 17 | Z3: 18 | AA3: 19 | AB3: 20 | AC3: 21 | AD3: 22 | AE3: 23 | AF3: 24 | AG3: 25 | AH3: 26 | AI3: 27 | AJ3: 28 | AK3: 29 | AL3: 30 | AM3: 31
H4: ☓ | I4: 月 | J4: 火 | K4: 水 | L4: 木 | M4: 金 | N4: 土 | O4: 日 | P4: 月 | Q4: 火 | R4: 水 | S4: 木 | T4: 金 | U4: 土 | V4: 日 | W4: 月 | X4: 火 | Y4: 水 | Z4: 木 | AA4: 金 | AB4: 土 | AC4: 日 | AD4: 月 | AE4: 火 | AF4: 水 | AG4: 木 | AH4: 金 | AI4: 土 | AJ4: 日 | AK4: 月 | AL4: 火 | AM4: 水
B5: 1 | C5: 宮川東側 | D5: １００系統 | F5: ０１０１１ | G5: 浜風町２１ | H5: ０．７ | AN5: =IF(COUNTA(I5:AM5)=0,1,1-COUNTIF(I5:AM5,"☓")/31) -> 1 | AO5: =COUNTA(I5:AM5) -> 0
B6: 2 | F6: ０１０１２ | G6: 浜風町２２ | H6: ０．７ | AN6: =IF(COUNTA(I6:AM6)=0,1,1-COUNTIF(I6:AM6,"☓")/31) -> 1 | AO6: =COUNTA(I6:AM6) -> 0
B7: 3 | F7: ０１０１３ | G7: 浜風町２４ | H7: ０．７ | AN7: =IF(COUNTA(I7:AM7)=0,1,1-COUNTIF(I7:AM7,"☓")/31) -> 1 | AO7: =COUNTA(I7:AM7) -> 0
B8: 4 | F8: ０１０１４ | G8: 浜風町２７ | H8: ０．７ | AN8: =IF(COUNTA(I8:AM8)=0,1,1-COUNTIF(I8:AM8,"☓")/31) -> 1 | AO8: =COUNTA(I8:AM8) -> 0
B9: 5 | F9: ０１０２１ | G9: 浜風町１９ | H9: ０．７ | AN9: =IF(COUNTA(I9:AM9)=0,1,1-COUNTIF(I9:AM9,"☓")/31) -> 1 | AO9: =COUNTA(I9:AM9) -> 0
B10: 6 | F10: ０１０３１ | G10: 浜風町１８ | H10: ０．７ | AN10: =IF(COUNTA(I10:AM10)=0,1,1-COUNTIF(I10:AM10,"☓")/31) -> 1 | AO10: =COUNTA(I10:AM10) -> 0
F11: 合計 | H11: =COUNTA(H5:H10) -> 6 | I11: =1-(COUNTIF(I5:I10,"☓"))/6 -> 1 | J11: =1-(COUNTIF(J5:J10,"☓"))/6 -> 1 | K11: =1-(COUNTIF(K5:K10,"☓"))/6 -> 1 | L11: =1-(COUNTIF(L5:L10,"☓"))/6 -> 1 | M11: =1-(COUNTIF(M5:M10,"☓"))/6 -> 1 | N11: =1-(COUNTIF(N5:N10,"☓"))/6 -> 1 | O11: =1-(COUNTIF(O5:O10,"☓"))/6 -> 1 | P11: =1-(COUNTIF(P5:P10,"☓"))/6 -> 1 | ... AM11: =1-(COUNTIF(AM5:AM10,"☓"))/6 -> 1 | AN11: =IF(AO11=0,"100%",AVERAGE(AN5:AN10)) -> 100% | AO11: =SUM(AO5:AO10) -> 0
B12: 7 | D12: ３００系統 | E12: Ｋライン | F12: ０３０１１ | G12: 浜風町１ | H12: ０．７ | AN12: =IF(COUNTA(I12:AM12)=0,1,1-COUNTIF(I12:AM12,"☓")/31) -> 1 | AO12: =COUNTA(I12:AM12) -> 0
B13: 8 | F13: ０３０３１ | G13: 浜風町８ | H13: ０．７ | AN13: =IF(COUNTA(I13:AM13)=0,1,1-COUNTIF(I13:AM13,"☓")/31) -> 1 | AO13: =COUNTA(I13:AM13) -> 0
B14: 9 | F14: ０３０３２ | G14: 浜風町２ | H14: ０．７ | AN14: =IF(COUNTA(I14:AM14)=0,1,1-COUNTIF(I14:AM14,"☓")/31) -> 1 | AO14: =COUNTA(I14:AM14) -> 0
B15: 10 | F15: ０３０２１ | G15: 浜風町８ | H15: ０．７ | AN15: =IF(COUNTA(I15:AM15)=0,1,1-COUNTIF(I15:AM15,"☓")/31) -> 1 | AO15: =COUNTA(I15:AM15) -> 0
B16: 11 | F16: ０３０３３ | G16: 浜風町７ | H16: ０．７ | AN16: =IF(COUNTA(I16:AM16)=0,1,1-COUNTIF(I16:AM16,"☓")/31) -> 1 | AO16: =COUNTA(I16:AM16) -> 0
B17: 12 | F17: ０３０４１ | G17: 浜風町７ | H17: ０．７ | AN17: =IF(COUNTA(I17:AM17)=0,1,1-COUNTIF(I17:AM17,"☓")/31) -> 1 | AO17: =COUNTA(I17:AM17) -> 0
B18: 13 | F18: ０３０５１ | G18: 浜風町７ | H18: ０．７ | AN18: =IF(COUNTA(I18:AM18)=0,1,1-COUNTIF(I18:AM18,"☓")/31) -> 1 | AO18: =COUNTA(I18:AM18) -> 0
B19: 14 | F19: ０３０５２ | G19: 浜風町３ | H19: ０．７ | AN19: =IF(COUNTA(I19:AM19)=0,1,1-COUNTIF(I19:AM19,"☓")/31) -> 1 | AO19: =COUNTA(I19:AM19) -> 0
B20: 15 | F20: ０３０５３ | G20: 浜風町６ | H20: ０．７ | AN20: =IF(COUNTA(I20:AM20)=0,1,1-COUNTIF(I20:AM20,"☓")/31) -> 1 | AO20: =COUNTA(I20:AM20) -> 0
B21: 16 | F21: ０３０６１ | G21: 浜風町５ | H21: ０．７ | AN21: =IF(COUNTA(I21:AM21)=0,1,1-COUNTIF(I21:AM21,"☓")/31) -> 1 | AO21: =COUNTA(I21:AM21) -> 0
B22: 17 | F22: ０３０５４ | G22: 浜風町６ | H22: ０．７ | AN22: =IF(COUNTA(I22:AM22)=0,1,1-COUNTIF(I22:AM22,"☓")/31) -> 1 | AO22: =COUNTA(I22:AM22) -> 0
F23: 合計 | I23: =1-(COUNTIF(I12:I22,"☓"))/11 -> 1 | J23: =1-(COUNTIF(J12:J22,"☓"))/11 -> 1 | K23: =1-(COUNTIF(K12:K22,"☓"))/11 -> 1 | L23: =1-(COUNTIF(L12:L22,"☓"))/11 -> 1 | M23: =1-(COUNTIF(M12:M22,"☓"))/11 -> 1 | N23: =1-(COUNTIF(N12:N22,"☓"))/11 -> 1 | O23: =1-(COUNTIF(O12:O22,"☓"))/11 -> 1 | P23: =1-(COUNTIF(P12:P22,"☓"))/11 -> 1 | ... AM23: =1-(COUNTIF(AM12:AM22,"☓"))/11 -> 1 | AN23: =IF(AO23=0,"100%",AVERAGE(AN12:AN22)) -> 100% | AO23: =SUM(AO12:AO22) -> 0
B24: 18 | E24: Ｇライン | F24: ０３０７１ | G24: 新浜町４ | H24: ０．７ | AN24: =IF(COUNTA(I24:AM24)=0,1,1-COUNTIF(I24:AM24,"☓")/31) -> 1 | AO24: =COUNTA(I24:AM24) -> 0
B25: 19 | F25: ０３０７２ | G25: 新浜町４ | H25: ０．７ | AN25: =IF(COUNTA(I25:AM25)=0,1,1-COUNTIF(I25:AM25,"☓")/31) -> 1 | AO25: =COUNTA(I25:AM25) -> 0
B26: 20 | F26: ０３０８１ | G26: 新浜町５ | H26: ０．７ | AN26: =IF(COUNTA(I26:AM26)=0,1,1-COUNTIF(I26:AM26,"☓")/31) -> 1 | AO26: =COUNTA(I26:AM26) -> 0
B27: 21 | F27: ０３１３９ | G27: 新浜町２ | H27: １．５ | AN27: =IF(COUNTA(I27:AM27)=0,1,1-COUNTIF(I27:AM27,"☓")/31) -> 1 | AO27: =COUNTA(I27:AM27) -> 0
B28: 22 | F28: ０３１４９ | G28: 新浜町２ | H28: １．５ | AN28: =IF(COUNTA(I28:AM28)=0,1,1-COUNTIF(I28:AM28,"☓")/31) -> 1 | AO28: =COUNTA(I28:AM28) -> 0
B29: 23 | F29: ０３１５９ | G29: 新浜町２ | H29: １．５ | AN29: =IF(COUNTA(I29:AM29)=0,1,1-COUNTIF(I29:AM29,"☓")/31) -> 1 | AO29: =COUNTA(I29:AM29) -> 0
B30: 24 | F30: ０３１１１ | G30: 新浜町６ | H30: ０．７ | AN30: =IF(COUNTA(I30:AM30)=0,1,1-COUNTIF(I30:AM30,"☓")/31) -> 1 | AO30: =COUNTA(I30:AM30) -> 0
B31: 25 | F31: ０３０９９ | G31: 浜風町３０ | H31: １．５ | AN31: =IF(COUNTA(I31:AM31)=0,1,1-COUNTIF(I31:AM31,"☓")/31) -> 1 | AO31: =COUNTA(I31:AM31) -> 0
B32: 26 | F32: ０３１１２ | G32: 新浜町７ | H32: ０．７ | AN32: =IF(COUNTA(I32:AM32)=0,1,1-COUNTIF(I32:AM32,"☓")/31) -> 1 | AO32: =COUNTA(I32:AM32) -> 0
B33: 27 | F33: ０３１１３ | G33: 新浜町８ | H33: ０．７ | AN33: =IF(COUNTA(I33:AM33)=0,1,1-COUNTIF(I33:AM33,"☓")/31) -> 1 | AO33: =COUNTA(I33:AM33) -> 0
B34: 28 | F34: ０３１０１ | G34: 新浜町７ | H34: ０．７ | AN34: =IF(COUNTA(I34:AM34)=0,1,1-COUNTIF(I34:AM34,"☓")/31) -> 1 | AO34: =COUNTA(I34:AM34) -> 0
F35: 合計 | I35: =1-(COUNTIF(I24:I34,"☓"))/11 -> 1 | J35: =1-(COUNTIF(J24:J34,"☓"))/11 -> 1 | K35: =1-(COUNTIF(K24:K34,"☓"))/11 -> 1 | L35: =1-(COUNTIF(L24:L34,"☓"))/11 -> 1 | M35: =1-(COUNTIF(M24:M34,"☓"))/11 -> 1 | N35: =1-(COUNTIF(N24:N34,"☓"))/11 -> 1 | O35: =1-(COUNTIF(O24:O34,"☓"))/11 -> 1 | P35: =1-(COUNTIF(P24:P34,"☓"))/11 -> 1 | ... AM35: =1-(COUNTIF(AM24:AM34,"☓"))/11 -> 1 | AN35: =IF(AO35=0,"100%",AVERAGE(AN24:AN34)) -> 100% | AO35: =SUM(AO24:AO34) -> 0
B36: 29 | D36: ４００系統 | F36: ０４０１９ | G36: 高浜町９－２ | H36: １．５ | I36: ☓ | J36: ☓ | K36: ☓ | L36: ☓ | M36: ☓ | N36: ☓ | O36: ☓ | P36: ☓ | Q36: ☓ | R36: ☓ | S36: ☓ | T36: ☓ | U36: ☓ | V36: ☓ | W36: ☓ | X36: ☓ | Y36: ☓ | Z36: ☓ | AA36: ☓ | AB36: ☓ | AC36: ☓ | AD36: ☓ | AE36: ☓ | AF36: ☓ | AG36: ☓ | AH36: ☓ | AI36: ☓ | AJ36: ☓ | AK36: ☓ | AL36: ☓ | AM36: ☓ | AN36: =IF(COUNTA(I36:AM36)=0,1,1-COUNTIF(I36:AM36,"☓")/31) -> 0 | AO36: =COUNTA(I36:AM36) -> 31
B37: 30 | F37: ０４０２９ | G37: 高浜町９－１ | H37: １．５ | I37: ☓ | J37: ☓ | K37: ☓ | L37: ☓ | M37: ☓ | N37: ☓ | O37: ☓ | P37: ☓ | Q37: ☓ | R37: ☓ | S37: ☓ | T37: ☓ | U37: ☓ | V37: ☓ | W37: ☓ | X37: ☓ | Y37: ☓ | Z37: ☓ | AA37: ☓ | AB37: ☓ | AC37: ☓ | AD37: ☓ | AE37: ☓ | AF37: ☓ | AG37: ☓ | AH37: ☓ | AI37: ☓ | AJ37: ☓ | AK37: ☓ | AL37: ☓ | AM37: ☓ | AN37: =IF(COUNTA(I37:AM37)=0,1,1-COUNTIF(I37:AM37,"☓")/31) -> 0 | AO37: =COUNTA(I37:AM37) -> 31
B38: 31 | F38: ０４０３９ | G38: 高浜町８－３ | H38: １．０ | I38: ☓ | J38: ☓ | K38: ☓ | L38: ☓ | M38: ☓ | N38: ☓ | O38: ☓ | P38: ☓ | Q38: ☓ | R38: ☓ | S38: ☓ | T38: ☓ | U38: ☓ | V38: ☓ | W38: ☓ | X38: ☓ | Y38: ☓ | Z38: ☓ | AA38: ☓ | AB38: ☓ | AC38: ☓ | AD38: ☓ | AE38: ☓ | AF38: ☓ | AG38: ☓ | AH38: ☓ | AI38: ☓ | AJ38: ☓ | AK38: ☓ | AL38: ☓ | AM38: ☓ | AN38: =IF(COUNTA(I38:AM38)=0,1,1-COUNTIF(I38:AM38,"☓")/31) -> 0 | AO38: =COUNTA(I38:AM38) -> 31
B39: 32 | F39: ０４０４９ | G39: 高浜町８－２ | H39: １．０ | I39: ☓ | J39: ☓ | K39: ☓ | L39: ☓ | M39: ☓ | N39: ☓ | O39: ☓ | P39: ☓ | Q39: ☓ | R39: ☓ | S39: ☓ | T39: ☓ | U39: ☓ | V39: ☓ | W39: ☓ | X39: ☓ | Y39: ☓ | Z39: ☓ | AA39: ☓ | AB39: ☓ | AC39: ☓ | AD39: ☓ | AE39: ☓ | AF39: ☓ | AG39: ☓ | AH39: ☓ | AI39: ☓ | AJ39: ☓ | AK39: ☓ | AL39: ☓ | AM39: ☓ | AN39: =IF(COUNTA(I39:AM39)=0,1,1-COUNTIF(I39:AM39,"☓")/31) -> 0 | AO39: =COUNTA(I39:AM39) -> 31
F40: 合計 | I40: =1-(COUNTIF(I36:I39,"☓"))/4 -> 0 | J40: =1-(COUNTIF(J36:J39,"☓"))/4 -> 0 | K40: =1-(COUNTIF(K36:K39,"☓"))/4 -> 0 | L40: =1-(COUNTIF(L36:L39,"☓"))/4 -> 0 | M40: =1-(COUNTIF(M36:M39,"☓"))/4 -> 0 | N40: =1-(COUNTIF(N36:N39,"☓"))/4 -> 0 | O40: =1-(COUNTIF(O36:O39,"☓"))/4 -> 0 | P40: =1-(COUNTIF(P36:P39,"☓"))/4 -> 0 | ... Z40: =1-(COUNTIF(Z36:Z39,"☓"))/4 -> 0 | AA40: =1-(COUNTIF(AA42:AA45,"☓"))/4 -> 1 | AB40: =1-(COUNTIF(AB36:AB39,"☓"))/4 -> 0 | AC40: =1-(COUNTIF(AC36:AC39,"☓"))/4 -> 0 | AD40: =1-(COUNTIF(AD36:AD39,"☓"))/4 -> 0 | AE40: =1-(COUNTIF(AE36:AE39,"☓"))/4 -> 0 | AF40: =1-(COUNTIF(AF36:AF39,"☓"))/4 -> 0 | AG40: =1-(COUNTIF(AG36:AG39,"☓"))/4 -> 0 | AH40: =1-(COUNTIF(AH36:AH39,"☓"))/4 -> 0 | AI40: =1-(COUNTIF(AI36:AI39,"☓"))/4 -> 0 | ... AM40: =1-(COUNTIF(AM36:AM39,"☓"))/4 -> 0 | AN40: =IF(AO40=0,"100%",AVERAGE(AN36:AN39)) -> 0 | AO40: =SUM(AO36:AO39) -> 124
B41: 33 | D41: ５００系統 | F41: ０５０１９ | G41: 高浜町８－１ | H41: １．０ | AN41: =IF(COUNTA(I41:AM41)=0,1,1-COUNTIF(I41:AM41,"☓")/31) -> 1 | AO41: =COUNTA(I41:AM41) -> 0
B42: 34 | F42: ０５０２９ | G42: 高浜町５－１ | H42: １．５ | AN42: =IF(COUNTA(I42:AM42)=0,1,1-COUNTIF(I42:AM42,"☓")/31) -> 1 | AO42: =COUNTA(I42:AM42) -> 0
B43: 35 | F43: ０５０３９ | G43: 高浜町５－２ | H43: １．５ | AN43: =IF(COUNTA(I43:AM43)=0,1,1-COUNTIF(I43:AM43,"☓")/31) -> 1 | AO43: =COUNTA(I43:AM43) -> 0
B44: 36 | F44: ０５０４９ | G44: 高浜町３－１ | H44: １．５ | AN44: =IF(COUNTA(I44:AM44)=0,1,1-COUNTIF(I44:AM44,"☓")/31) -> 1 | AO44: =COUNTA(I44:AM44) -> 0
B45: 37 | F45: ０５０５９ | G45: 高浜町２－１ | H45: １．５ | AN45: =IF(COUNTA(I45:AM45)=0,1,1-COUNTIF(I45:AM45,"☓")/31) -> 1 | AO45: =COUNTA(I45:AM45) -> 0
B46: 38 | F46: ０５０６９ | G46: 高浜町２－２ | H46: １．５ | AN46: =IF(COUNTA(I46:AM46)=0,1,1-COUNTIF(I46:AM46,"☓")/31) -> 1 | AO46: =COUNTA(I46:AM46) -> 0
B47: 39 | F47: ０５０７９ | G47: 高浜町２－３ | H47: １．５ | AN47: =IF(COUNTA(I47:AM47)=0,1,1-COUNTIF(I47:AM47,"☓")/31) -> 1 | AO47: =COUNTA(I47:AM47) -> 0
B48: 40 | F48: ０５０８９ | G48: 高浜町４－２ | H48: １．５ | AN48: =IF(COUNTA(I48:AM48)=0,1,1-COUNTIF(I48:AM48,"☓")/31) -> 1 | AO48: =COUNTA(I48:AM48) -> 0
B49: 41 | F49: ０５０９９ | G49: 高浜町４－１ | H49: １．５ | AN49: =IF(COUNTA(I49:AM49)=0,1,1-COUNTIF(I49:AM49,"☓")/31) -> 1 | AO49: =COUNTA(I49:AM49) -> 0
B50: 42 | F50: ０５１３１ | G50: 新浜町１ | H50: ０．４ | AN50: =IF(COUNTA(I50:AM50)=0,1,1-COUNTIF(I50:AM50,"☓")/31) -> 1 | AO50: =COUNTA(I50:AM50) -> 0
B51: 43 | F51: ０５１４１ | G51: 新浜町１ | H51: ０．７ | AN51: =IF(COUNTA(I51:AM51)=0,1,1-COUNTIF(I51:AM51,"☓")/31) -> 1 | AO51: =COUNTA(I51:AM51) -> 0
F52: 合計 | I52: =1-(COUNTIF(I41:I51,"☓"))/11 -> 1 | J52: =1-(COUNTIF(J41:J51,"☓"))/11 -> 1 | K52: =1-(COUNTIF(K41:K51,"☓"))/11 -> 1 | L52: =1-(COUNTIF(L41:L51,"☓"))/11 -> 1 | M52: =1-(COUNTIF(M41:M51,"☓"))/11 -> 1 | N52: =1-(COUNTIF(N41:N51,"☓"))/11 -> 1 | O52: =1-(COUNTIF(O41:O51,"☓"))/11 -> 1 | P52: =1-(COUNTIF(P41:P51,"☓"))/11 -> 1 | ... AM52: =1-(COUNTIF(AM41:AM51,"☓"))/11 -> 1 | AN52: =IF(AO52=0,"100%",AVERAGE(AN41:AN51)) -> 100% | AO52: =SUM(AO41:AO51) -> 0
B53: 44 | D53: ６００系統 | F53: ０６０１１ | G53: 浜風町１６ | H53: ０．７ | AN53: =IF(COUNTA(I53:AM53)=0,1,1-COUNTIF(I53:AM53,"☓")/31) -> 1 | AO53: =COUNTA(I53:AM53) -> 0
B54: 45 | F54: ０６０１２ | G54: 浜風町９ | H54: ０．７ | AN54: =IF(COUNTA(I54:AM54)=0,1,1-COUNTIF(I54:AM54,"☓")/31) -> 1 | AO54: =COUNTA(I54:AM54) -> 0
B55: 46 | F55: ０６０２１ | G55: 浜風町１５ | H55: ０．７ | AN55: =IF(COUNTA(I55:AM55)=0,1,1-COUNTIF(I55:AM55,"☓")/31) -> 1 | AO55: =COUNTA(I55:AM55) -> 0
B56: 47 | F56: ０６０３１ | G56: 浜風町１１ | H56: ０．７ | AN56: =IF(COUNTA(I56:AM56)=0,1,1-COUNTIF(I56:AM56,"☓")/31) -> 1 | AO56: =COUNTA(I56:AM56) -> 0
B57: 48 | F57: ０６０４１ | G57: 浜風町１３ | H57: ０．７ | AN57: =IF(COUNTA(I57:AM57)=0,1,1-COUNTIF(I57:AM57,"☓")/31) -> 1 | AO57: =COUNTA(I57:AM57) -> 0
B58: 49 | F58: ０６０５１ | G58: 浜風町１０ | H58: ０．７ | AN58: =IF(COUNTA(I58:AM58)=0,1,1-COUNTIF(I58:AM58,"☓")/31) -> 1 | AO58: =COUNTA(I58:AM58) -> 0
F59: 合計 | I59: =1-(COUNTIF(I53:I58,"☓"))/6 -> 1 | J59: =1-(COUNTIF(J53:J58,"☓"))/6 -> 1 | K59: =1-(COUNTIF(K53:K58,"☓"))/6 -> 1 | L59: =1-(COUNTIF(L53:L58,"☓"))/6 -> 1 | M59: =1-(COUNTIF(M53:M58,"☓"))/6 -> 1 | N59: =1-(COUNTIF(N53:N58,"☓"))/6 -> 1 | O59: =1-(COUNTIF(O53:O58,"☓"))/6 -> 1 | P59: =1-(COUNTIF(P53:P58,"☓"))/6 -> 1 | ... AM59: =1-(COUNTIF(AM53:AM58,"☓"))/6 -> 1 | AN59: =IF(AO59=0,"100%",AVERAGE(AN48:AN58)) -> 100% | AO59: =SUM(AO53:AO58) -> 0
B60: 50 | D60: ７００系統 | F60: ０７０１９ | G60: 高浜町７－１ | H60: １．０ | AN60: =IF(COUNTA(I60:AM60)=0,1,1-COUNTIF(I60:AM60,"☓")/31) -> 1 | AO60: =COUNTA(I60:AM60) -> 0
B61: 51 | F61: ０７０２９ | G61: 高浜町７－２ | H61: １．０ | AN61: =IF(COUNTA(I61:AM61)=0,1,1-COUNTIF(I61:AM61,"☓")/31) -> 1 | AO61: =COUNTA(I61:AM61) -> 0
F62: 合計 | I62: =1-(COUNTIF(I60:I61,"☓"))/2 -> 1 | J62: =1-(COUNTIF(J60:J61,"☓"))/2 -> 1 | K62: =1-(COUNTIF(K60:K61,"☓"))/2 -> 1 | L62: =1-(COUNTIF(L60:L61,"☓"))/2 -> 1 | M62: =1-(COUNTIF(M60:M61,"☓"))/2 -> 1 | N62: =1-(COUNTIF(N60:N61,"☓"))/2 -> 1 | O62: =1-(COUNTIF(O60:O61,"☓"))/2 -> 1 | P62: =1-(COUNTIF(P60:P61,"☓"))/2 -> 1 | ... AM62: =1-(COUNTIF(AM60:AM61,"☓"))/2 -> 1 | AN62: =IF(AO62=0,"100%",AVERAGE(I62:AM62)) -> 100% | AO62: =SUM(AO60:AO61) -> 0
B63: 52 | C63: 宮川西側 | D63: ８００系統 | F63: ０８０１９ | G63: 若葉町４－１ | H63: １．５ | AN63: =IF(COUNTA(I63:AM63)=0,1,1-COUNTIF(I63:AM63,"☓")/31) -> 1 | AO63: =COUNTA(I63:AM63) -> 0
B64: 53 | F64: ０８０２９ | G64: 若葉町５－１ | H64: １．５ | AN64: =IF(COUNTA(I64:AM64)=0,1,1-COUNTIF(I64:AM64,"☓")/31) -> 1 | AO64: =COUNTA(I64:AM64) -> 0
B65: 54 | F65: ０８０３９ | G65: 若葉町５－２ | H65: １．５ | AN65: =IF(COUNTA(I65:AM65)=0,1,1-COUNTIF(I65:AM65,"☓")/31) -> 1 | AO65: =COUNTA(I65:AM65) -> 0
B66: 55 | F66: ０８０４９ | G66: 若葉町６－１ | H66: １．５ | AN66: =IF(COUNTA(I66:AM66)=0,1,1-COUNTIF(I66:AM66,"☓")/31) -> 1 | AO66: =COUNTA(I66:AM66) -> 0
B67: 56 | F67: ０８０５９ | G67: 若葉町６－２ | H67: １．５ | AN67: =IF(COUNTA(I67:AM67)=0,1,1-COUNTIF(I67:AM67,"☓")/31) -> 1 | AO67: =COUNTA(I67:AM67) -> 0
B68: 57 | F68: ０８０６９ | G68: 若葉町７－２ | H68: １．０ | AN68: =IF(COUNTA(I68:AM68)=0,1,1-COUNTIF(I68:AM68,"☓")/31) -> 1 | AO68: =COUNTA(I68:AM68) -> 0
B69: 58 | F69: ０８０７９ | G69: 若葉町７－３ | H69: １．０ | AN69: =IF(COUNTA(I69:AM69)=0,1,1-COUNTIF(I69:AM69,"☓")/31) -> 1 | AO69: =COUNTA(I69:AM69) -> 0
F70: 合計 | I70: =1-(COUNTIF(I63:I69,"☓"))/7 -> 1 | J70: =1-(COUNTIF(J63:J69,"☓"))/7 -> 1 | K70: =1-(COUNTIF(K63:K69,"☓"))/7 -> 1 | L70: =1-(COUNTIF(L63:L69,"☓"))/7 -> 1 | M70: =1-(COUNTIF(M63:M69,"☓"))/7 -> 1 | N70: =1-(COUNTIF(N63:N69,"☓"))/7 -> 1 | O70: =1-(COUNTIF(O63:O69,"☓"))/7 -> 1 | P70: =1-(COUNTIF(P63:P69,"☓"))/7 -> 1 | ... AM70: =1-(COUNTIF(AM63:AM69,"☓"))/7 -> 1 | AN70: =IF(AO70=0,"100%",AVERAGE(I70:AM70)) -> 100% | AO70: =SUM(AO63:AO69) -> 0
B71: 59 | D71: ９００系統 | F71: ０９０１９ | G71: 若葉町２－１ | H71: １．５ | AN71: =IF(COUNTA(I71:AM71)=0,1,1-COUNTIF(I71:AM71,"☓")/31) -> 1 | AO71: =COUNTA(I71:AM71) -> 0
B72: 60 | F72: ０９０２９ | G72: 若葉町２－２ | H72: １．５ | AN72: =IF(COUNTA(I72:AM72)=0,1,1-COUNTIF(I72:AM72,"☓")/31) -> 1 | AO72: =COUNTA(I72:AM72) -> 0
F73: 合計 | I73: =1-(COUNTIF(I71:I72,"☓"))/2 -> 1 | J73: =1-(COUNTIF(J71:J72,"☓"))/2 -> 1 | K73: =1-(COUNTIF(K71:K72,"☓"))/2 -> 1 | L73: =1-(COUNTIF(L71:L72,"☓"))/2 -> 1 | M73: =1-(COUNTIF(M71:M72,"☓"))/2 -> 1 | N73: =1-(COUNTIF(N71:N72,"☓"))/2 -> 1 | O73: =1-(COUNTIF(O71:O72,"☓"))/2 -> 1 | P73: =1-(COUNTIF(P71:P72,"☓"))/2 -> 1 | ... AM73: =1-(COUNTIF(AM71:AM72,"☓"))/2 -> 1 | AN73: =IF(AO73=0,"100%",AVERAGE(I73:AM73)) -> 100% | AO73: =SUM(AO71:AO72) -> 0
B74: 61 | D74: １０００系統 | F74: １００１９ | G74: 若葉町４－２ | H74: １．５ | AN74: =IF(COUNTA(I74:AM74)=0,1,1-COUNTIF(I74:AM74,"☓")/31) -> 1 | AO74: =COUNTA(I74:AM74) -> 0
B75: 62 | F75: １００２９ | G75: 若葉町７－１ | H75: １．０ | AN75: =IF(COUNTA(I75:AM75)=0,1,1-COUNTIF(I75:AM75,"☓")/31) -> 1 | AO75: =COUNTA(I75:AM75) -> 0
F76: 合計 | I76: =1-(COUNTIF(I74:I75,"☓"))/2 -> 1 | J76: =1-(COUNTIF(J74:J75,"☓"))/2 -> 1 | K76: =1-(COUNTIF(K74:K75,"☓"))/2 -> 1 | L76: =1-(COUNTIF(L74:L75,"☓"))/2 -> 1 | M76: =1-(COUNTIF(M74:M75,"☓"))/2 -> 1 | N76: =1-(COUNTIF(N74:N75,"☓"))/2 -> 1 | O76: =1-(COUNTIF(O74:O75,"☓"))/2 -> 1 | P76: =1-(COUNTIF(P74:P75,"☓"))/2 -> 1 | ... AM76: =1-(COUNTIF(AM74:AM75,"☓"))/2 -> 1 | AN76: =IF(AO76=0,"100%",AVERAGE(I76:AM76)) -> 100% | AO76: =SUM(AO74:AO75) -> 0
B77: 63 | D77: １１００系統 | F77: １１０１１ | G77: 緑町２ | H77: ０．７ | AN77: =IF(COUNTA(I77:AM77)=0,1,1-COUNTIF(I77:AM77,"☓")/31) -> 1 | AO77: =COUNTA(I77:AM77) -> 0
B78: 64 | F78: １１０２１ | G78: 緑町１ | H78: ０．７ | AN78: =IF(COUNTA(I78:AM78)=0,1,1-COUNTIF(I78:AM78,"☓")/31) -> 1 | AO78: =COUNTA(I78:AM78) -> 0
B79: 65 | F79: １１０３１ | G79: 緑町２ | H79: ０．７ | I79: ☓ | J79: ☓ | K79: ☓ | L79: ☓ | M79: ☓ | N79: ☓ | O79: ☓ | P79: ☓ | Q79: ☓ | R79: ☓ | S79: ☓ | T79: ☓ | U79: ☓ | V79: ☓ | W79: ☓ | X79: ☓ | Y79: ☓ | Z79: ☓ | AA79: ☓ | AB79: ☓ | AC79: ☓ | AD79: ☓ | AE79: ☓ | AN79: =IF(COUNTA(I79:AM79)=0,1,1-COUNTIF(I79:AM79,"☓")/31) -> 0.25806452 | AO79: =COUNTA(I79:AM79) -> 23
B80: 66 | F80: １１０４１ | G80: 緑町３ | H80: ０．７ | AN80: =IF(COUNTA(I80:AM80)=0,1,1-COUNTIF(I80:AM80,"☓")/31) -> 1 | AO80: =COUNTA(I80:AM80) -> 0
B81: 67 | F81: １１０５１ | G81: 緑町４ | H81: ０．７ | AN81: =IF(COUNTA(I81:AM81)=0,1,1-COUNTIF(I81:AM81,"☓")/31) -> 1 | AO81: =COUNTA(I81:AM81) -> 0
B82: 68 | F82: １１０６１ | G82: 緑町５ | H82: ０．７ | I82: ☓ | J82: ☓ | K82: ☓ | L82: ☓ | M82: ☓ | N82: ☓ | O82: ☓ | P82: ☓ | Q82: ☓ | R82: ☓ | S82: ☓ | T82: ☓ | U82: ☓ | V82: ☓ | W82: ☓ | X82: ☓ | Y82: ☓ | Z82: ☓ | AA82: ☓ | AB82: ☓ | AC82: ☓ | AD82: ☓ | AE82: ☓ | AN82: =IF(COUNTA(I82:AM82)=0,1,1-COUNTIF(I82:AM82,"☓")/31) -> 0.25806452 | AO82: =COUNTA(I82:AM82) -> 23
B83: 69 | F83: １１０６２ | G83: 緑町５ | H83: ０．７ | I83: ☓ | J83: ☓ | K83: ☓ | L83: ☓ | M83: ☓ | N83: ☓ | O83: ☓ | P83: ☓ | Q83: ☓ | R83: ☓ | S83: ☓ | T83: ☓ | U83: ☓ | V83: ☓ | W83: ☓ | X83: ☓ | Y83: ☓ | Z83: ☓ | AA83: ☓ | AB83: ☓ | AC83: ☓ | AD83: ☓ | AE83: ☓ | AF83: ☓ | AG83: ☓ | AH83: ☓ | AI83: ☓ | AJ83: ☓ | AK83: ☓ | AL83: ☓ | AM83: ☓ | AN83: =IF(COUNTA(I83:AM83)=0,1,1-COUNTIF(I83:AM83,"☓")/31) -> 0 | AO83: =COUNTA(I83:AM83) -> 31
B84: 70 | F84: １１０６３ | G84: 潮見町８ | H84: ０．７ | I84: ☓ | J84: ☓ | K84: ☓ | L84: ☓ | M84: ☓ | N84: ☓ | O84: ☓ | P84: ☓ | Q84: ☓ | R84: ☓ | S84: ☓ | T84: ☓ | U84: ☓ | V84: ☓ | W84: ☓ | X84: ☓ | Y84: ☓ | Z84: ☓ | AA84: ☓ | AB84: ☓ | AC84: ☓ | AD84: ☓ | AE84: ☓ | AF84: ☓ | AG84: ☓ | AH84: ☓ | AI84: ☓ | AJ84: ☓ | AK84: ☓ | AL84: ☓ | AM84: ☓ | AN84: =IF(COUNTA(I84:AM84)=0,1,1-COUNTIF(I84:AM84,"☓")/31) -> 0 | AO84: =COUNTA(I84:AM84) -> 31
B85: 71 | F85: １１０７１ | G85: 緑町７ | H85: ０．７ | I85: ☓ | J85: ☓ | K85: ☓ | L85: ☓ | M85: ☓ | N85: ☓ | O85: ☓ | P85: ☓ | Q85: ☓ | R85: ☓ | S85: ☓ | T85: ☓ | U85: ☓ | V85: ☓ | W85: ☓ | X85: ☓ | Y85: ☓ | Z85: ☓ | AA85: ☓ | AB85: ☓ | AC85: ☓ | AD85: ☓ | AE85: ☓ | AF85: ☓ | AG85: ☓ | AH85: ☓ | AI85: ☓ | AJ85: ☓ | AK85: ☓ | AL85: ☓ | AM85: ☓ | AN85: =IF(COUNTA(I85:AM85)=0,1,1-COUNTIF(I85:AM85,"☓")/31) -> 0 | AO85: =COUNTA(I85:AM85) -> 31
B86: 72 | F86: １１０８１ | G86: 緑町１０ | H86: ０．７ | I86: ☓ | J86: ☓ | K86: ☓ | L86: ☓ | M86: ☓ | N86: ☓ | O86: ☓ | P86: ☓ | Q86: ☓ | R86: ☓ | S86: ☓ | T86: ☓ | U86: ☓ | V86: ☓ | W86: ☓ | X86: ☓ | Y86: ☓ | Z86: ☓ | AA86: ☓ | AB86: ☓ | AC86: ☓ | AD86: ☓ | AE86: ☓ | AF86: ☓ | AG86: ☓ | AH86: ☓ | AI86: ☓ | AJ86: ☓ | AK86: ☓ | AL86: ☓ | AM86: ☓ | AN86: =IF(COUNTA(I86:AM86)=0,1,1-COUNTIF(I86:AM86,"☓")/31) -> 0 | AO86: =COUNTA(I86:AM86) -> 31
B87: 73 | F87: １１０９１ | G87: 緑町６ | H87: ０．７ | I87: ☓ | J87: ☓ | K87: ☓ | L87: ☓ | M87: ☓ | N87: ☓ | O87: ☓ | P87: ☓ | Q87: ☓ | R87: ☓ | S87: ☓ | T87: ☓ | U87: ☓ | V87: ☓ | W87: ☓ | X87: ☓ | Y87: ☓ | Z87: ☓ | AA87: ☓ | AB87: ☓ | AC87: ☓ | AD87: ☓ | AE87: ☓ | AF87: ☓ | AG87: ☓ | AH87: ☓ | AI87: ☓ | AJ87: ☓ | AK87: ☓ | AL87: ☓ | AM87: ☓ | AN87: =IF(COUNTA(I87:AM87)=0,1,1-COUNTIF(I87:AM87,"☓")/31) -> 0 | AO87: =COUNTA(I87:AM87) -> 31
B88: 74 | F88: １１１０１ | G88: 緑町９ | H88: ０．７ | I88: ☓ | J88: ☓ | K88: ☓ | L88: ☓ | M88: ☓ | N88: ☓ | O88: ☓ | P88: ☓ | Q88: ☓ | R88: ☓ | S88: ☓ | T88: ☓ | U88: ☓ | V88: ☓ | W88: ☓ | X88: ☓ | Y88: ☓ | Z88: ☓ | AA88: ☓ | AB88: ☓ | AC88: ☓ | AD88: ☓ | AE88: ☓ | AF88: ☓ | AG88: ☓ | AH88: ☓ | AI88: ☓ | AJ88: ☓ | AK88: ☓ | AL88: ☓ | AM88: ☓ | AN88: =IF(COUNTA(I88:AM88)=0,1,1-COUNTIF(I88:AM88,"☓")/31) -> 0 | AO88: =COUNTA(I88:AM88) -> 31
B89: 75 | F89: １１１１１ | G89: 潮見町８ | H89: ０．７ | I89: ☓ | J89: ☓ | K89: ☓ | L89: ☓ | M89: ☓ | N89: ☓ | O89: ☓ | P89: ☓ | Q89: ☓ | R89: ☓ | S89: ☓ | T89: ☓ | U89: ☓ | V89: ☓ | W89: ☓ | X89: ☓ | Y89: ☓ | Z89: ☓ | AA89: ☓ | AB89: ☓ | AC89: ☓ | AD89: ☓ | AE89: ☓ | AF89: ☓ | AG89: ☓ | AH89: ☓ | AI89: ☓ | AJ89: ☓ | AK89: ☓ | AL89: ☓ | AM89: ☓ | AN89: =IF(COUNTA(I89:AM89)=0,1,1-COUNTIF(I89:AM89,"☓")/31) -> 0 | AO89: =COUNTA(I89:AM89) -> 31
B90: 76 | F90: １１１２９ | G90: 緑町１ | H90: １．５ | I90: ☓ | J90: ☓ | K90: ☓ | L90: ☓ | M90: ☓ | N90: ☓ | O90: ☓ | P90: ☓ | Q90: ☓ | R90: ☓ | S90: ☓ | T90: ☓ | U90: ☓ | V90: ☓ | W90: ☓ | X90: ☓ | Y90: ☓ | Z90: ☓ | AA90: ☓ | AB90: ☓ | AC90: ☓ | AD90: ☓ | AE90: ☓ | AN90: =IF(COUNTA(I90:AM90)=0,1,1-COUNTIF(I90:AM90,"☓")/31) -> 0.25806452 | AO90: =COUNTA(I90:AM90) -> 23
B91: 77 | F91: １１１３９ | G91: 緑町１ | H91: １．５ | I91: ☓ | J91: ☓ | K91: ☓ | L91: ☓ | M91: ☓ | N91: ☓ | O91: ☓ | P91: ☓ | Q91: ☓ | R91: ☓ | S91: ☓ | T91: ☓ | U91: ☓ | V91: ☓ | W91: ☓ | X91: ☓ | Y91: ☓ | Z91: ☓ | AA91: ☓ | AB91: ☓ | AC91: ☓ | AD91: ☓ | AE91: ☓ | AN91: =IF(COUNTA(I91:AM91)=0,1,1-COUNTIF(I91:AM91,"☓")/31) -> 0.25806452 | AO91: =COUNTA(I91:AM91) -> 23 | AS91: 31*
B92: 78 | F92: １１１４９ | G92: 緑町１ | H92: １．５ | I92: ☓ | J92: ☓ | K92: ☓ | L92: ☓ | M92: ☓ | N92: ☓ | O92: ☓ | P92: ☓ | Q92: ☓ | R92: ☓ | S92: ☓ | T92: ☓ | U92: ☓ | V92: ☓ | W92: ☓ | X92: ☓ | Y92: ☓ | Z92: ☓ | AA92: ☓ | AB92: ☓ | AC92: ☓ | AD92: ☓ | AE92: ☓ | AN92: =IF(COUNTA(I92:AM92)=0,1,1-COUNTIF(I92:AM92,"☓")/31) -> 0.25806452 | AO92: =COUNTA(I92:AM92) -> 23
F93: 合計 | I93: =1-(COUNTIF(I77:I92,"☓"))/16 -> 0.25 | J93: =1-(COUNTIF(J77:J92,"☓"))/16 -> 0.25 | K93: =1-(COUNTIF(K77:K92,"☓"))/16 -> 0.25 | L93: =1-(COUNTIF(L77:L92,"☓"))/16 -> 0.25 | M93: =1-(COUNTIF(M77:M92,"☓"))/16 -> 0.25 | N93: =1-(COUNTIF(N77:N92,"☓"))/16 -> 0.25 | O93: =1-(COUNTIF(O77:O92,"☓"))/16 -> 0.25 | P93: =1-(COUNTIF(P77:P92,"☓"))/16 -> 0.25 | ... AM93: =1-(COUNTIF(AM77:AM92,"☓"))/16 -> 0.5625 | AN93: =IF(AO93=0,"100%",AVERAGE(I93:AM93)) -> 0.33064516 | AO93: =SUM(AO77:AO92) -> 332
B94: 79 | D94: １２００系統 | F94: １２０１１ | G94: 潮見町１ | H94: ０．４ | AN94: =IF(COUNTA(I94:AM94)=0,1,1-COUNTIF(I94:AM94,"☓")/31) -> 1 | AO94: =COUNTA(I94:AM94) -> 0
B95: 80 | F95: １２０２１ | G95: 潮見町２０ | H95: ０．４ | AN95: =IF(COUNTA(I95:AM95)=0,1,1-COUNTIF(I95:AM95,"☓")/31) -> 1 | AO95: =COUNTA(I95:AM95) -> 0
B96: 81 | F96: １２０３１ | G96: 潮見町４ | H96: ０．７ | AN96: =IF(COUNTA(I96:AM96)=0,1,1-COUNTIF(I96:AM96,"☓")/31) -> 1 | AO96: =COUNTA(I96:AM96) -> 0
B97: 82 | F97: １２０３２ | G97: 潮見町３ | H97: ０．７ | AN97: =IF(COUNTA(I97:AM97)=0,1,1-COUNTIF(I97:AM97,"☓")/31) -> 1 | AO97: =COUNTA(I97:AM97) -> 0
B98: 83 | F98: １２０４１ | G98: 潮見町４ | H98: ０．７ | AN98: =IF(COUNTA(I98:AM98)=0,1,1-COUNTIF(I98:AM98,"☓")/31) -> 1 | AO98: =COUNTA(I98:AM98) -> 0
B99: 84 | F99: １２０５１ | G99: 潮見町７ | H99: ０．７ | AN99: =IF(COUNTA(I99:AM99)=0,1,1-COUNTIF(I99:AM99,"☓")/31) -> 1 | AO99: =COUNTA(I99:AM99) -> 0
B100: 85 | F100: １２０６１ | G100: 潮見町５ | H100: ０．７ | AN100: =IF(COUNTA(I100:AM100)=0,1,1-COUNTIF(I100:AM100,"☓")/31) -> 1 | AO100: =COUNTA(I100:AM100) -> 0
B101: 86 | F101: １２０７１ | G101: 潮見町６ | H101: ０．７ | AN101: =IF(COUNTA(I101:AM101)=0,1,1-COUNTIF(I101:AM101,"☓")/31) -> 1 | AO101: =COUNTA(I101:AM101) -> 0
...

Sheet 8月（停止あり）
B2: Ｎｏ． | C2: 地区 | D2: 系統 | F2: 投入口ｱﾄﾞﾚｽ | G2: 住所 | H2: 容量（ｍ２） | I2: 8月 | AN2: 稼働率 | AO2: 停止日数
I3: 1 | J3: 2 | K3: 3 | L3: 4 | M3: 5 | N3: 6 | O3: 7 | P3: 8 | Q3: 9 | R3: 10 | S3: 11 | T3: 12 | U3: 13 | V3: 14 | W3: 15 | X3: 16 | Y3: 17 | Z3: 18 | AA3: 19 | AB3: 20 | AC3: 21 | AD3: 22 | AE3: 23 | AF3: 24 | AG3: 25 | AH3: 26 | AI3: 27 | AJ3: 28 | AK3: 29 | AL3: 30 | AM3: 31
H4: ☓ | I4: 木 | J4: 金 | K4: 土 | L4: 日 | M4: 月 | N4: 火 | O4: 水 | P4: 木 | Q4: 金 | R4: 土 | S4: 日 | T4: 月 | U4: 火 | V4: 水 | W4: 木 | X4: 金 | Y4: 土 | Z4: 日 | AA4: 月 | AB4: 火 | AC4: 水 | AD4: 木 | AE4: 金 | AF4: 土 | AG4: 日 | AH4: 月 | AI4: 火 | AJ4: 水 | AK4: 木 | AL4: 金 | AM4: 土
B5: 1 | C5: 宮川東側 | D5: １００系統 | F5: ０１０１１ | G5: 浜風町２１ | H5: ０．７ | AN5: =IF(COUNTA(I5:AM5)=0,1,1-COUNTIF(I5:AM5,"☓")/31) -> 1 | AO5: =COUNTA(I5:AM5) -> 0
B6: 2 | F6: ０１０１２ | G6: 浜風町２２ | H6: ０．７ | AN6: =IF(COUNTA(I6:AM6)=0,1,1-COUNTIF(I6:AM6,"☓")/31) -> 1 | AO6: =COUNTA(I6:AM6) -> 0
B7: 3 | F7: ０１０１３ | G7: 浜風町２４ | H7: ０．７ | AN7: =IF(COUNTA(I7:AM7)=0,1,1-COUNTIF(I7:AM7,"☓")/31) -> 1 | AO7: =COUNTA(I7:AM7) -> 0
B8: 4 | F8: ０１０１４ | G8: 浜風町２７ | H8: ０．７ | AN8: =IF(COUNTA(I8:AM8)=0,1,1-COUNTIF(I8:AM8,"☓")/31) -> 1 | AO8: =COUNTA(I8:AM8) -> 0
B9: 5 | F9: ０１０２１ | G9: 浜風町１９ | H9: ０．７ | AN9: =IF(COUNTA(I9:AM9)=0,1,1-COUNTIF(I9:AM9,"☓")/31) -> 1 | AO9: =COUNTA(I9:AM9) -> 0
B10: 6 | F10: ０１０３１ | G10: 浜風町１８ | H10: ０．７ | AN10: =IF(COUNTA(I10:AM10)=0,1,1-COUNTIF(I10:AM10,"☓")/31) -> 1 | AO10: =COUNTA(I10:AM10) -> 0
F11: 合計 | H11: =COUNTA(H5:H10) -> 6 | I11: =1-(COUNTIF(I5:I10,"☓"))/6 -> 1 | J11: =1-(COUNTIF(J5:J10,"☓"))/6 -> 1 | K11: =1-(COUNTIF(K5:K10,"☓"))/6 -> 1 | L11: =1-(COUNTIF(L5:L10,"☓"))/6 -> 1 | M11: =1-(COUNTIF(M5:M10,"☓"))/6 -> 1 | N11: =1-(COUNTIF(N5:N10,"☓"))/6 -> 1 | O11: =1-(COUNTIF(O5:O10,"☓"))/6 -> 1 | P11: =1-(COUNTIF(P5:P10,"☓"))/6 -> 1 | ... AM11: =1-(COUNTIF(AM5:AM10,"☓"))/6 -> 1 | AN11: =IF(AO11=0,"100%",AVERAGE(AN5:AN10)) -> 100% | AO11: =SUM(AO5:AO10) -> 0
B12: 7 | D12: ３００系統 | E12: Ｋライン | F12: ０３０１１ | G12: 浜風町１ | H12: ０．７ | AN12: =IF(COUNTA(I12:AM12)=0,1,1-COUNTIF(I12:AM12,"☓")/31) -> 1 | AO12: =COUNTA(I12:AM12) -> 0
B13: 8 | F13: ０３０３１ | G13: 浜風町８ | H13: ０．７ | AN13: =IF(COUNTA(I13:AM13)=0,1,1-COUNTIF(I13:AM13,"☓")/31) -> 1 | AO13: =COUNTA(I13:AM13) -> 0
B14: 9 | F14: ０３０３２ | G14: 浜風町２ | H14: ０．７ | AN14: =IF(COUNTA(I14:AM14)=0,1,1-COUNTIF(I14:AM14,"☓")/31) -> 1 | AO14: =COUNTA(I14:AM14) -> 0
B15: 10 | F15: ０３０２１ | G15: 浜風町８ | H15: ０．７ | AN15: =IF(COUNTA(I15:AM15)=0,1,1-COUNTIF(I15:AM15,"☓")/31) -> 1 | AO15: =COUNTA(I15:AM15) -> 0
B16: 11 | F16: ０３０３３ | G16: 浜風町７ | H16: ０．７ | AN16: =IF(COUNTA(I16:AM16)=0,1,1-COUNTIF(I16:AM16,"☓")/31) -> 1 | AO16: =COUNTA(I16:AM16) -> 0
B17: 12 | F17: ０３０４１ | G17: 浜風町７ | H17: ０．７ | AN17: =IF(COUNTA(I17:AM17)=0,1,1-COUNTIF(I17:AM17,"☓")/31) -> 1 | AO17: =COUNTA(I17:AM17) -> 0
B18: 13 | F18: ０３０５１ | G18: 浜風町７ | H18: ０．７ | AN18: =IF(COUNTA(I18:AM18)=0,1,1-COUNTIF(I18:AM18,"☓")/31) -> 1 | AO18: =COUNTA(I18:AM18) -> 0
B19: 14 | F19: ０３０５２ | G19: 浜風町３ | H19: ０．７ | AN19: =IF(COUNTA(I19:AM19)=0,1,1-COUNTIF(I19:AM19,"☓")/31) -> 1 | AO19: =COUNTA(I19:AM19) -> 0
B20: 15 | F20: ０３０５３ | G20: 浜風町６ | H20: ０．７ | AN20: =IF(COUNTA(I20:AM20)=0,1,1-COUNTIF(I20:AM20,"☓")/31) -> 1 | AO20: =COUNTA(I20:AM20) -> 0
B21: 16 | F21: ０３０６１ | G21: 浜風町５ | H21: ０．７ | AN21: =IF(COUNTA(I21:AM21)=0,1,1-COUNTIF(I21:AM21,"☓")/31) -> 1 | AO21: =COUNTA(I21:AM21) -> 0
B22: 17 | F22: ０３０５４ | G22: 浜風町６ | H22: ０．７ | AN22: =IF(COUNTA(I22:AM22)=0,1,1-COUNTIF(I22:AM22,"☓")/31) -> 1 | AO22: =COUNTA(I22:AM22) -> 0
F23: 合計 | I23: =1-(COUNTIF(I12:I22,"☓"))/11 -> 1 | J23: =1-(COUNTIF(J12:J22,"☓"))/11 -> 1 | K23: =1-(COUNTIF(K12:K22,"☓"))/11 -> 1 | L23: =1-(COUNTIF(L12:L22,"☓"))/11 -> 1 | M23: =1-(COUNTIF(M12:M22,"☓"))/11 -> 1 | N23: =1-(COUNTIF(N12:N22,"☓"))/11 -> 1 | O23: =1-(COUNTIF(O12:O22,"☓"))/11 -> 1 | P23: =1-(COUNTIF(P12:P22,"☓"))/11 -> 1 | ... AM23: =1-(COUNTIF(AM12:AM22,"☓"))/11 -> 1 | AN23: =IF(AO23=0,"100%",AVERAGE(AN12:AN22)) -> 100% | AO23: =SUM(AO12:AO22) -> 0
B24: 18 | E24: Ｇライン | F24: ０３０７１ | G24: 新浜町４ | H24: ０．７ | AN24: =IF(COUNTA(I24:AM24)=0,1,1-COUNTIF(I24:AM24,"☓")/31) -> 1 | AO24: =COUNTA(I24:AM24) -> 0
B25: 19 | F25: ０３０７２ | G25: 新浜町４ | H25: ０．７ | AN25: =IF(COUNTA(I25:AM25)=0,1,1-COUNTIF(I25:AM25,"☓")/31) -> 1 | AO25: =COUNTA(I25:AM25) -> 0
B26: 20 | F26: ０３０８１ | G26: 新浜町５ | H26: ０．７ | AN26: =IF(COUNTA(I26:AM26)=0,1,1-COUNTIF(I26:AM26,"☓")/31) -> 1 | AO26: =COUNTA(I26:AM26) -> 0
B27: 21 | F27: ０３１３９ | G27: 新浜町２ | H27: １．５ | AN27: =IF(COUNTA(I27:AM27)=0,1,1-COUNTIF(I27:AM27,"☓")/31) -> 1 | AO27: =COUNTA(I27:AM27) -> 0
B28: 22 | F28: ０３１４９ | G28: 新浜町２ | H28: １．５ | AN28: =IF(COUNTA(I28:AM28)=0,1,1-COUNTIF(I28:AM28,"☓")/31) -> 1 | AO28: =COUNTA(I28:AM28) -> 0
B29: 23 | F29: ０３１５９ | G29: 新浜町２ | H29: １．５ | AN29: =IF(COUNTA(I29:AM29)=0,1,1-COUNTIF(I29:AM29,"☓")/31) -> 1 | AO29: =COUNTA(I29:AM29) -> 0
B30: 24 | F30: ０３１１１ | G30: 新浜町６ | H30: ０．７ | AN30: =IF(COUNTA(I30:AM30)=0,1,1-COUNTIF(I30:AM30,"☓")/31) -> 1 | AO30: =COUNTA(I30:AM30) -> 0
B31: 25 | F31: ０３０９９ | G31: 浜風町３０ | H31: １．５ | AN31: =IF(COUNTA(I31:AM31)=0,1,1-COUNTIF(I31:AM31,"☓")/31) -> 1 | AO31: =COUNTA(I31:AM31) -> 0
B32: 26 | F32: ０３１１２ | G32: 新浜町７ | H32: ０．７ | AN32: =IF(COUNTA(I32:AM32)=0,1,1-COUNTIF(I32:AM32,"☓")/31) -> 1 | AO32: =COUNTA(I32:AM32) -> 0
B33: 27 | F33: ０３１１３ | G33: 新浜町８ | H33: ０．７ | AN33: =IF(COUNTA(I33:AM33)=0,1,1-COUNTIF(I33:AM33,"☓")/31) -> 1 | AO33: =COUNTA(I33:AM33) -> 0
B34: 28 | F34: ０３１０１ | G34: 新浜町７ | H34: ０．７ | AN34: =IF(COUNTA(I34:AM34)=0,1,1-COUNTIF(I34:AM34,"☓")/31) -> 1 | AO34: =COUNTA(I34:AM34) -> 0
F35: 合計 | I35: =1-(COUNTIF(I24:I34,"☓"))/11 -> 1 | J35: =1-(COUNTIF(J24:J34,"☓"))/11 -> 1 | K35: =1-(COUNTIF(K24:K34,"☓"))/11 -> 1 | L35: =1-(COUNTIF(L24:L34,"☓"))/11 -> 1 | M35: =1-(COUNTIF(M24:M34,"☓"))/11 -> 1 | N35: =1-(COUNTIF(N24:N34,"☓"))/11 -> 1 | O35: =1-(COUNTIF(O24:O34,"☓"))/11 -> 1 | P35: =1-(COUNTIF(P24:P34,"☓"))/11 -> 1 | ... AM35: =1-(COUNTIF(AM24:AM34,"☓"))/11 -> 1 | AN35: =IF(AO35=0,"100%",AVERAGE(AN24:AN34)) -> 100% | AO35: =SUM(AO24:AO34) -> 0
B36: 29 | D36: ４００系統 | F36: ０４０１９ | G36: 高浜町９－２ | H36: １．５ | I36: ☓ | J36: ☓ | K36: ☓ | L36: ☓ | M36: ☓ | N36: ☓ | O36: ☓ | P36: ☓ | Q36: ☓ | R36: ☓ | S36: ☓ | T36: ☓ | U36: ☓ | V36: ☓ | W36: ☓ | X36: ☓ | Y36: ☓ | Z36: ☓ | AA36: ☓ | AB36: ☓ | AC36: ☓ | AD36: ☓ | AE36: ☓ | AF36: ☓ | AG36: ☓ | AH36: ☓ | AI36: ☓ | AJ36: ☓ | AK36: ☓ | AL36: ☓ | AM36: ☓ | AN36: =IF(COUNTA(I36:AM36)=0,1,1-COUNTIF(I36:AM36,"☓")/31) -> 0 | AO36: =COUNTA(I36:AM36) -> 31
B37: 30 | F37: ０４０２９ | G37: 高浜町９－１ | H37: １．５ | I37: ☓ | J37: ☓ | K37: ☓ | L37: ☓ | M37: ☓ | N37: ☓ | O37: ☓ | P37: ☓ | Q37: ☓ | R37: ☓ | S37: ☓ | T37: ☓ | U37: ☓ | V37: ☓ | W37: ☓ | X37: ☓ | Y37: ☓ | Z37: ☓ | AA37: ☓ | AB37: ☓ | AC37: ☓ | AD37: ☓ | AE37: ☓ | AF37: ☓ | AG37: ☓ | AH37: ☓ | AI37: ☓ | AJ37: ☓ | AK37: ☓ | AL37: ☓ | AM37: ☓ | AN37: =IF(COUNTA(I37:AM37)=0,1,1-COUNTIF(I37:AM37,"☓")/31) -> 0 | AO37: =COUNTA(I37:AM37) -> 31
B38: 31 | F38: ０４０３９ | G38: 高浜町８－３ | H38: １．０ | I38: ☓ | J38: ☓ | K38: ☓ | L38: ☓ | M38: ☓ | N38: ☓ | O38: ☓ | P38: ☓ | Q38: ☓ | R38: ☓ | S38: ☓ | T38: ☓ | U38: ☓ | V38: ☓ | W38: ☓ | X38: ☓ | Y38: ☓ | Z38: ☓ | AA38: ☓ | AB38: ☓ | AC38: ☓ | AD38: ☓ | AE38: ☓ | AF38: ☓ | AG38: ☓ | AH38: ☓ | AI38: ☓ | AJ38: ☓ | AK38: ☓ | AL38: ☓ | AM38: ☓ | AN38: =IF(COUNTA(I38:AM38)=0,1,1-COUNTIF(I38:AM38,"☓")/31) -> 0 | AO38: =COUNTA(I38:AM38) -> 31
B39: 32 | F39: ０４０４９ | G39: 高浜町８－２ | H39: １．０ | I39: ☓ | J39: ☓ | K39: ☓ | L39: ☓ | M39: ☓ | N39: ☓ | O39: ☓ | P39: ☓ | Q39: ☓ | R39: ☓ | S39: ☓ | T39: ☓ | U39: ☓ | V39: ☓ | W39: ☓ | X39: ☓ | Y39: ☓ | Z39: ☓ | AA39: ☓ | AB39: ☓ | AC39: ☓ | AD39: ☓ | AE39: ☓ | AF39: ☓ | AG39: ☓ | AH39: ☓ | AI39: ☓ | AJ39: ☓ | AK39: ☓ | AL39: ☓ | AM39: ☓ | AN39: =IF(COUNTA(I39:AM39)=0,1,1-COUNTIF(I39:AM39,"☓")/31) -> 0 | AO39: =COUNTA(I39:AM39) -> 31
F40: 合計 | I40: =1-(COUNTIF(I36:I39,"☓"))/4 -> 0 | J40: =1-(COUNTIF(J36:J39,"☓"))/4 -> 0 | K40: =1-(COUNTIF(K36:K39,"☓"))/4 -> 0 | L40: =1-(COUNTIF(L36:L39,"☓"))/4 -> 0 | M40: =1-(COUNTIF(M36:M39,"☓"))/4 -> 0 | N40: =1-(COUNTIF(N36:N39,"☓"))/4 -> 0 | O40: =1-(COUNTIF(O36:O39,"☓"))/4 -> 0 | P40: =1-(COUNTIF(P36:P39,"☓"))/4 -> 0 | ... Z40: =1-(COUNTIF(Z36:Z39,"☓"))/4 -> 0 | AA40: =1-(COUNTIF(AA42:AA45,"☓"))/4 -> 1 | AB40: =1-(COUNTIF(AB36:AB39,"☓"))/4 -> 0 | AC40: =1-(COUNTIF(AC36:AC39,"☓"))/4 -> 0 | AD40: =1-(COUNTIF(AD36:AD39,"☓"))/4 -> 0 | AE40: =1-(COUNTIF(AE36:AE39,"☓"))/4 -> 0 | AF40: =1-(COUNTIF(AF36:AF39,"☓"))/4 -> 0 | AG40: =1-(COUNTIF(AG36:AG39,"☓"))/4 -> 0 | AH40: =1-(COUNTIF(AH36:AH39,"☓"))/4 -> 0 | AI40: =1-(COUNTIF(AI36:AI39,"☓"))/4 -> 0 | ... AM40: =1-(COUNTIF(AM36:AM39,"☓"))/4 -> 0 | AN40: =IF(AO40=0,"100%",AVERAGE(AN36:AN39)) -> 0 | AO40: =SUM(AO36:AO39) -> 124
B41: 33 | D41: ５００系統 | F41: ０５０１９ | G41: 高浜町８－１ | H41: １．０ | AN41: =IF(COUNTA(I41:AM41)=0,1,1-COUNTIF(I41:AM41,"☓")/31) -> 1 | AO41: =COUNTA(I41:AM41) -> 0
B42: 34 | F42: ０５０２９ | G42: 高浜町５－１ | H42: １．５ | AN42: =IF(COUNTA(I42:AM42)=0,1,1-COUNTIF(I42:AM42,"☓")/31) -> 1 | AO42: =COUNTA(I42:AM42) -> 0
B43: 35 | F43: ０５０３９ | G43: 高浜町５－２ | H43: １．５ | AN43: =IF(COUNTA(I43:AM43)=0,1,1-COUNTIF(I43:AM43,"☓")/31) -> 1 | AO43: =COUNTA(I43:AM43) -> 0
B44: 36 | F44: ０５０４９ | G44: 高浜町３－１ | H44: １．５ | AN44: =IF(COUNTA(I44:AM44)=0,1,1-COUNTIF(I44:AM44,"☓")/31) -> 1 | AO44: =COUNTA(I44:AM44) -> 0
B45: 37 | F45: ０５０５９ | G45: 高浜町２－１ | H45: １．５ | AN45: =IF(COUNTA(I45:AM45)=0,1,1-COUNTIF(I45:AM45,"☓")/31) -> 1 | AO45: =COUNTA(I45:AM45) -> 0
B46: 38 | F46: ０５０６９ | G46: 高浜町２－２ | H46: １．５ | AN46: =IF(COUNTA(I46:AM46)=0,1,1-COUNTIF(I46:AM46,"☓")/31) -> 1 | AO46: =COUNTA(I46:AM46) -> 0
B47: 39 | F47: ０５０７９ | G47: 高浜町２－３ | H47: １．５ | AN47: =IF(COUNTA(I47:AM47)=0,1,1-COUNTIF(I47:AM47,"☓")/31) -> 1 | AO47: =COUNTA(I47:AM47) -> 0
B48: 40 | F48: ０５０８９ | G48: 高浜町４－２ | H48: １．５ | AN48: =IF(COUNTA(I48:AM48)=0,1,1-COUNTIF(I48:AM48,"☓")/31) -> 1 | AO48: =COUNTA(I48:AM48) -> 0
B49: 41 | F49: ０５０９９ | G49: 高浜町４－１ | H49: １．５ | AN49: =IF(COUNTA(I49:AM49)=0,1,1-COUNTIF(I49:AM49,"☓")/31) -> 1 | AO49: =COUNTA(I49:AM49) -> 0
B50: 42 | F50: ０５１３１ | G50: 新浜町１ | H50: ０．４ | AN50: =IF(COUNTA(I50:AM50)=0,1,1-COUNTIF(I50:AM50,"☓")/31) -> 1 | AO50: =COUNTA(I50:AM50) -> 0
B51: 43 | F51: ０５１４１ | G51: 新浜町１ | H51: ０．７ | AN51: =IF(COUNTA(I51:AM51)=0,1,1-COUNTIF(I51:AM51,"☓")/31) -> 1 | AO51: =COUNTA(I51:AM51) -> 0
F52: 合計 | I52: =1-(COUNTIF(I41:I51,"☓"))/11 -> 1 | J52: =1-(COUNTIF(J41:J51,"☓"))/11 -> 1 | K52: =1-(COUNTIF(K41:K51,"☓"))/11 -> 1 | L52: =1-(COUNTIF(L41:L51,"☓"))/11 -> 1 | M52: =1-(COUNTIF(M41:M51,"☓"))/11 -> 1 | N52: =1-(COUNTIF(N41:N51,"☓"))/11 -> 1 | O52: =1-(COUNTIF(O41:O51,"☓"))/11 -> 1 | P52: =1-(COUNTIF(P41:P51,"☓"))/11 -> 1 | ... AM52: =1-(COUNTIF(AM41:AM51,"☓"))/11 -> 1 | AN52: =IF(AO52=0,"100%",AVERAGE(AN41:AN51)) -> 100% | AO52: =SUM(AO41:AO51) -> 0
B53: 44 | D53: ６００系統 | F53: ０６０１１ | G53: 浜風町１６ | H53: ０．７ | AN53: =IF(COUNTA(I53:AM53)=0,1,1-COUNTIF(I53:AM53,"☓")/31) -> 1 | AO53: =COUNTA(I53:AM53) -> 0
B54: 45 | F54: ０６０１２ | G54: 浜風町９ | H54: ０．７ | AN54: =IF(COUNTA(I54:AM54)=0,1,1-COUNTIF(I54:AM54,"☓")/31) -> 1 | AO54: =COUNTA(I54:AM54) -> 0
B55: 46 | F55: ０６０２１ | G55: 浜風町１５ | H55: ０．７ | AN55: =IF(COUNTA(I55:AM55)=0,1,1-COUNTIF(I55:AM55,"☓")/31) -> 1 | AO55: =COUNTA(I55:AM55) -> 0
B56: 47 | F56: ０６０３１ | G56: 浜風町１１ | H56: ０．７ | AN56: =IF(COUNTA(I56:AM56)=0,1,1-COUNTIF(I56:AM56,"☓")/31) -> 1 | AO56: =COUNTA(I56:AM56) -> 0
B57: 48 | F57: ０６０４１ | G57: 浜風町１３ | H57: ０．７ | AN57: =IF(COUNTA(I57:AM57)=0,1,1-COUNTIF(I57:AM57,"☓")/31) -> 1 | AO57: =COUNTA(I57:AM57) -> 0
B58: 49 | F58: ０６０５１ | G58: 浜風町１０ | H58: ０．７ | AN58: =IF(COUNTA(I58:AM58)=0,1,1-COUNTIF(I58:AM58,"☓")/31) -> 1 | AO58: =COUNTA(I58:AM58) -> 0
F59: 合計 | I59: =1-(COUNTIF(I53:I58,"☓"))/6 -> 1 | J59: =1-(COUNTIF(J53:J58,"☓"))/6 -> 1 | K59: =1-(COUNTIF(K53:K58,"☓"))/6 -> 1 | L59: =1-(COUNTIF(L53:L58,"☓"))/6 -> 1 | M59: =1-(COUNTIF(M53:M58,"☓"))/6 -> 1 | N59: =1-(COUNTIF(N53:N58,"☓"))/6 -> 1 | O59: =1-(COUNTIF(O53:O58,"☓"))/6 -> 1 | P59: =1-(COUNTIF(P53:P58,"☓"))/6 -> 1 | ... AM59: =1-(COUNTIF(AM53:AM58,"☓"))/6 -> 1 | AN59: =IF(AO59=0,"100%",AVERAGE(AN48:AN58)) -> 100% | AO59: =SUM(AO53:AO58) -> 0
B60: 50 | D60: ７００系統 | F60: ０７０１９ | G60: 高浜町７－１ | H60: １．０ | AN60: =IF(COUNTA(I60:AM60)=0,1,1-COUNTIF(I60:AM60,"☓")/31) -> 1 | AO60: =COUNTA(I60:AM60) -> 0
B61: 51 | F61: ０７０２９ | G61: 高浜町７－２ | H61: １．０ | AN61: =IF(COUNTA(I61:AM61)=0,1,1-COUNTIF(I61:AM61,"☓")/31) -> 1 | AO61: =COUNTA(I61:AM61) -> 0
F62: 合計 | I62: =1-(COUNTIF(I60:I61,"☓"))/2 -> 1 | J62: =1-(COUNTIF(J60:J61,"☓"))/2 -> 1 | K62: =1-(COUNTIF(K60:K61,"☓"))/2 -> 1 | L62: =1-(COUNTIF(L60:L61,"☓"))/2 -> 1 | M62: =1-(COUNTIF(M60:M61,"☓"))/2 -> 1 | N62: =1-(COUNTIF(N60:N61,"☓"))/2 -> 1 | O62: =1-(COUNTIF(O60:O61,"☓"))/2 -> 1 | P62: =1-(COUNTIF(P60:P61,"☓"))/2 -> 1 | ... AM62: =1-(COUNTIF(AM60:AM61,"☓"))/2 -> 1 | AN62: =IF(AO62=0,"100%",AVERAGE(I62:AM62)) -> 100% | AO62: =SUM(AO60:AO61) -> 0
B63: 52 | C63: 宮川西側 | D63: ８００系統 | F63: ０８０１９ | G63: 若葉町４－１ | H63: １．５ | AN63: =IF(COUNTA(I63:AM63)=0,1,1-COUNTIF(I63:AM63,"☓")/31) -> 1 | AO63: =COUNTA(I63:AM63) -> 0
B64: 53 | F64: ０８０２９ | G64: 若葉町５－１ | H64: １．５ | AN64: =IF(COUNTA(I64:AM64)=0,1,1-COUNTIF(I64:AM64,"☓")/31) -> 1 | AO64: =COUNTA(I64:AM64) -> 0
B65: 54 | F65: ０８０３９ | G65: 若葉町５－２ | H65: １．５ | AN65: =IF(COUNTA(I65:AM65)=0,1,1-COUNTIF(I65:AM65,"☓")/31) -> 1 | AO65: =COUNTA(I65:AM65) -> 0
B66: 55 | F66: ０８０４９ | G66: 若葉町６－１ | H66: １．５ | AN66: =IF(COUNTA(I66:AM66)=0,1,1-COUNTIF(I66:AM66,"☓")/31) -> 1 | AO66: =COUNTA(I66:AM66) -> 0
B67: 56 | F67: ０８０５９ | G67: 若葉町６－２ | H67: １．５ | AN67: =IF(COUNTA(I67:AM67)=0,1,1-COUNTIF(I67:AM67,"☓")/31) -> 1 | AO67: =COUNTA(I67:AM67) -> 0
B68: 57 | F68: ０８０６９ | G68: 若葉町７－２ | H68: １．０ | AN68: =IF(COUNTA(I68:AM68)=0,1,1-COUNTIF(I68:AM68,"☓")/31) -> 1 | AO68: =COUNTA(I68:AM68) -> 0
B69: 58 | F69: ０８０７９ | G69: 若葉町７－３ | H69: １．０ | AN69: =IF(COUNTA(I69:AM69)=0,1,1-COUNTIF(I69:AM69,"☓")/31) -> 1 | AO69: =COUNTA(I69:AM69) -> 0
F70: 合計 | I70: =1-(COUNTIF(I63:I69,"☓"))/7 -> 1 | J70: =1-(COUNTIF(J63:J69,"☓"))/7 -> 1 | K70: =1-(COUNTIF(K63:K69,"☓"))/7 -> 1 | L70: =1-(COUNTIF(L63:L69,"☓"))/7 -> 1 | M70: =1-(COUNTIF(M63:M69,"☓"))/7 -> 1 | N70: =1-(COUNTIF(N63:N69,"☓"))/7 -> 1 | O70: =1-(COUNTIF(O63:O69,"☓"))/7 -> 1 | P70: =1-(COUNTIF(P63:P69,"☓"))/7 -> 1 | ... AM70: =1-(COUNTIF(AM63:AM69,"☓"))/7 -> 1 | AN70: =IF(AO70=0,"100%",AVERAGE(I70:AM70)) -> 100% | AO70: =SUM(AO63:AO69) -> 0
B71: 59 | D71: ９００系統 | F71: ０９０１９ | G71: 若葉町２－１ | H71: １．５ | AN71: =IF(COUNTA(I71:AM71)=0,1,1-COUNTIF(I71:AM71,"☓")/31) -> 1 | AO71: =COUNTA(I71:AM71) -> 0
B72: 60 | F72: ０９０２９ | G72: 若葉町２－２ | H72: １．５ | AN72: =IF(COUNTA(I72:AM72)=0,1,1-COUNTIF(I72:AM72,"☓")/31) -> 1 | AO72: =COUNTA(I72:AM72) -> 0
F73: 合計 | I73: =1-(COUNTIF(I71:I72,"☓"))/2 -> 1 | J73: =1-(COUNTIF(J71:J72,"☓"))/2 -> 1 | K73: =1-(COUNTIF(K71:K72,"☓"))/2 -> 1 | L73: =1-(COUNTIF(L71:L72,"☓"))/2 -> 1 | M73: =1-(COUNTIF(M71:M72,"☓"))/2 -> 1 | N73: =1-(COUNTIF(N71:N72,"☓"))/2 -> 1 | O73: =1-(COUNTIF(O71:O72,"☓"))/2 -> 1 | P73: =1-(COUNTIF(P71:P72,"☓"))/2 -> 1 | ... AM73: =1-(COUNTIF(AM71:AM72,"☓"))/2 -> 1 | AN73: =IF(AO73=0,"100%",AVERAGE(I73:AM73)) -> 100% | AO73: =SUM(AO71:AO72) -> 0
B74: 61 | D74: １０００系統 | F74: １００１９ | G74: 若葉町４－２ | H74: １．５ | AN74: =IF(COUNTA(I74:AM74)=0,1,1-COUNTIF(I74:AM74,"☓")/31) -> 1 | AO74: =COUNTA(I74:AM74) -> 0
B75: 62 | F75: １００２９ | G75: 若葉町７－１ | H75: １．０ | AN75: =IF(COUNTA(I75:AM75)=0,1,1-COUNTIF(I75:AM75,"☓")/31) -> 1 | AO75: =COUNTA(I75:AM75) -> 0
F76: 合計 | I76: =1-(COUNTIF(I74:I75,"☓"))/2 -> 1 | J76: =1-(COUNTIF(J74:J75,"☓"))/2 -> 1 | K76: =1-(COUNTIF(K74:K75,"☓"))/2 -> 1 | L76: =1-(COUNTIF(L74:L75,"☓"))/2 -> 1 | M76: =1-(COUNTIF(M74:M75,"☓"))/2 -> 1 | N76: =1-(COUNTIF(N74:N75,"☓"))/2 -> 1 | O76: =1-(COUNTIF(O74:O75,"☓"))/2 -> 1 | P76: =1-(COUNTIF(P74:P75,"☓"))/2 -> 1 | ... AM76: =1-(COUNTIF(AM74:AM75,"☓"))/2 -> 1 | AN76: =IF(AO76=0,"100%",AVERAGE(I76:AM76)) -> 100% | AO76: =SUM(AO74:AO75) -> 0
B77: 63 | D77: １１００系統 | F77: １１０１１ | G77: 緑町２ | H77: ０．７ | AN77: =IF(COUNTA(I77:AM77)=0,1,1-COUNTIF(I77:AM77,"☓")/31) -> 1 | AO77: =COUNTA(I77:AM77) -> 0
B78: 64 | F78: １１０２１ | G78: 緑町１ | H78: ０．７ | AN78: =IF(COUNTA(I78:AM78)=0,1,1-COUNTIF(I78:AM78,"☓")/31) -> 1 | AO78: =COUNTA(I78:AM78) -> 0
B79: 65 | F79: １１０３１ | G79: 緑町２ | H79: ０．７ | AN79: =IF(COUNTA(I79:AM79)=0,1,1-COUNTIF(I79:AM79,"☓")/31) -> 1 | AO79: =COUNTA(I79:AM79) -> 0
B80: 66 | F80: １１０４１ | G80: 緑町３ | H80: ０．７ | AN80: =IF(COUNTA(I80:AM80)=0,1,1-COUNTIF(I80:AM80,"☓")/31) -> 1 | AO80: =COUNTA(I80:AM80) -> 0
B81: 67 | F81: １１０５１ | G81: 緑町４ | H81: ０．７ | AN81: =IF(COUNTA(I81:AM81)=0,1,1-COUNTIF(I81:AM81,"☓")/31) -> 1 | AO81: =COUNTA(I81:AM81) -> 0
B82: 68 | F82: １１０６１ | G82: 緑町５ | H82: ０．７ | I82: ☓ | J82: ☓ | K82: ☓ | L82: ☓ | M82: ☓ | N82: ☓ | O82: ☓ | P82: ☓ | Q82: ☓ | R82: ☓ | S82: ☓ | T82: ☓ | U82: ☓ | V82: ☓ | W82: ☓ | X82: ☓ | Y82: ☓ | Z82: ☓ | AA82: ☓ | AB82: ☓ | AC82: ☓ | AD82: ☓ | AE82: ☓ | AF82: ☓ | AG82: ☓ | AH82: ☓ | AI82: ☓ | AJ82: ☓ | AK82: ☓ | AL82: ☓ | AM82: ☓ | AN82: =IF(COUNTA(I82:AM82)=0,1,1-COUNTIF(I82:AM82,"☓")/31) -> 0 | AO82: =COUNTA(I82:AM82) -> 31
B83: 69 | F83: １１０６２ | G83: 緑町５ | H83: ０．７ | I83: ☓ | J83: ☓ | K83: ☓ | L83: ☓ | M83: ☓ | N83: ☓ | O83: ☓ | P83: ☓ | Q83: ☓ | R83: ☓ | S83: ☓ | T83: ☓ | U83: ☓ | V83: ☓ | W83: ☓ | X83: ☓ | Y83: ☓ | Z83: ☓ | AA83: ☓ | AB83: ☓ | AC83: ☓ | AD83: ☓ | AE83: ☓ | AF83: ☓ | AG83: ☓ | AH83: ☓ | AI83: ☓ | AJ83: ☓ | AK83: ☓ | AL83: ☓ | AM83: ☓ | AN83: =IF(COUNTA(I83:AM83)=0,1,1-COUNTIF(I83:AM83,"☓")/31) -> 0 | AO83: =COUNTA(I83:AM83) -> 31
B84: 70 | F84: １１０６３ | G84: 潮見町８ | H84: ０．７ | I84: ☓ | J84: ☓ | K84: ☓ | L84: ☓ | M84: ☓ | N84: ☓ | O84: ☓ | P84: ☓ | Q84: ☓ | R84: ☓ | S84: ☓ | T84: ☓ | U84: ☓ | V84: ☓ | W84: ☓ | X84: ☓ | Y84: ☓ | Z84: ☓ | AA84: ☓ | AB84: ☓ | AC84: ☓ | AD84: ☓ | AE84: ☓ | AF84: ☓ | AG84: ☓ | AH84: ☓ | AI84: ☓ | AJ84: ☓ | AK84: ☓ | AL84: ☓ | AM84: ☓ | AN84: =IF(COUNTA(I84:AM84)=0,1,1-COUNTIF(I84:AM84,"☓")/31) -> 0 | AO84: =COUNTA(I84:AM84) -> 31
B85: 71 | F85: １１０７１ | G85: 緑町７ | H85: ０．７ | I85: ☓ | J85: ☓ | K85: ☓ | L85: ☓ | M85: ☓ | N85: ☓ | O85: ☓ | P85: ☓ | Q85: ☓ | R85: ☓ | S85: ☓ | T85: ☓ | U85: ☓ | V85: ☓ | W85: ☓ | X85: ☓ | Y85: ☓ | Z85: ☓ | AA85: ☓ | AB85: ☓ | AC85: ☓ | AD85: ☓ | AE85: ☓ | AF85: ☓ | AG85: ☓ | AH85: ☓ | AI85: ☓ | AJ85: ☓ | AK85: ☓ | AL85: ☓ | AM85: ☓ | AN85: =IF(COUNTA(I85:AM85)=0,1,1-COUNTIF(I85:AM85,"☓")/31) -> 0 | AO85: =COUNTA(I85:AM85) -> 31
B86: 72 | F86: １１０８１ | G86: 緑町１０ | H86: ０．７ | I86: ☓ | J86: ☓ | K86: ☓ | L86: ☓ | M86: ☓ | N86: ☓ | O86: ☓ | P86: ☓ | Q86: ☓ | R86: ☓ | S86: ☓ | T86: ☓ | U86: ☓ | V86: ☓ | W86: ☓ | X86: ☓ | Y86: ☓ | Z86: ☓ | AA86: ☓ | AB86: ☓ | AC86: ☓ | AD86: ☓ | AE86: ☓ | AF86: ☓ | AG86: ☓ | AH86: ☓ | AI86: ☓ | AJ86: ☓ | AK86: ☓ | AL86: ☓ | AM86: ☓ | AN86: =IF(COUNTA(I86:AM86)=0,1,1-COUNTIF(I86:AM86,"☓")/31) -> 0 | AO86: =COUNTA(I86:AM86) -> 31
B87: 73 | F87: １１０９１ | G87: 緑町６ | H87: ０．７ | I87: ☓ | J87: ☓ | K87: ☓ | L87: ☓ | M87: ☓ | N87: ☓ | O87: ☓ | P87: ☓ | Q87: ☓ | R87: ☓ | S87: ☓ | T87: ☓ | U87: ☓ | V87: ☓ | W87: ☓ | X87: ☓ | Y87: ☓ | Z87: ☓ | AA87: ☓ | AB87: ☓ | AC87: ☓ | AD87: ☓ | AE87: ☓ | AF87: ☓ | AG87: ☓ | AH87: ☓ | AI87: ☓ | AJ87: ☓ | AK87: ☓ | AL87: ☓ | AM87: ☓ | AN87: =IF(COUNTA(I87:AM87)=0,1,1-COUNTIF(I87:AM87,"☓")/31) -> 0 | AO87: =COUNTA(I87:AM87) -> 31
B88: 74 | F88: １１１０１ | G88: 緑町９ | H88: ０．７ | I88: ☓ | J88: ☓ | K88: ☓ | L88: ☓ | M88: ☓ | N88: ☓ | O88: ☓ | P88: ☓ | Q88: ☓ | R88: ☓ | S88: ☓ | T88: ☓ | U88: ☓ | V88: ☓ | W88: ☓ | X88: ☓ | Y88: ☓ | Z88: ☓ | AA88: ☓ | AB88: ☓ | AC88: ☓ | AD88: ☓ | AE88: ☓ | AF88: ☓ | AG88: ☓ | AH88: ☓ | AI88: ☓ | AJ88: ☓ | AK88: ☓ | AL88: ☓ | AM88: ☓ | AN88: =IF(COUNTA(I88:AM88)=0,1,1-COUNTIF(I88:AM88,"☓")/31) -> 0 | AO88: =COUNTA(I88:AM88) -> 31
B89: 75 | F89: １１１１１ | G89: 潮見町８ | H89: ０．７ | AN89: =IF(COUNTA(I89:AM89)=0,1,1-COUNTIF(I89:AM89,"☓")/31) -> 1 | AO89: =COUNTA(I89:AM89) -> 0
B90: 76 | F90: １１１２９ | G90: 緑町１ | H90: １．５ | AN90: =IF(COUNTA(I90:AM90)=0,1,1-COUNTIF(I90:AM90,"☓")/31) -> 1 | AO90: =COUNTA(I90:AM90) -> 0
B91: 77 | F91: １１１３９ | G91: 緑町１ | H91: １．５ | AN91: =IF(COUNTA(I91:AM91)=0,1,1-COUNTIF(I91:AM91,"☓")/31) -> 1 | AO91: =COUNTA(I91:AM91) -> 0
B92: 78 | F92: １１１４９ | G92: 緑町１ | H92: １．５ | AN92: =IF(COUNTA(I92:AM92)=0,1,1-COUNTIF(I92:AM92,"☓")/31) -> 1 | AO92: =COUNTA(I92:AM92) -> 0
F93: 合計 | I93: =1-(COUNTIF(I77:I92,"☓"))/16 -> 0.5625 | J93: =1-(COUNTIF(J77:J92,"☓"))/16 -> 0.5625 | K93: =1-(COUNTIF(K77:K92,"☓"))/16 -> 0.5625 | L93: =1-(COUNTIF(L77:L92,"☓"))/16 -> 0.5625 | M93: =1-(COUNTIF(M77:M92,"☓"))/16 -> 0.5625 | N93: =1-(COUNTIF(N77:N92,"☓"))/16 -> 0.5625 | O93: =1-(COUNTIF(O77:O92,"☓"))/16 -> 0.5625 | P93: =1-(COUNTIF(P77:P92,"☓"))/16 -> 0.5625 | ... AM93: =1-(COUNTIF(AM77:AM92,"☓"))/16 -> 0.5625 | AN93: =IF(AO93=0,"100%",AVERAGE(I93:AM93)) -> 0.5625 | AO93: =SUM(AO77:AO92) -> 217
B94: 79 | D94: １２００系統 | F94: １２０１１ | G94: 潮見町１ | H94: ０．４ | AN94: =IF(COUNTA(I94:AM94)=0,1,1-COUNTIF(I94:AM94,"☓")/31) -> 1 | AO94: =COUNTA(I94:AM94) -> 0
B95: 80 | F95: １２０２１ | G95: 潮見町２０ | H95: ０．４ | AN95: =IF(COUNTA(I95:AM95)=0,1,1-COUNTIF(I95:AM95,"☓")/31) -> 1 | AO95: =COUNTA(I95:AM95) -> 0
B96: 81 | F96: １２０３１ | G96: 潮見町４ | H96: ０．７ | AN96: =IF(COUNTA(I96:AM96)=0,1,1-COUNTIF(I96:AM96,"☓")/31) -> 1 | AO96: =COUNTA(I96:AM96) -> 0
B97: 82 | F97: １２０３２ | G97: 潮見町３ | H97: ０．７ | AN97: =IF(COUNTA(I97:AM97)=0,1,1-COUNTIF(I97:AM97,"☓")/31) -> 1 | AO97: =COUNTA(I97:AM97) -> 0
B98: 83 | F98: １２０４１ | G98: 潮見町４ | H98: ０．７ | AN98: =IF(COUNTA(I98:AM98)=0,1,1-COUNTIF(I98:AM98,"☓")/31) -> 1 | AO98: =COUNTA(I98:AM98) -> 0
B99: 84 | F99: １２０５１ | G99: 潮見町７ | H99: ０．７ | AN99: =IF(COUNTA(I99:AM99)=0,1,1-COUNTIF(I99:AM99,"☓")/31) -> 1 | AO99: =COUNTA(I99:AM99) -> 0
B100: 85 | F100: １２０６１ | G100: 潮見町５ | H100: ０．７ | AN100: =IF(COUNTA(I100:AM100)=0,1,1-COUNTIF(I100:AM100,"☓")/31) -> 1 | AO100: =COUNTA(I100:AM100) -> 0
B101: 86 | F101: １２０７１ | G101: 潮見町６ | H101: ０．７ | AN101: =IF(COUNTA(I101:AM101)=0,1,1-COUNTIF(I101:AM101,"☓")/31) -> 1 | AO101: =COUNTA(I101:AM101) -> 0
...

Sheet 9月（停止あり）
B2: Ｎｏ． | C2: 地区 | D2: 系統 | F2: 投入口ｱﾄﾞﾚｽ | G2: 住所 | H2: 容量（ｍ２） | I2: 9月 | AM2: 稼働率 | AN2: 停止日数
I3: 1 | J3: 2 | K3: 3 | L3: 4 | M3: 5 | N3: 6 | O3: 7 | P3: 8 | Q3: 9 | R3: 10 | S3: 11 | T3: 12 | U3: 13 | V3: 14 | W3: 15 | X3: 16 | Y3: 17 | Z3: 18 | AA3: 19 | AB3: 20 | AC3: 21 | AD3: 22 | AE3: 23 | AF3: 24 | AG3: 25 | AH3: 26 | AI3: 27 | AJ3: 28 | AK3: 29 | AL3: 30
H4: ☓ | I4: 日 | J4: 月 | K4: 火 | L4: 水 | M4: 木 | N4: 金 | O4: 土 | P4: 日 | Q4: 月 | R4: 火 | S4: 水 | T4: 木 | U4: 金 | V4: 土 | W4: 日 | X4: 月 | Y4: 火 | Z4: 水 | AA4: 木 | AB4: 金 | AC4: 土 | AD4: 日 | AE4: 月 | AF4: 火 | AG4: 水 | AH4: 木 | AI4: 金 | AJ4: 土 | AK4: 日 | AL4: 月
B5: 1 | C5: 宮川東側 | D5: １００系統 | F5: ０１０１１ | G5: 浜風町２１ | H5: ０．７ | AM5: =IF(COUNTA(I5:AL5)=0,1,1-COUNTIF(I5:AL5,"☓")/30) -> 1 | AN5: =COUNTA(I5:AL5) -> 0
B6: 2 | F6: ０１０１２ | G6: 浜風町２２ | H6: ０．７ | AM6: =IF(COUNTA(I6:AL6)=0,1,1-COUNTIF(I6:AL6,"☓")/30) -> 1 | AN6: =COUNTA(I6:AL6) -> 0
B7: 3 | F7: ０１０１３ | G7: 浜風町２４ | H7: ０．７ | AM7: =IF(COUNTA(I7:AL7)=0,1,1-COUNTIF(I7:AL7,"☓")/30) -> 1 | AN7: =COUNTA(I7:AL7) -> 0
B8: 4 | F8: ０１０１４ | G8: 浜風町２７ | H8: ０．７ | AM8: =IF(COUNTA(I8:AL8)=0,1,1-COUNTIF(I8:AL8,"☓")/30) -> 1 | AN8: =COUNTA(I8:AL8) -> 0
B9: 5 | F9: ０１０２１ | G9: 浜風町１９ | H9: ０．７ | AM9: =IF(COUNTA(I9:AL9)=0,1,1-COUNTIF(I9:AL9,"☓")/30) -> 1 | AN9: =COUNTA(I9:AL9) -> 0
B10: 6 | F10: ０１０３１ | G10: 浜風町１８ | H10: ０．７ | AM10: =IF(COUNTA(I10:AL10)=0,1,1-COUNTIF(I10:AL10,"☓")/30) -> 1 | AN10: =COUNTA(I10:AL10) -> 0
F11: 合計 | H11: =COUNTA(H5:H10) -> 6 | I11: =1-(COUNTIF(I5:I10,"☓"))/6 -> 1 | J11: =1-(COUNTIF(J5:J10,"☓"))/6 -> 1 | K11: =1-(COUNTIF(K5:K10,"☓"))/6 -> 1 | L11: =1-(COUNTIF(L5:L10,"☓"))/6 -> 1 | M11: =1-(COUNTIF(M5:M10,"☓"))/6 -> 1 | N11: =1-(COUNTIF(N5:N10,"☓"))/6 -> 1 | O11: =1-(COUNTIF(O5:O10,"☓"))/6 -> 1 | P11: =1-(COUNTIF(P5:P10,"☓"))/6 -> 1 | ... AL11: =1-(COUNTIF(AL5:AL10,"☓"))/6 -> 1 | AM11: =IF(AN11=0,"100%",AVERAGE(AM5:AM10)) -> 100% | AN11: =SUM(AN5:AN10) -> 0
B12: 7 | D12: ３００系統 | E12: Ｋライン | F12: ０３０１１ | G12: 浜風町１ | H12: ０．７ | AM12: =IF(COUNTA(I12:AL12)=0,1,1-COUNTIF(I12:AL12,"☓")/30) -> 1 | AN12: =COUNTA(I12:AL12) -> 0
B13: 8 | F13: ０３０３１ | G13: 浜風町８ | H13: ０．７ | AM13: =IF(COUNTA(I13:AL13)=0,1,1-COUNTIF(I13:AL13,"☓")/30) -> 1 | AN13: =COUNTA(I13:AL13) -> 0
B14: 9 | F14: ０３０３２ | G14: 浜風町２ | H14: ０．７ | AM14: =IF(COUNTA(I14:AL14)=0,1,1-COUNTIF(I14:AL14,"☓")/30) -> 1 | AN14: =COUNTA(I14:AL14) -> 0
B15: 10 | F15: ０３０２１ | G15: 浜風町８ | H15: ０．７ | AM15: =IF(COUNTA(I15:AL15)=0,1,1-COUNTIF(I15:AL15,"☓")/30) -> 1 | AN15: =COUNTA(I15:AL15) -> 0
B16: 11 | F16: ０３０３３ | G16: 浜風町７ | H16: ０．７ | AM16: =IF(COUNTA(I16:AL16)=0,1,1-COUNTIF(I16:AL16,"☓")/30) -> 1 | AN16: =COUNTA(I16:AL16) -> 0
B17: 12 | F17: ０３０４１ | G17: 浜風町７ | H17: ０．７ | AM17: =IF(COUNTA(I17:AL17)=0,1,1-COUNTIF(I17:AL17,"☓")/30) -> 1 | AN17: =COUNTA(I17:AL17) -> 0
B18: 13 | F18: ０３０５１ | G18: 浜風町７ | H18: ０．７ | AM18: =IF(COUNTA(I18:AL18)=0,1,1-COUNTIF(I18:AL18,"☓")/30) -> 1 | AN18: =COUNTA(I18:AL18) -> 0
B19: 14 | F19: ０３０５２ | G19: 浜風町３ | H19: ０．７ | AM19: =IF(COUNTA(I19:AL19)=0,1,1-COUNTIF(I19:AL19,"☓")/30) -> 1 | AN19: =COUNTA(I19:AL19) -> 0
B20: 15 | F20: ０３０５３ | G20: 浜風町６ | H20: ０．７ | AM20: =IF(COUNTA(I20:AL20)=0,1,1-COUNTIF(I20:AL20,"☓")/30) -> 1 | AN20: =COUNTA(I20:AL20) -> 0
B21: 16 | F21: ０３０６１ | G21: 浜風町５ | H21: ０．７ | AM21: =IF(COUNTA(I21:AL21)=0,1,1-COUNTIF(I21:AL21,"☓")/30) -> 1 | AN21: =COUNTA(I21:AL21) -> 0
B22: 17 | F22: ０３０５４ | G22: 浜風町６ | H22: ０．７ | AM22: =IF(COUNTA(I22:AL22)=0,1,1-COUNTIF(I22:AL22,"☓")/30) -> 1 | AN22: =COUNTA(I22:AL22) -> 0
F23: 合計 | I23: =1-(COUNTIF(I12:I22,"☓"))/11 -> 1 | J23: =1-(COUNTIF(J12:J22,"☓"))/11 -> 1 | K23: =1-(COUNTIF(K12:K22,"☓"))/11 -> 1 | L23: =1-(COUNTIF(L12:L22,"☓"))/11 -> 1 | M23: =1-(COUNTIF(M12:M22,"☓"))/11 -> 1 | N23: =1-(COUNTIF(N12:N22,"☓"))/11 -> 1 | O23: =1-(COUNTIF(O12:O22,"☓"))/11 -> 1 | P23: =1-(COUNTIF(P12:P22,"☓"))/11 -> 1 | ... AL23: =1-(COUNTIF(AL12:AL22,"☓"))/11 -> 1 | AM23: =IF(AN23=0,"100%",AVERAGE(AM12:AM22)) -> 100% | AN23: =SUM(AN12:AN22) -> 0
B24: 18 | E24: Ｇライン | F24: ０３０７１ | G24: 新浜町４ | H24: ０．７ | AM24: =IF(COUNTA(I24:AL24)=0,1,1-COUNTIF(I24:AL24,"☓")/30) -> 1 | AN24: =COUNTA(I24:AL24) -> 0
B25: 19 | F25: ０３０７２ | G25: 新浜町４ | H25: ０．７ | AM25: =IF(COUNTA(I25:AL25)=0,1,1-COUNTIF(I25:AL25,"☓")/30) -> 1 | AN25: =COUNTA(I25:AL25) -> 0
B26: 20 | F26: ０３０８１ | G26: 新浜町５ | H26: ０．７ | AM26: =IF(COUNTA(I26:AL26)=0,1,1-COUNTIF(I26:AL26,"☓")/30) -> 1 | AN26: =COUNTA(I26:AL26) -> 0
B27: 21 | F27: ０３１３９ | G27: 新浜町２ | H27: １．５ | AM27: =IF(COUNTA(I27:AL27)=0,1,1-COUNTIF(I27:AL27,"☓")/30) -> 1 | AN27: =COUNTA(I27:AL27) -> 0
B28: 22 | F28: ０３１４９ | G28: 新浜町２ | H28: １．５ | AM28: =IF(COUNTA(I28:AL28)=0,1,1-COUNTIF(I28:AL28,"☓")/30) -> 1 | AN28: =COUNTA(I28:AL28) -> 0
B29: 23 | F29: ０３１５９ | G29: 新浜町２ | H29: １．５ | AM29: =IF(COUNTA(I29:AL29)=0,1,1-COUNTIF(I29:AL29,"☓")/30) -> 1 | AN29: =COUNTA(I29:AL29) -> 0
B30: 24 | F30: ０３１１１ | G30: 新浜町６ | H30: ０．７ | AM30: =IF(COUNTA(I30:AL30)=0,1,1-COUNTIF(I30:AL30,"☓")/30) -> 1 | AN30: =COUNTA(I30:AL30) -> 0
B31: 25 | F31: ０３０９９ | G31: 浜風町３０ | H31: １．５ | AM31: =IF(COUNTA(I31:AL31)=0,1,1-COUNTIF(I31:AL31,"☓")/30) -> 1 | AN31: =COUNTA(I31:AL31) -> 0
B32: 26 | F32: ０３１１２ | G32: 新浜町７ | H32: ０．７ | AM32: =IF(COUNTA(I32:AL32)=0,1,1-COUNTIF(I32:AL32,"☓")/30) -> 1 | AN32: =COUNTA(I32:AL32) -> 0
B33: 27 | F33: ０３１１３ | G33: 新浜町８ | H33: ０．７ | AM33: =IF(COUNTA(I33:AL33)=0,1,1-COUNTIF(I33:AL33,"☓")/30) -> 1 | AN33: =COUNTA(I33:AL33) -> 0
F34: ０３１０１ | G34: 新浜町７ | H34: ０．７ | AM34: =IF(COUNTA(I34:AL34)=0,1,1-COUNTIF(I34:AL34,"☓")/30) -> 1 | AN34: =COUNTA(I34:AL34) -> 0
B35: 28 | F35: 合計 | I35: =1-(COUNTIF(I24:I34,"☓"))/11 -> 1 | J35: =1-(COUNTIF(J24:J34,"☓"))/11 -> 1 | K35: =1-(COUNTIF(K24:K34,"☓"))/11 -> 1 | L35: =1-(COUNTIF(L24:L34,"☓"))/11 -> 1 | M35: =1-(COUNTIF(M24:M34,"☓"))/11 -> 1 | N35: =1-(COUNTIF(N24:N34,"☓"))/11 -> 1 | O35: =1-(COUNTIF(O24:O34,"☓"))/11 -> 1 | P35: =1-(COUNTIF(P24:P34,"☓"))/11 -> 1 | ... AL35: =1-(COUNTIF(AL24:AL34,"☓"))/11 -> 1 | AM35: =IF(AN35=0,"100%",AVERAGE(AM24:AM34)) -> 100% | AN35: =SUM(AN24:AN34) -> 0
B36: 29 | D36: ４００系統 | F36: ０４０１９ | G36: 高浜町９－２ | H36: １．５ | I36: ☓ | J36: ☓ | K36: ☓ | L36: ☓ | M36: ☓ | N36: ☓ | O36: ☓ | P36: ☓ | Q36: ☓ | R36: ☓ | S36: ☓ | T36: ☓ | U36: ☓ | V36: ☓ | W36: ☓ | X36: ☓ | Y36: ☓ | Z36: ☓ | AA36: ☓ | AB36: ☓ | AC36: ☓ | AD36: ☓ | AE36: ☓ | AF36: ☓ | AG36: ☓ | AH36: ☓ | AI36: ☓ | AJ36: ☓ | AK36: ☓ | AL36: ☓ | AM36: =IF(COUNTA(I36:AL36)=0,1,1-COUNTIF(I36:AL36,"☓")/30) -> 0 | AN36: =COUNTA(I36:AL36) -> 30
B37: 30 | F37: ０４０２９ | G37: 高浜町９－１ | H37: １．５ | I37: ☓ | J37: ☓ | K37: ☓ | L37: ☓ | M37: ☓ | N37: ☓ | O37: ☓ | P37: ☓ | Q37: ☓ | R37: ☓ | S37: ☓ | T37: ☓ | U37: ☓ | V37: ☓ | W37: ☓ | X37: ☓ | Y37: ☓ | Z37: ☓ | AA37: ☓ | AB37: ☓ | AC37: ☓ | AD37: ☓ | AE37: ☓ | AF37: ☓ | AG37: ☓ | AH37: ☓ | AI37: ☓ | AJ37: ☓ | AK37: ☓ | AL37: ☓ | AM37: =IF(COUNTA(I37:AL37)=0,1,1-COUNTIF(I37:AL37,"☓")/30) -> 0 | AN37: =COUNTA(I37:AL37) -> 30
B38: 31 | F38: ０４０３９ | G38: 高浜町８－３ | H38: １．０ | I38: ☓ | J38: ☓ | K38: ☓ | L38: ☓ | M38: ☓ | N38: ☓ | O38: ☓ | P38: ☓ | Q38: ☓ | R38: ☓ | S38: ☓ | T38: ☓ | U38: ☓ | V38: ☓ | W38: ☓ | X38: ☓ | Y38: ☓ | Z38: ☓ | AA38: ☓ | AB38: ☓ | AC38: ☓ | AD38: ☓ | AE38: ☓ | AF38: ☓ | AG38: ☓ | AH38: ☓ | AI38: ☓ | AJ38: ☓ | AK38: ☓ | AL38: ☓ | AM38: =IF(COUNTA(I38:AL38)=0,1,1-COUNTIF(I38:AL38,"☓")/30) -> 0 | AN38: =COUNTA(I38:AL38) -> 30
B39: 32 | F39: ０４０４９ | G39: 高浜町８－２ | H39: １．０ | I39: ☓ | J39: ☓ | K39: ☓ | L39: ☓ | M39: ☓ | N39: ☓ | O39: ☓ | P39: ☓ | Q39: ☓ | R39: ☓ | S39: ☓ | T39: ☓ | U39: ☓ | V39: ☓ | W39: ☓ | X39: ☓ | Y39: ☓ | Z39: ☓ | AA39: ☓ | AB39: ☓ | AC39: ☓ | AD39: ☓ | AE39: ☓ | AF39: ☓ | AG39: ☓ | AH39: ☓ | AI39: ☓ | AJ39: ☓ | AK39: ☓ | AL39: ☓ | AM39: =IF(COUNTA(I39:AL39)=0,1,1-COUNTIF(I39:AL39,"☓")/30) -> 0 | AN39: =COUNTA(I39:AL39) -> 30
F40: 合計 | I40: =1-(COUNTIF(I36:I39,"☓"))/4 -> 0 | J40: =1-(COUNTIF(J36:J39,"☓"))/4 -> 0 | K40: =1-(COUNTIF(K36:K39,"☓"))/4 -> 0 | L40: =1-(COUNTIF(L36:L39,"☓"))/4 -> 0 | M40: =1-(COUNTIF(M36:M39,"☓"))/4 -> 0 | N40: =1-(COUNTIF(N36:N39,"☓"))/4 -> 0 | O40: =1-(COUNTIF(O36:O39,"☓"))/4 -> 0 | P40: =1-(COUNTIF(P36:P39,"☓"))/4 -> 0 | ... Z40: =1-(COUNTIF(Z36:Z39,"☓"))/4 -> 0 | AA40: =1-(COUNTIF(AA42:AA45,"☓"))/4 -> 1 | AB40: =1-(COUNTIF(AB36:AB39,"☓"))/4 -> 0 | AC40: =1-(COUNTIF(AC36:AC39,"☓"))/4 -> 0 | AD40: =1-(COUNTIF(AD36:AD39,"☓"))/4 -> 0 | AE40: =1-(COUNTIF(AE36:AE39,"☓"))/4 -> 0 | AF40: =1-(COUNTIF(AF36:AF39,"☓"))/4 -> 0 | AG40: =1-(COUNTIF(AG36:AG39,"☓"))/4 -> 0 | AH40: =1-(COUNTIF(AH36:AH39,"☓"))/4 -> 0 | AI40: =1-(COUNTIF(AI36:AI39,"☓"))/4 -> 0 | ... AL40: =1-(COUNTIF(AL36:AL39,"☓"))/4 -> 0 | AM40: =IF(AN40=0,"100%",AVERAGE(AM36:AM39)) -> 0 | AN40: =SUM(AN36:AN39) -> 120
B41: 33 | D41: ５００系統 | F41: ０５０１９ | G41: 高浜町８－１ | H41: １．０ | AM41: =IF(COUNTA(I41:AL41)=0,1,1-COUNTIF(I41:AL41,"☓")/30) -> 1 | AN41: =COUNTA(I41:AL41) -> 0
B42: 34 | F42: ０５０２９ | G42: 高浜町５－１ | H42: １．５ | AM42: =IF(COUNTA(I42:AL42)=0,1,1-COUNTIF(I42:AL42,"☓")/30) -> 1 | AN42: =COUNTA(I42:AL42) -> 0
B43: 35 | F43: ０５０３９ | G43: 高浜町５－２ | H43: １．５ | AM43: =IF(COUNTA(I43:AL43)=0,1,1-COUNTIF(I43:AL43,"☓")/30) -> 1 | AN43: =COUNTA(I43:AL43) -> 0
B44: 36 | F44: ０５０４９ | G44: 高浜町３－１ | H44: １．５ | AM44: =IF(COUNTA(I44:AL44)=0,1,1-COUNTIF(I44:AL44,"☓")/30) -> 1 | AN44: =COUNTA(I44:AL44) -> 0
B45: 37 | F45: ０５０５９ | G45: 高浜町２－１ | H45: １．５ | AM45: =IF(COUNTA(I45:AL45)=0,1,1-COUNTIF(I45:AL45,"☓")/30) -> 1 | AN45: =COUNTA(I45:AL45) -> 0
B46: 38 | F46: ０５０６９ | G46: 高浜町２－２ | H46: １．５ | AM46: =IF(COUNTA(I46:AL46)=0,1,1-COUNTIF(I46:AL46,"☓")/30) -> 1 | AN46: =COUNTA(I46:AL46) -> 0
B47: 39 | F47: ０５０７９ | G47: 高浜町２－３ | H47: １．５ | AM47: =IF(COUNTA(I47:AL47)=0,1,1-COUNTIF(I47:AL47,"☓")/30) -> 1 | AN47: =COUNTA(I47:AL47) -> 0
B48: 40 | F48: ０５０８９ | G48: 高浜町４－２ | H48: １．５ | AM48: =IF(COUNTA(I48:AL48)=0,1,1-COUNTIF(I48:AL48,"☓")/30) -> 1 | AN48: =COUNTA(I48:AL48) -> 0
B49: 41 | F49: ０５０９９ | G49: 高浜町４－１ | H49: １．５ | AM49: =IF(COUNTA(I49:AL49)=0,1,1-COUNTIF(I49:AL49,"☓")/30) -> 1 | AN49: =COUNTA(I49:AL49) -> 0
B50: 42 | F50: ０５１３１ | G50: 新浜町１ | H50: ０．４ | AM50: =IF(COUNTA(I50:AL50)=0,1,1-COUNTIF(I50:AL50,"☓")/30) -> 1 | AN50: =COUNTA(I50:AL50) -> 0
B51: 43 | F51: ０５１４１ | G51: 新浜町１ | H51: ０．７ | AM51: =IF(COUNTA(I51:AL51)=0,1,1-COUNTIF(I51:AL51,"☓")/30) -> 1 | AN51: =COUNTA(I51:AL51) -> 0
F52: 合計 | I52: =1-(COUNTIF(I41:I51,"☓"))/11 -> 1 | J52: =1-(COUNTIF(J41:J51,"☓"))/11 -> 1 | K52: =1-(COUNTIF(K41:K51,"☓"))/11 -> 1 | L52: =1-(COUNTIF(L41:L51,"☓"))/11 -> 1 | M52: =1-(COUNTIF(M41:M51,"☓"))/11 -> 1 | N52: =1-(COUNTIF(N41:N51,"☓"))/11 -> 1 | O52: =1-(COUNTIF(O41:O51,"☓"))/11 -> 1 | P52: =1-(COUNTIF(P41:P51,"☓"))/11 -> 1 | ... AL52: =1-(COUNTIF(AL41:AL51,"☓"))/11 -> 1 | AM52: =IF(AN52=0,"100%",AVERAGE(I52:AL52)) -> 100% | AN52: =SUM(AN41:AN51) -> 0
B53: 44 | D53: ６００系統 | F53: ０６０１１ | G53: 浜風町１６ | H53: ０．７ | AM53: =IF(COUNTA(I53:AL53)=0,1,1-COUNTIF(I53:AL53,"☓")/30) -> 1 | AN53: =COUNTA(I53:AL53) -> 0
B54: 45 | F54: ０６０１２ | G54: 浜風町９ | H54: ０．７ | AM54: =IF(COUNTA(I54:AL54)=0,1,1-COUNTIF(I54:AL54,"☓")/30) -> 1 | AN54: =COUNTA(I54:AL54) -> 0
B55: 46 | F55: ０６０２１ | G55: 浜風町１５ | H55: ０．７ | AM55: =IF(COUNTA(I55:AL55)=0,1,1-COUNTIF(I55:AL55,"☓")/30) -> 1 | AN55: =COUNTA(I55:AL55) -> 0
B56: 47 | F56: ０６０３１ | G56: 浜風町１１ | H56: ０．７ | AM56: =IF(COUNTA(I56:AL56)=0,1,1-COUNTIF(I56:AL56,"☓")/30) -> 1 | AN56: =COUNTA(I56:AL56) -> 0
B57: 48 | F57: ０６０４１ | G57: 浜風町１３ | H57: ０．７ | AM57: =IF(COUNTA(I57:AL57)=0,1,1-COUNTIF(I57:AL57,"☓")/30) -> 1 | AN57: =COUNTA(I57:AL57) -> 0
B58: 49 | F58: ０６０５１ | G58: 浜風町１０ | H58: ０．７ | AM58: =IF(COUNTA(I58:AL58)=0,1,1-COUNTIF(I58:AL58,"☓")/30) -> 1 | AN58: =COUNTA(I58:AL58) -> 0
F59: 合計 | I59: =1-(COUNTIF(I53:I58,"☓"))/6 -> 1 | J59: =1-(COUNTIF(J53:J58,"☓"))/6 -> 1 | K59: =1-(COUNTIF(K53:K58,"☓"))/6 -> 1 | L59: =1-(COUNTIF(L53:L58,"☓"))/6 -> 1 | M59: =1-(COUNTIF(M53:M58,"☓"))/6 -> 1 | N59: =1-(COUNTIF(N53:N58,"☓"))/6 -> 1 | O59: =1-(COUNTIF(O53:O58,"☓"))/6 -> 1 | P59: =1-(COUNTIF(P53:P58,"☓"))/6 -> 1 | ... AL59: =1-(COUNTIF(AL53:AL58,"☓"))/6 -> 1 | AM59: =IF(AN59=0,"100%",AVERAGE(AM53:AM58)) -> 100% | AN59: =SUM(AN53:AN58) -> 0
B60: 50 | D60: ７００系統 | F60: ０７０１９ | G60: 高浜町７－１ | H60: １．０ | AM60: =IF(COUNTA(I60:AL60)=0,1,1-COUNTIF(I60:AL60,"☓")/30) -> 1 | AN60: =COUNTA(I60:AL60) -> 0
B61: 51 | F61: ０７０２９ | G61: 高浜町７－２ | H61: １．０ | AM61: =IF(COUNTA(I61:AL61)=0,1,1-COUNTIF(I61:AL61,"☓")/30) -> 1 | AN61: =COUNTA(I61:AL61) -> 0
F62: 合計 | I62: =1-(COUNTIF(I60:I61,"☓"))/2 -> 1 | J62: =1-(COUNTIF(J60:J61,"☓"))/2 -> 1 | K62: =1-(COUNTIF(K60:K61,"☓"))/2 -> 1 | L62: =1-(COUNTIF(L60:L61,"☓"))/2 -> 1 | M62: =1-(COUNTIF(M60:M61,"☓"))/2 -> 1 | N62: =1-(COUNTIF(N60:N61,"☓"))/2 -> 1 | O62: =1-(COUNTIF(O60:O61,"☓"))/2 -> 1 | P62: =1-(COUNTIF(P60:P61,"☓"))/2 -> 1 | ... AL62: =1-(COUNTIF(AL60:AL61,"☓"))/2 -> 1 | AM62: =IF(AN62=0,"100%",AVERAGE(AM60:AM61)) -> 100% | AN62: =SUM(AN60:AN61) -> 0
B63: 52 | C63: 宮川西側 | D63: ８００系統 | F63: ０８０１９ | G63: 若葉町４－１ | H63: １．５ | AM63: =IF(COUNTA(I63:AL63)=0,1,1-COUNTIF(I63:AL63,"☓")/30) -> 1 | AN63: =COUNTA(I63:AL63) -> 0
B64: 53 | F64: ０８０２９ | G64: 若葉町５－１ | H64: １．５ | AM64: =IF(COUNTA(I64:AL64)=0,1,1-COUNTIF(I64:AL64,"☓")/30) -> 1 | AN64: =COUNTA(I64:AL64) -> 0
B65: 54 | F65: ０８０３９ | G65: 若葉町５－２ | H65: １．５ | AM65: =IF(COUNTA(I65:AL65)=0,1,1-COUNTIF(I65:AL65,"☓")/30) -> 1 | AN65: =COUNTA(I65:AL65) -> 0
B66: 55 | F66: ０８０４９ | G66: 若葉町６－１ | H66: １．５ | AM66: =IF(COUNTA(I66:AL66)=0,1,1-COUNTIF(I66:AL66,"☓")/30) -> 1 | AN66: =COUNTA(I66:AL66) -> 0
B67: 56 | F67: ０８０５９ | G67: 若葉町６－２ | H67: １．５ | AM67: =IF(COUNTA(I67:AL67)=0,1,1-COUNTIF(I67:AL67,"☓")/30) -> 1 | AN67: =COUNTA(I67:AL67) -> 0
B68: 57 | F68: ０８０６９ | G68: 若葉町７－２ | H68: １．０ | AM68: =IF(COUNTA(I68:AL68)=0,1,1-COUNTIF(I68:AL68,"☓")/30) -> 1 | AN68: =COUNTA(I68:AL68) -> 0
B69: 58 | F69: ０８０７９ | G69: 若葉町７－３ | H69: １．０ | AM69: =IF(COUNTA(I69:AL69)=0,1,1-COUNTIF(I69:AL69,"☓")/30) -> 1 | AN69: =COUNTA(I69:AL69) -> 0
F70: 合計 | I70: =1-(COUNTIF(I63:I69,"☓"))/7 -> 1 | J70: =1-(COUNTIF(J63:J69,"☓"))/7 -> 1 | K70: =1-(COUNTIF(K63:K69,"☓"))/7 -> 1 | L70: =1-(COUNTIF(L63:L69,"☓"))/7 -> 1 | M70: =1-(COUNTIF(M63:M69,"☓"))/7 -> 1 | N70: =1-(COUNTIF(N63:N69,"☓"))/7 -> 1 | O70: =1-(COUNTIF(O63:O69,"☓"))/7 -> 1 | P70: =1-(COUNTIF(P63:P69,"☓"))/7 -> 1 | ... AL70: =1-(COUNTIF(AL63:AL69,"☓"))/7 -> 1 | AM70: =IF(AN70=0,"100%",AVERAGE(AM63:AM69)) -> 100% | AN70: =SUM(AN63:AN69) -> 0
B71: 59 | D71: ９００系統 | F71: ０９０１９ | G71: 若葉町２－１ | H71: １．５ | AM71: =IF(COUNTA(I71:AL71)=0,1,1-COUNTIF(I71:AL71,"☓")/30) -> 1 | AN71: =COUNTA(I71:AL71) -> 0
B72: 60 | F72: ０９０２９ | G72: 若葉町２－２ | H72: １．５ | AM72: =IF(COUNTA(I72:AL72)=0,1,1-COUNTIF(I72:AL72,"☓")/30) -> 1 | AN72: =COUNTA(I72:AL72) -> 0
F73: 合計 | I73: =1-(COUNTIF(I71:I72,"☓"))/2 -> 1 | J73: =1-(COUNTIF(J71:J72,"☓"))/2 -> 1 | K73: =1-(COUNTIF(K71:K72,"☓"))/2 -> 1 | L73: =1-(COUNTIF(L71:L72,"☓"))/2 -> 1 | M73: =1-(COUNTIF(M71:M72,"☓"))/2 -> 1 | N73: =1-(COUNTIF(N71:N72,"☓"))/2 -> 1 | O73: =1-(COUNTIF(O71:O72,"☓"))/2 -> 1 | P73: =1-(COUNTIF(P71:P72,"☓"))/2 -> 1 | ... AL73: =1-(COUNTIF(AL71:AL72,"☓"))/2 -> 1 | AM73: =IF(AN73=0,"100%",AVERAGE(AM71:AM72)) -> 100% | AN73: =SUM(AN71:AN72) -> 0
B74: 61 | D74: １０００系統 | F74: １００１９ | G74: 若葉町４－２ | H74: １．５ | AM74: =IF(COUNTA(I74:AL74)=0,1,1-COUNTIF(I74:AL74,"☓")/30) -> 1 | AN74: =COUNTA(I74:AL74) -> 0
B75: 62 | F75: １００２９ | G75: 若葉町７－１ | H75: １．０ | AM75: =IF(COUNTA(I75:AL75)=0,1,1-COUNTIF(I75:AL75,"☓")/30) -> 1 | AN75: =COUNTA(I75:AL75) -> 0
F76: 合計 | I76: =1-(COUNTIF(I74:I75,"☓"))/2 -> 1 | J76: =1-(COUNTIF(J74:J75,"☓"))/2 -> 1 | K76: =1-(COUNTIF(K74:K75,"☓"))/2 -> 1 | L76: =1-(COUNTIF(L74:L75,"☓"))/2 -> 1 | M76: =1-(COUNTIF(M74:M75,"☓"))/2 -> 1 | N76: =1-(COUNTIF(N74:N75,"☓"))/2 -> 1 | O76: =1-(COUNTIF(O74:O75,"☓"))/2 -> 1 | P76: =1-(COUNTIF(P74:P75,"☓"))/2 -> 1 | ... AL76: =1-(COUNTIF(AL74:AL75,"☓"))/2 -> 1 | AM76: =IF(AN76=0,"100%",AVERAGE(I76:AL76)) -> 100% | AN76: =SUM(AN74:AN75) -> 0
B77: 63 | D77: １１００系統 | F77: １１０１１ | G77: 緑町２ | H77: ０．７ | AM77: =IF(COUNTA(I77:AL77)=0,1,1-COUNTIF(I77:AL77,"☓")/30) -> 1 | AN77: =COUNTA(I77:AL77) -> 0
B78: 64 | F78: １１０２１ | G78: 緑町１ | H78: ０．７ | AM78: =IF(COUNTA(I78:AL78)=0,1,1-COUNTIF(I78:AL78,"☓")/30) -> 1 | AN78: =COUNTA(I78:AL78) -> 0
B79: 65 | F79: １１０３１ | G79: 緑町２ | H79: ０．７ | AM79: =IF(COUNTA(I79:AL79)=0,1,1-COUNTIF(I79:AL79,"☓")/30) -> 1 | AN79: =COUNTA(I79:AL79) -> 0
B80: 66 | F80: １１０４１ | G80: 緑町３ | H80: ０．７ | AM80: =IF(COUNTA(I80:AL80)=0,1,1-COUNTIF(I80:AL80,"☓")/30) -> 1 | AN80: =COUNTA(I80:AL80) -> 0
B81: 67 | F81: １１０５１ | G81: 緑町４ | H81: ０．７ | AM81: =IF(COUNTA(I81:AL81)=0,1,1-COUNTIF(I81:AL81,"☓")/30) -> 1 | AN81: =COUNTA(I81:AL81) -> 0
B82: 68 | F82: １１０６１ | G82: 緑町５ | H82: ０．７ | I82: ☓ | J82: ☓ | K82: ☓ | L82: ☓ | M82: ☓ | N82: ☓ | O82: ☓ | P82: ☓ | Q82: ☓ | R82: ☓ | S82: ☓ | T82: ☓ | U82: ☓ | V82: ☓ | W82: ☓ | X82: ☓ | Y82: ☓ | Z82: ☓ | AA82: ☓ | AB82: ☓ | AC82: ☓ | AD82: ☓ | AE82: ☓ | AF82: ☓ | AG82: ☓ | AH82: ☓ | AI82: ☓ | AJ82: ☓ | AK82: ☓ | AL82: ☓ | AM82: =IF(COUNTA(I82:AL82)=0,1,1-COUNTIF(I82:AL82,"☓")/30) -> 0 | AN82: =COUNTA(I82:AL82) -> 30
B83: 69 | F83: １１０６２ | G83: 緑町５ | H83: ０．７ | I83: ☓ | J83: ☓ | K83: ☓ | L83: ☓ | M83: ☓ | N83: ☓ | O83: ☓ | P83: ☓ | Q83: ☓ | R83: ☓ | S83: ☓ | T83: ☓ | U83: ☓ | V83: ☓ | W83: ☓ | X83: ☓ | Y83: ☓ | Z83: ☓ | AA83: ☓ | AB83: ☓ | AC83: ☓ | AD83: ☓ | AE83: ☓ | AF83: ☓ | AG83: ☓ | AH83: ☓ | AI83: ☓ | AJ83: ☓ | AK83: ☓ | AL83: ☓ | AM83: =IF(COUNTA(I83:AL83)=0,1,1-COUNTIF(I83:AL83,"☓")/30) -> 0 | AN83: =COUNTA(I83:AL83) -> 30
B84: 70 | F84: １１０６３ | G84: 潮見町８ | H84: ０．７ | I84: ☓ | J84: ☓ | K84: ☓ | L84: ☓ | M84: ☓ | N84: ☓ | O84: ☓ | P84: ☓ | Q84: ☓ | R84: ☓ | S84: ☓ | T84: ☓ | U84: ☓ | V84: ☓ | W84: ☓ | X84: ☓ | Y84: ☓ | Z84: ☓ | AA84: ☓ | AB84: ☓ | AC84: ☓ | AD84: ☓ | AE84: ☓ | AF84: ☓ | AG84: ☓ | AH84: ☓ | AI84: ☓ | AJ84: ☓ | AK84: ☓ | AL84: ☓ | AM84: =IF(COUNTA(I84:AL84)=0,1,1-COUNTIF(I84:AL84,"☓")/30) -> 0 | AN84: =COUNTA(I84:AL84) -> 30
B85: 71 | F85: １１０７１ | G85: 緑町７ | H85: ０．７ | I85: ☓ | J85: ☓ | K85: ☓ | L85: ☓ | M85: ☓ | N85: ☓ | O85: ☓ | P85: ☓ | Q85: ☓ | R85: ☓ | S85: ☓ | T85: ☓ | U85: ☓ | V85: ☓ | W85: ☓ | X85: ☓ | Y85: ☓ | Z85: ☓ | AA85: ☓ | AB85: ☓ | AC85: ☓ | AD85: ☓ | AE85: ☓ | AF85: ☓ | AG85: ☓ | AH85: ☓ | AI85: ☓ | AJ85: ☓ | AK85: ☓ | AL85: ☓ | AM85: =IF(COUNTA(I85:AL85)=0,1,1-COUNTIF(I85:AL85,"☓")/30) -> 0 | AN85: =COUNTA(I85:AL85) -> 30
