Workbook

Sheet 2024年度
I1: 2021年度
B2: Ｎｏ． | C2: 地区 | D2: 系統 | F2: 投入口ｱﾄﾞﾚｽ | G2: 住所 | H2: 容量（ｍ２） | I2: ４月 | K2: ５月 | M2: ６月 | O2: ７月 | Q2: ８月 | S2: ９月 | U2: １０月 | W2: １１月 | Y2: １２月 | AA2: １月 | AC2: ２月 | AE2: ３月 | AG2: 年間稼働率 | AH2: 年間停止日数
I3: 稼働率 | J3: 停止日 | K3: 稼働率 | L3: 停止日 | M3: 稼働率 | N3: 停止日 | O3: 稼働率 | P3: 停止日 | Q3: 稼働率 | R3: 停止日 | S3: 稼働率 | T3: 停止日 | U3: 稼働率 | V3: 停止日 | W3: 稼働率 | X3: 停止日 | Y3: 稼働率 | Z3: 停止日 | AA3: 稼働率 | AB3: 停止日 | AC3: 稼働率 | AD3: 停止日 | AE3: 稼働率 | AF3: 停止日
B4: 1 | C4: 宮川東側 | D4: １００系統 | F4: ０１０１１ | G4: 浜風町２１ | H4: ０．７ | I4: ='4月'!AM5 -> 1 | J4: ='4月'!AN5 -> 0 | K4: ='5月'!AN5 -> 1 | L4: ='5月'!AO5 -> 0 | M4: ='6月（停止あり）'!AM5 -> 0.7 | N4: ='6月（停止あり）'!AN5 -> 9 | O4: ='7月（停止あり）'!AN5 -> 1 | P4: ='7月（停止あり）'!AO5 -> 0 | Q4: ='8月（停止あり）'!AN5 -> 1 | R4: ='8月（停止あり）'!AO5 -> 0 | S4: ='9月（停止あり）'!AM5 -> 1 | T4: ='9月（停止あり）'!AN5 -> 0 | U4: ='10月(停止あり）'!AN5 -> 1 | V4: ='10月(停止あり）'!AO5 -> 0 | W4: ='11月（停止あり）'!AM5 -> 1 | X4: ='11月（停止あり）'!AN5 -> 0 | Y4: ='12月'!AN5 -> 1 | Z4: ='12月'!AO5 -> 0 | AA4: ='1月'!AN5 -> 1 | AB4: ='1月'!AO5 -> 0 | AC4: ='2月'!AL5 -> 1 | AD4: ='2月'!AM5 -> 0 | AE4: ='3月'!AN5 -> 1 | AF4: ='3月'!AO5 -> 0 | AG4: =IF(AH4=0,1,1-AH4/365) -> 0.97534247 | AH4: =J4+L4+N4+P4+R4+T4+V4+X4+Z4+AB4+AD4+AF4 -> 9
B5: 2 | F5: ０１０１２ | G5: 浜風町２２ | H5: ０．７ | I5: ='4月'!AM6 -> 1 | J5: ='4月'!AN6 -> 0 | K5: ='5月'!AN6 -> 1 | L5: ='5月'!AO6 -> 0 | M5: ='6月（停止あり）'!AM6 -> 0.7 | N5: ='6月（停止あり）'!AN6 -> 9 | O5: ='7月（停止あり）'!AN6 -> 1 | P5: ='7月（停止あり）'!AO6 -> 0 | Q5: ='8月（停止あり）'!AN6 -> 1 | R5: ='8月（停止あり）'!AO6 -> 0 | S5: ='9月（停止あり）'!AM6 -> 1 | T5: ='9月（停止あり）'!AN6 -> 0 | U5: ='10月(停止あり）'!AN6 -> 1 | V5: ='10月(停止あり）'!AO6 -> 0 | W5: ='11月（停止あり）'!AM6 -> 1 | X5: ='11月（停止あり）'!AN6 -> 0 | Y5: ='12月'!AN6 -> 1 | Z5: ='12月'!AO6 -> 0 | AA5: ='1月'!AN6 -> 1 | AB5: ='1月'!AO6 -> 0 | AC5: ='2月'!AL6 -> 1 | AD5: ='2月'!AM6 -> 0 | AE5: ='3月'!AN6 -> 1 | AF5: ='3月'!AO6 -> 0 | AG5: =IF(AH5=0,1,1-AH5/365) -> 0.97534247 | AH5: =J5+L5+N5+P5+R5+T5+V5+X5+Z5+AB5+AD5+AF5 -> 9
B6: 3 | F6: ０１０１３ | G6: 浜風町２４ | H6: ０．７ | I6: ='4月'!AM7 -> 1 | J6: ='4月'!AN7 -> 0 | K6: ='5月'!AN7 -> 1 | L6: ='5月'!AO7 -> 0 | M6: ='6月（停止あり）'!AM7 -> 0.7 | N6: ='6月（停止あり）'!AN7 -> 9 | O6: ='7月（停止あり）'!AN7 -> 1 | P6: ='7月（停止あり）'!AO7 -> 0 | Q6: ='8月（停止あり）'!AN7 -> 1 | R6: ='8月（停止あり）'!AO7 -> 0 | S6: ='9月（停止あり）'!AM7 -> 1 | T6: ='9月（停止あり）'!AN7 -> 0 | U6: ='10月(停止あり）'!AN7 -> 1 | V6: ='10月(停止あり）'!AO7 -> 0 | W6: ='11月（停止あり）'!AM7 -> 1 | X6: ='11月（停止あり）'!AN7 -> 0 | Y6: ='12月'!AN7 -> 1 | Z6: ='12月'!AO7 -> 0 | AA6: ='1月'!AN7 -> 1 | AB6: ='1月'!AO7 -> 0 | AC6: ='2月'!AL7 -> 1 | AD6: ='2月'!AM7 -> 0 | AE6: ='3月'!AN7 -> 1 | AF6: ='3月'!AO7 -> 0 | AG6: =IF(AH6=0,1,1-AH6/365) -> 0.97534247 | AH6: =J6+L6+N6+P6+R6+T6+V6+X6+Z6+AB6+AD6+AF6 -> 9
B7: 4 | F7: ０１０１４ | G7: 浜風町２７ | H7: ０．７ | I7: ='4月'!AM8 -> 1 | J7: ='4月'!AN8 -> 0 | K7: ='5月'!AN8 -> 1 | L7: ='5月'!AO8 -> 0 | M7: ='6月（停止あり）'!AM8 -> 0.7 | N7: ='6月（停止あり）'!AN8 -> 9 | O7: ='7月（停止あり）'!AN8 -> 1 | P7: ='7月（停止あり）'!AO8 -> 0 | Q7: ='8月（停止あり）'!AN8 -> 1 | R7: ='8月（停止あり）'!AO8 -> 0 | S7: ='9月（停止あり）'!AM8 -> 1 | T7: ='9月（停止あり）'!AN8 -> 0 | U7: ='10月(停止あり）'!AN8 -> 1 | V7: ='10月(停止あり）'!AO8 -> 0 | W7: ='11月（停止あり）'!AM8 -> 1 | X7: ='11月（停止あり）'!AN8 -> 0 | Y7: ='12月'!AN8 -> 1 | Z7: ='12月'!AO8 -> 0 | AA7: ='1月'!AN8 -> 1 | AB7: ='1月'!AO8 -> 0 | AC7: ='2月'!AL8 -> 1 | AD7: ='2月'!AM8 -> 0 | AE7: ='3月'!AN8 -> 1 | AF7: ='3月'!AO8 -> 0 | AG7: =IF(AH7=0,1,1-AH7/365) -> 0.97534247 | AH7: =J7+L7+N7+P7+R7+T7+V7+X7+Z7+AB7+AD7+AF7 -> 9
B8: 5 | F8: ０１０２１ | G8: 浜風町１９ | H8: ０．７ | I8: ='4月'!AM9 -> 1 | J8: ='4月'!AN9 -> 0 | K8: ='5月'!AN9 -> 1 | L8: ='5月'!AO9 -> 0 | M8: ='6月（停止あり）'!AM9 -> 0.7 | N8: ='6月（停止あり）'!AN9 -> 9 | O8: ='7月（停止あり）'!AN9 -> 1 | P8: ='7月（停止あり）'!AO9 -> 0 | Q8: ='8月（停止あり）'!AN9 -> 1 | R8: ='8月（停止あり）'!AO9 -> 0 | S8: ='9月（停止あり）'!AM9 -> 1 | T8: ='9月（停止あり）'!AN9 -> 0 | U8: ='10月(停止あり）'!AN9 -> 1 | V8: ='10月(停止あり）'!AO9 -> 0 | W8: ='11月（停止あり）'!AM9 -> 1 | X8: ='11月（停止あり）'!AN9 -> 0 | Y8: ='12月'!AN9 -> 1 | Z8: ='12月'!AO9 -> 0 | AA8: ='1月'!AN9 -> 1 | AB8: ='1月'!AO9 -> 0 | AC8: ='2月'!AL9 -> 1 | AD8: ='2月'!AM9 -> 0 | AE8: ='3月'!AN9 -> 1 | AF8: ='3月'!AO9 -> 0 | AG8: =IF(AH8=0,1,1-AH8/365) -> 0.97534247 | AH8: =J8+L8+N8+P8+R8+T8+V8+X8+Z8+AB8+AD8+AF8 -> 9
B9: 6 | F9: ０１０３１ | G9: 浜風町１８ | H9: ０．７ | I9: ='4月'!AM10 -> 1 | J9: ='4月'!AN10 -> 0 | K9: ='5月'!AN10 -> 1 | L9: ='5月'!AO10 -> 0 | M9: ='6月（停止あり）'!AM10 -> 0.7 | N9: ='6月（停止あり）'!AN10 -> 9 | O9: ='7月（停止あり）'!AN10 -> 1 | P9: ='7月（停止あり）'!AO10 -> 0 | Q9: ='8月（停止あり）'!AN10 -> 1 | R9: ='8月（停止あり）'!AO10 -> 0 | S9: ='9月（停止あり）'!AM10 -> 1 | T9: ='9月（停止あり）'!AN10 -> 0 | U9: ='10月(停止あり）'!AN10 -> 1 | V9: ='10月(停止あり）'!AO10 -> 0 | W9: ='11月（停止あり）'!AM10 -> 1 | X9: ='11月（停止あり）'!AN10 -> 0 | Y9: ='12月'!AN10 -> 1 | Z9: ='12月'!AO10 -> 0 | AA9: ='1月'!AN10 -> 1 | AB9: ='1月'!AO10 -> 0 | AC9: ='2月'!AL10 -> 1 | AD9: ='2月'!AM10 -> 0 | AE9: ='3月'!AN10 -> 1 | AF9: ='3月'!AO10 -> 0 | AG9: =IF(AH9=0,1,1-AH9/365) -> 0.97534247 | AH9: =J9+L9+N9+P9+R9+T9+V9+X9+Z9+AB9+AD9+AF9 -> 9
F10: 合計 | H10: =COUNTA(H4:H9) -> 6 | I10: ='4月'!AM11 -> 100% | J10: ='4月'!AN11 -> 0 | K10: ='5月'!AN11 -> 100% | L10: ='5月'!AO11 -> 0 | M10: ='6月（停止あり）'!AM11 -> 0.7 | N10: ='6月（停止あり）'!AN11 -> 54 | O10: ='7月（停止あり）'!AN11 -> 100% | P10: ='7月（停止あり）'!AO11 -> 0 | Q10: ='8月（停止あり）'!AN11 -> 100% | R10: ='8月（停止あり）'!AO11 -> 0 | S10: ='9月（停止あり）'!AM11 -> 100% | T10: ='9月（停止あり）'!AN11 -> 0 | U10: ='10月(停止あり）'!AN11 -> 100% | V10: ='10月(停止あり）'!AO11 -> 0 | W10: ='11月（停止あり）'!AM11 -> 100% | X10: ='11月（停止あり）'!AN11 -> 0 | Y10: ='12月'!AN11 -> 100% | Z10: ='12月'!AO11 -> 0 | AA10: ='1月'!AN11 -> 100% | AB10: ='1月'!AO11 -> 0 | AC10: ='2月'!AL11 -> 100% | AD10: ='2月'!AM11 -> 0 | AE10: ='3月'!AN11 -> 100% | AF10: ='3月'!AO11 -> 0 | AG10: =IF(AH10=0,1,1-AH10/2190) -> 0.97534247 | AH10: =SUM(AH4:AH9) -> 54
B11: 7 | D11: ３００系統 | E11: Ｋライン | F11: ０３０１１ | G11: 浜風町１ | H11: ０．７ | I11: ='4月'!AM12 -> 1 | J11: ='4月'!AN12 -> 0 | K11: ='5月'!AN12 -> 1 | L11: ='5月'!AO12 -> 0 | M11: ='6月（停止あり）'!AM12 -> 0.7 | N11: ='6月（停止あり）'!AN12 -> 9 | O11: ='7月（停止あり）'!AN12 -> 1 | P11: ='7月（停止あり）'!AO12 -> 0 | Q11: ='8月（停止あり）'!AN12 -> 1 | R11: ='8月（停止あり）'!AO12 -> 0 | S11: ='9月（停止あり）'!AM12 -> 1 | T11: ='9月（停止あり）'!AN12 -> 0 | U11: ='10月(停止あり）'!AN12 -> 1 | V11: ='10月(停止あり）'!AO12 -> 0 | W11: ='11月（停止あり）'!AM12 -> 1 | X11: ='11月（停止あり）'!AN12 -> 0 | Y11: ='12月'!AN12 -> 1 | Z11: ='12月'!AO12 -> 0 | AA11: ='1月'!AN12 -> 1 | AB11: ='1月'!AO12 -> 0 | AC11: ='2月'!AL12 -> 1 | AD11: ='2月'!AM12 -> 0 | AE11: ='3月'!AN12 -> 1 | AF11: ='3月'!AO12 -> 0 | AG11: =IF(AH11=0,1,1-AH11/365) -> 0.97534247 | AH11: =J11+L11+N11+P11+R11+T11+V11+X11+Z11+AB11+AD11+AF11 -> 9
B12: 8 | F12: ０３０３１ | G12: 浜風町８ | H12: ０．７ | I12: ='4月'!AM13 -> 1 | J12: ='4月'!AN13 -> 0 | K12: ='5月'!AN13 -> 1 | L12: ='5月'!AO13 -> 0 | M12: ='6月（停止あり）'!AM13 -> 0.7 | N12: ='6月（停止あり）'!AN13 -> 9 | O12: ='7月（停止あり）'!AN13 -> 1 | P12: ='7月（停止あり）'!AO13 -> 0 | Q12: ='8月（停止あり）'!AN13 -> 1 | R12: ='8月（停止あり）'!AO13 -> 0 | S12: ='9月（停止あり）'!AM13 -> 1 | T12: ='9月（停止あり）'!AN13 -> 0 | U12: ='10月(停止あり）'!AN13 -> 1 | V12: ='10月(停止あり）'!AO13 -> 0 | W12: ='11月（停止あり）'!AM13 -> 1 | X12: ='11月（停止あり）'!AN13 -> 0 | Y12: ='12月'!AN13 -> 1 | Z12: ='12月'!AO13 -> 0 | AA12: ='1月'!AN13 -> 1 | AB12: ='1月'!AO13 -> 0 | AC12: ='2月'!AL13 -> 1 | AD12: ='2月'!AM13 -> 0 | AE12: ='3月'!AN13 -> 1 | AF12: ='3月'!AO13 -> 0 | AG12: =IF(AH12=0,1,1-AH12/365) -> 0.97534247 | AH12: =J12+L12+N12+P12+R12+T12+V12+X12+Z12+AB12+AD12+AF12 -> 9
B13: 9 | F13: ０３０３２ | G13: 浜風町２ | H13: ０．７ | I13: ='4月'!AM14 -> 1 | J13: ='4月'!AN14 -> 0 | K13: ='5月'!AN14 -> 1 | L13: ='5月'!AO14 -> 0 | M13: ='6月（停止あり）'!AM14 -> 0.7 | N13: ='6月（停止あり）'!AN14 -> 9 | O13: ='7月（停止あり）'!AN14 -> 1 | P13: ='7月（停止あり）'!AO14 -> 0 | Q13: ='8月（停止あり）'!AN14 -> 1 | R13: ='8月（停止あり）'!AO14 -> 0 | S13: ='9月（停止あり）'!AM14 -> 1 | T13: ='9月（停止あり）'!AN14 -> 0 | U13: ='10月(停止あり）'!AN14 -> 1 | V13: ='10月(停止あり）'!AO14 -> 0 | W13: ='11月（停止あり）'!AM14 -> 1 | X13: ='11月（停止あり）'!AN14 -> 0 | Y13: ='12月'!AN14 -> 1 | Z13: ='12月'!AO14 -> 0 | AA13: ='1月'!AN14 -> 1 | AB13: ='1月'!AO14 -> 0 | AC13: ='2月'!AL14 -> 1 | AD13: ='2月'!AM14 -> 0 | AE13: ='3月'!AN14 -> 1 | AF13: ='3月'!AO14 -> 0 | AG13: =IF(AH13=0,1,1-AH13/365) -> 0.97534247 | AH13: =J13+L13+N13+P13+R13+T13+V13+X13+Z13+AB13+AD13+AF13 -> 9
B14: 10 | F14: ０３０２１ | G14: 浜風町８ | H14: ０．７ | I14: ='4月'!AM15 -> 1 | J14: ='4月'!AN15 -> 0 | K14: ='5月'!AN15 -> 1 | L14: ='5月'!AO15 -> 0 | M14: ='6月（停止あり）'!AM15 -> 0.7 | N14: ='6月（停止あり）'!AN15 -> 9 | O14: ='7月（停止あり）'!AN15 -> 1 | P14: ='7月（停止あり）'!AO15 -> 0 | Q14: ='8月（停止あり）'!AN15 -> 1 | R14: ='8月（停止あり）'!AO15 -> 0 | S14: ='9月（停止あり）'!AM15 -> 1 | T14: ='9月（停止あり）'!AN15 -> 0 | U14: ='10月(停止あり）'!AN15 -> 1 | V14: ='10月(停止あり）'!AO15 -> 0 | W14: ='11月（停止あり）'!AM15 -> 1 | X14: ='11月（停止あり）'!AN15 -> 0 | Y14: ='12月'!AN15 -> 1 | Z14: ='12月'!AO15 -> 0 | AA14: ='1月'!AN15 -> 1 | AB14: ='1月'!AO15 -> 0 | AC14: ='2月'!AL15 -> 1 | AD14: ='2月'!AM15 -> 0 | AE14: ='3月'!AN15 -> 1 | AF14: ='3月'!AO15 -> 0 | AG14: =IF(AH14=0,1,1-AH14/365) -> 0.97534247 | AH14: =J14+L14+N14+P14+R14+T14+V14+X14+Z14+AB14+AD14+AF14 -> 9
B15: 11 | F15: ０３０３３ | G15: 浜風町７ | H15: ０．７ | I15: ='4月'!AM16 -> 1 | J15: ='4月'!AN16 -> 0 | K15: ='5月'!AN16 -> 1 | L15: ='5月'!AO16 -> 0 | M15: ='6月（停止あり）'!AM16 -> 0.7 | N15: ='6月（停止あり）'!AN16 -> 9 | O15: ='7月（停止あり）'!AN16 -> 1 | P15: ='7月（停止あり）'!AO16 -> 0 | Q15: ='8月（停止あり）'!AN16 -> 1 | R15: ='8月（停止あり）'!AO16 -> 0 | S15: ='9月（停止あり）'!AM16 -> 1 | T15: ='9月（停止あり）'!AN16 -> 0 | U15: ='10月(停止あり）'!AN16 -> 1 | V15: ='10月(停止あり）'!AO16 -> 0 | W15: ='11月（停止あり）'!AM16 -> 1 | X15: ='11月（停止あり）'!AN16 -> 0 | Y15: ='12月'!AN16 -> 1 | Z15: ='12月'!AO16 -> 0 | AA15: ='1月'!AN16 -> 1 | AB15: ='1月'!AO16 -> 0 | AC15: ='2月'!AL16 -> 1 | AD15: ='2月'!AM16 -> 0 | AE15: ='3月'!AN16 -> 1 | AF15: ='3月'!AO16 -> 0 | AG15: =IF(AH15=0,1,1-AH15/365) -> 0.97534247 | AH15: =J15+L15+N15+P15+R15+T15+V15+X15+Z15+AB15+AD15+AF15 -> 9
B16: 12 | F16: ０３０４１ | G16: 浜風町７ | H16: ０．７ | I16: ='4月'!AM17 -> 1 | J16: ='4月'!AN17 -> 0 | K16: ='5月'!AN17 -> 1 | L16: ='5月'!AO17 -> 0 | M16: ='6月（停止あり）'!AM17 -> 0.7 | N16: ='6月（停止あり）'!AN17 -> 9 | O16: ='7月（停止あり）'!AN17 -> 1 | P16: ='7月（停止あり）'!AO17 -> 0 | Q16: ='8月（停止あり）'!AN17 -> 1 | R16: ='8月（停止あり）'!AO17 -> 0 | S16: ='9月（停止あり）'!AM17 -> 1 | T16: ='9月（停止あり）'!AN17 -> 0 | U16: ='10月(停止あり）'!AN17 -> 1 | V16: ='10月(停止あり）'!AO17 -> 0 | W16: ='11月（停止あり）'!AM17 -> 1 | X16: ='11月（停止あり）'!AN17 -> 0 | Y16: ='12月'!AN17 -> 1 | Z16: ='12月'!AO17 -> 0 | AA16: ='1月'!AN17 -> 1 | AB16: ='1月'!AO17 -> 0 | AC16: ='2月'!AL17 -> 1 | AD16: ='2月'!AM17 -> 0 | AE16: ='3月'!AN17 -> 1 | AF16: ='3月'!AO17 -> 0 | AG16: =IF(AH16=0,1,1-AH16/365) -> 0.97534247 | AH16: =J16+L16+N16+P16+R16+T16+V16+X16+Z16+AB16+AD16+AF16 -> 9
B17: 13 | F17: ０３０５１ | G17: 浜風町７ | H17: ０．７ | I17: ='4月'!AM18 -> 1 | J17: ='4月'!AN18 -> 0 | K17: ='5月'!AN18 -> 1 | L17: ='5月'!AO18 -> 0 | M17: ='6月（停止あり）'!AM18 -> 0.7 | N17: ='6月（停止あり）'!AN18 -> 9 | O17: ='7月（停止あり）'!AN18 -> 1 | P17: ='7月（停止あり）'!AO18 -> 0 | Q17: ='8月（停止あり）'!AN18 -> 1 | R17: ='8月（停止あり）'!AO18 -> 0 | S17: ='9月（停止あり）'!AM18 -> 1 | T17: ='9月（停止あり）'!AN18 -> 0 | U17: ='10月(停止あり）'!AN18 -> 1 | V17: ='10月(停止あり）'!AO18 -> 0 | W17: ='11月（停止あり）'!AM18 -> 1 | X17: ='11月（停止あり）'!AN18 -> 0 | Y17: ='12月'!AN18 -> 1 | Z17: ='12月'!AO18 -> 0 | AA17: ='1月'!AN18 -> 1 | AB17: ='1月'!AO18 -> 0 | AC17: ='2月'!AL18 -> 1 | AD17: ='2月'!AM18 -> 0 | AE17: ='3月'!AN18 -> 1 | AF17: ='3月'!AO18 -> 0 | AG17: =IF(AH17=0,1,1-AH17/365) -> 0.97534247 | AH17: =J17+L17+N17+P17+R17+T17+V17+X17+Z17+AB17+AD17+AF17 -> 9
B18: 14 | F18: ０３０５２ | G18: 浜風町３ | H18: ０．７ | I18: ='4月'!AM19 -> 1 | J18: ='4月'!AN19 -> 0 | K18: ='5月'!AN19 -> 1 | L18: ='5月'!AO19 -> 0 | M18: ='6月（停止あり）'!AM19 -> 0.7 | N18: ='6月（停止あり）'!AN19 -> 9 | O18: ='7月（停止あり）'!AN19 -> 1 | P18: ='7月（停止あり）'!AO19 -> 0 | Q18: ='8月（停止あり）'!AN19 -> 1 | R18: ='8月（停止あり）'!AO19 -> 0 | S18: ='9月（停止あり）'!AM19 -> 1 | T18: ='9月（停止あり）'!AN19 -> 0 | U18: ='10月(停止あり）'!AN19 -> 1 | V18: ='10月(停止あり）'!AO19 -> 0 | W18: ='11月（停止あり）'!AM19 -> 1 | X18: ='11月（停止あり）'!AN19 -> 0 | Y18: ='12月'!AN19 -> 1 | Z18: ='12月'!AO19 -> 0 | AA18: ='1月'!AN19 -> 1 | AB18: ='1月'!AO19 -> 0 | AC18: ='2月'!AL19 -> 1 | AD18: ='2月'!AM19 -> 0 | AE18: ='3月'!AN19 -> 1 | AF18: ='3月'!AO19 -> 0 | AG18: =IF(AH18=0,1,1-AH18/365) -> 0.97534247 | AH18: =J18+L18+N18+P18+R18+T18+V18+X18+Z18+AB18+AD18+AF18 -> 9
B19: 15 | F19: ０３０５３ | G19: 浜風町６ | H19: ０．７ | I19: ='4月'!AM20 -> 1 | J19: ='4月'!AN20 -> 0 | K19: ='5月'!AN20 -> 1 | L19: ='5月'!AO20 -> 0 | M19: ='6月（停止あり）'!AM20 -> 0.7 | N19: ='6月（停止あり）'!AN20 -> 9 | O19: ='7月（停止あり）'!AN20 -> 1 | P19: ='7月（停止あり）'!AO20 -> 0 | Q19: ='8月（停止あり）'!AN20 -> 1 | R19: ='8月（停止あり）'!AO20 -> 0 | S19: ='9月（停止あり）'!AM20 -> 1 | T19: ='9月（停止あり）'!AN20 -> 0 | U19: ='10月(停止あり）'!AN20 -> 1 | V19: ='10月(停止あり）'!AO20 -> 0 | W19: ='11月（停止あり）'!AM20 -> 1 | X19: ='11月（停止あり）'!AN20 -> 0 | Y19: ='12月'!AN20 -> 1 | Z19: ='12月'!AO20 -> 0 | AA19: ='1月'!AN20 -> 1 | AB19: ='1月'!AO20 -> 0 | AC19: ='2月'!AL20 -> 1 | AD19: ='2月'!AM20 -> 0 | AE19: ='3月'!AN20 -> 1 | AF19: ='3月'!AO20 -> 0 | AG19: =IF(AH19=0,1,1-AH19/365) -> 0.97534247 | AH19: =J19+L19+N19+P19+R19+T19+V19+X19+Z19+AB19+AD19+AF19 -> 9
B20: 16 | F20: ０３０６１ | G20: 浜風町５ | H20: ０．７ | I20: ='4月'!AM21 -> 1 | J20: ='4月'!AN21 -> 0 | K20: ='5月'!AN21 -> 1 | L20: ='5月'!AO21 -> 0 | M20: ='6月（停止あり）'!AM21 -> 0.7 | N20: ='6月（停止あり）'!AN21 -> 9 | O20: ='7月（停止あり）'!AN21 -> 1 | P20: ='7月（停止あり）'!AO21 -> 0 | Q20: ='8月（停止あり）'!AN21 -> 1 | R20: ='8月（停止あり）'!AO21 -> 0 | S20: ='9月（停止あり）'!AM21 -> 1 | T20: ='9月（停止あり）'!AN21 -> 0 | U20: ='10月(停止あり）'!AN21 -> 1 | V20: ='10月(停止あり）'!AO21 -> 0 | W20: ='11月（停止あり）'!AM21 -> 1 | X20: ='11月（停止あり）'!AN21 -> 0 | Y20: ='12月'!AN21 -> 1 | Z20: ='12月'!AO21 -> 0 | AA20: ='1月'!AN21 -> 1 | AB20: ='1月'!AO21 -> 0 | AC20: ='2月'!AL21 -> 1 | AD20: ='2月'!AM21 -> 0 | AE20: ='3月'!AN21 -> 1 | AF20: ='3月'!AO21 -> 0 | AG20: =IF(AH20=0,1,1-AH20/365) -> 0.97534247 | AH20: =J20+L20+N20+P20+R20+T20+V20+X20+Z20+AB20+AD20+AF20 -> 9
B21: 17 | F21: ０３０５４ | G21: 浜風町６ | H21: ０．７ | I21: ='4月'!AM22 -> 1 | J21: ='4月'!AN22 -> 0 | K21: ='5月'!AN22 -> 1 | L21: ='5月'!AO22 -> 0 | M21: ='6月（停止あり）'!AM22 -> 0.7 | N21: ='6月（停止あり）'!AN22 -> 9 | O21: ='7月（停止あり）'!AN22 -> 1 | P21: ='7月（停止あり）'!AO22 -> 0 | Q21: ='8月（停止あり）'!AN22 -> 1 | R21: ='8月（停止あり）'!AO22 -> 0 | S21: ='9月（停止あり）'!AM22 -> 1 | T21: ='9月（停止あり）'!AN22 -> 0 | U21: ='10月(停止あり）'!AN22 -> 1 | V21: ='10月(停止あり）'!AO22 -> 0 | W21: ='11月（停止あり）'!AM22 -> 1 | X21: ='11月（停止あり）'!AN22 -> 0 | Y21: ='12月'!AN22 -> 1 | Z21: ='12月'!AO22 -> 0 | AA21: ='1月'!AN22 -> 1 | AB21: ='1月'!AO22 -> 0 | AC21: ='2月'!AL22 -> 1 | AD21: ='2月'!AM22 -> 0 | AE21: ='3月'!AN22 -> 1 | AF21: ='3月'!AO22 -> 0 | AG21: =IF(AH21=0,1,1-AH21/365) -> 0.97534247 | AH21: =J21+L21+N21+P21+R21+T21+V21+X21+Z21+AB21+AD21+AF21 -> 9
F22: 合計 | H22: =COUNTA(H11:H21) -> 11 | I22: ='4月'!AM23 -> 100% | J22: ='4月'!AN23 -> 0 | K22: ='5月'!AN23 -> 100% | L22: ='5月'!AO23 -> 0 | M22: ='6月（停止あり）'!AM23 -> 0.7 | N22: ='6月（停止あり）'!AN23 -> 99 | O22: ='7月（停止あり）'!AN23 -> 100% | P22: ='7月（停止あり）'!AO23 -> 0 | Q22: ='8月（停止あり）'!AN23 -> 100% | R22: ='8月（停止あり）'!AO23 -> 0 | S22: ='9月（停止あり）'!AM23 -> 100% | T22: ='9月（停止あり）'!AN23 -> 0 | U22: ='10月(停止あり）'!AN23 -> 100% | V22: ='10月(停止あり）'!AO23 -> 0 | W22: ='11月（停止あり）'!AM23 -> 100% | X22: ='11月（停止あり）'!AN23 -> 0 | Y22: ='12月'!AN23 -> 100% | Z22: ='12月'!AO23 -> 0 | AA22: ='1月'!AN23 -> 100% | AB22: ='1月'!AO23 -> 0 | AC22: ='2月'!AL23 -> 100% | AD22: ='2月'!AM23 -> 0 | AE22: ='3月'!AN23 -> 100% | AF22: ='3月'!AO23 -> 0 | AG22: =IF(AH22=0,1,1-AH22/4015) -> 0.97534247 | AH22: =SUM(AH11:AH21) -> 99
B23: 18 | E23: Ｇライン | F23: ０３０７１ | G23: 新浜町４ | H23: ０．７ | I23: ='4月'!AM24 -> 1 | J23: ='4月'!AN24 -> 0 | K23: ='5月'!AN24 -> 1 | L23: ='5月'!AO24 -> 0 | M23: ='6月（停止あり）'!AM24 -> 0.7 | N23: ='6月（停止あり）'!AN24 -> 9 | O23: ='7月（停止あり）'!AN24 -> 1 | P23: ='7月（停止あり）'!AO24 -> 0 | Q23: ='8月（停止あり）'!AN24 -> 1 | R23: ='8月（停止あり）'!AO24 -> 0 | S23: ='9月（停止あり）'!AM24 -> 1 | T23: ='9月（停止あり）'!AN24 -> 0 | U23: ='10月(停止あり）'!AN24 -> 1 | V23: ='10月(停止あり）'!AO24 -> 0 | W23: ='11月（停止あり）'!AM24 -> 1 | X23: ='11月（停止あり）'!AN24 -> 0 | Y23: ='12月'!AN24 -> 1 | Z23: ='12月'!AO24 -> 0 | AA23: ='1月'!AN24 -> 1 | AB23: ='1月'!AO24 -> 0 | AC23: ='2月'!AL24 -> 1 | AD23: ='2月'!AM24 -> 0 | AE23: ='3月'!AN24 -> 1 | AF23: ='3月'!AO24 -> 0 | AG23: =IF(AH23=0,1,1-AH23/365) -> 0.97534247 | AH23: =J23+L23+N23+P23+R23+T23+V23+X23+Z23+AB23+AD23+AF23 -> 9
B24: 19 | F24: ０３０７２ | G24: 新浜町４ | H24: ０．７ | I24: ='4月'!AM25 -> 1 | J24: ='4月'!AN25 -> 0 | K24: ='5月'!AN25 -> 1 | L24: ='5月'!AO25 -> 0 | M24: ='6月（停止あり）'!AM25 -> 0.7 | N24: ='6月（停止あり）'!AN25 -> 9 | O24: ='7月（停止あり）'!AN25 -> 1 | P24: ='7月（停止あり）'!AO25 -> 0 | Q24: ='8月（停止あり）'!AN25 -> 1 | R24: ='8月（停止あり）'!AO25 -> 0 | S24: ='9月（停止あり）'!AM25 -> 1 | T24: ='9月（停止あり）'!AN25 -> 0 | U24: ='10月(停止あり）'!AN25 -> 1 | V24: ='10月(停止あり）'!AO25 -> 0 | W24: ='11月（停止あり）'!AM25 -> 1 | X24: ='11月（停止あり）'!AN25 -> 0 | Y24: ='12月'!AN25 -> 1 | Z24: ='12月'!AO25 -> 0 | AA24: ='1月'!AN25 -> 1 | AB24: ='1月'!AO25 -> 0 | AC24: ='2月'!AL25 -> 1 | AD24: ='2月'!AM25 -> 0 | AE24: ='3月'!AN25 -> 1 | AF24: ='3月'!AO25 -> 0 | AG24: =IF(AH24=0,1,1-AH24/365) -> 0.97534247 | AH24: =J24+L24+N24+P24+R24+T24+V24+X24+Z24+AB24+AD24+AF24 -> 9
B25: 20 | F25: ０３０８１ | G25: 新浜町５ | H25: ０．７ | I25: ='4月'!AM26 -> 1 | J25: ='4月'!AN26 -> 0 | K25: ='5月'!AN26 -> 1 | L25: ='5月'!AO26 -> 0 | M25: ='6月（停止あり）'!AM26 -> 0.7 | N25: ='6月（停止あり）'!AN26 -> 9 | O25: ='7月（停止あり）'!AN26 -> 1 | P25: ='7月（停止あり）'!AO26 -> 0 | Q25: ='8月（停止あり）'!AN26 -> 1 | R25: ='8月（停止あり）'!AO26 -> 0 | S25: ='9月（停止あり）'!AM26 -> 1 | T25: ='9月（停止あり）'!AN26 -> 0 | U25: ='10月(停止あり）'!AN26 -> 1 | V25: ='10月(停止あり）'!AO26 -> 0 | W25: ='11月（停止あり）'!AM26 -> 1 | X25: ='11月（停止あり）'!AN26 -> 0 | Y25: ='12月'!AN26 -> 1 | Z25: ='12月'!AO26 -> 0 | AA25: ='1月'!AN26 -> 1 | AB25: ='1月'!AO26 -> 0 | AC25: ='2月'!AL26 -> 1 | AD25: ='2月'!AM26 -> 0 | AE25: ='3月'!AN26 -> 1 | AF25: ='3月'!AO26 -> 0 | AG25: =IF(AH25=0,1,1-AH25/365) -> 0.97534247 | AH25: =J25+L25+N25+P25+R25+T25+V25+X25+Z25+AB25+AD25+AF25 -> 9
B26: 21 | F26: ０３１３９ | G26: 新浜町２ | H26: １．５ | I26: ='4月'!AM27 -> 1 | J26: ='4月'!AN27 -> 0 | K26: ='5月'!AN27 -> 1 | L26: ='5月'!AO27 -> 0 | M26: ='6月（停止あり）'!AM27 -> 0.7 | N26: ='6月（停止あり）'!AN27 -> 9 | O26: ='7月（停止あり）'!AN27 -> 1 | P26: ='7月（停止あり）'!AO27 -> 0 | Q26: ='8月（停止あり）'!AN27 -> 1 | R26: ='8月（停止あり）'!AO27 -> 0 | S26: ='9月（停止あり）'!AM27 -> 1 | T26: ='9月（停止あり）'!AN27 -> 0 | U26: ='10月(停止あり）'!AN27 -> 1 | V26: ='10月(停止あり）'!AO27 -> 0 | W26: ='11月（停止あり）'!AM27 -> 1 | X26: ='11月（停止あり）'!AN27 -> 0 | Y26: ='12月'!AN27 -> 1 | Z26: ='12月'!AO27 -> 0 | AA26: ='1月'!AN27 -> 1 | AB26: ='1月'!AO27 -> 0 | AC26: ='2月'!AL27 -> 1 | AD26: ='2月'!AM27 -> 0 | AE26: ='3月'!AN27 -> 1 | AF26: ='3月'!AO27 -> 0 | AG26: =IF(AH26=0,1,1-AH26/365) -> 0.97534247 | AH26: =J26+L26+N26+P26+R26+T26+V26+X26+Z26+AB26+AD26+AF26 -> 9
B27: 22 | F27: ０３１４９ | G27: 新浜町２ | H27: １．５ | I27: ='4月'!AM28 -> 1 | J27: ='4月'!AN28 -> 0 | K27: ='5月'!AN28 -> 1 | L27: ='5月'!AO28 -> 0 | M27: ='6月（停止あり）'!AM28 -> 0.7 | N27: ='6月（停止あり）'!AN28 -> 9 | O27: ='7月（停止あり）'!AN28 -> 1 | P27: ='7月（停止あり）'!AO28 -> 0 | Q27: ='8月（停止あり）'!AN28 -> 1 | R27: ='8月（停止あり）'!AO28 -> 0 | S27: ='9月（停止あり）'!AM28 -> 1 | T27: ='9月（停止あり）'!AN28 -> 0 | U27: ='10月(停止あり）'!AN28 -> 1 | V27: ='10月(停止あり）'!AO28 -> 0 | W27: ='11月（停止あり）'!AM28 -> 1 | X27: ='11月（停止あり）'!AN28 -> 0 | Y27: ='12月'!AN28 -> 1 | Z27: ='12月'!AO28 -> 0 | AA27: ='1月'!AN28 -> 1 | AB27: ='1月'!AO28 -> 0 | AC27: ='2月'!AL28 -> 1 | AD27: ='2月'!AM28 -> 0 | AE27: ='3月'!AN28 -> 1 | AF27: ='3月'!AO28 -> 0 | AG27: =IF(AH27=0,1,1-AH27/365) -> 0.97534247 | AH27: =J27+L27+N27+P27+R27+T27+V27+X27+Z27+AB27+AD27+AF27 -> 9
B28: 23 | F28: ０３１５９ | G28: 新浜町２ | H28: １．５ | I28: ='4月'!AM29 -> 1 | J28: ='4月'!AN29 -> 0 | K28: ='5月'!AN29 -> 1 | L28: ='5月'!AO29 -> 0 | M28: ='6月（停止あり）'!AM29 -> 0.7 | N28: ='6月（停止あり）'!AN29 -> 9 | O28: ='7月（停止あり）'!AN29 -> 1 | P28: ='7月（停止あり）'!AO29 -> 0 | Q28: ='8月（停止あり）'!AN29 -> 1 | R28: ='8月（停止あり）'!AO29 -> 0 | S28: ='9月（停止あり）'!AM29 -> 1 | T28: ='9月（停止あり）'!AN29 -> 0 | U28: ='10月(停止あり）'!AN29 -> 1 | V28: ='10月(停止あり）'!AO29 -> 0 | W28: ='11月（停止あり）'!AM29 -> 1 | X28: ='11月（停止あり）'!AN29 -> 0 | Y28: ='12月'!AN29 -> 1 | Z28: ='12月'!AO29 -> 0 | AA28: ='1月'!AN29 -> 1 | AB28: ='1月'!AO29 -> 0 | AC28: ='2月'!AL29 -> 1 | AD28: ='2月'!AM29 -> 0 | AE28: ='3月'!AN29 -> 1 | AF28: ='3月'!AO29 -> 0 | AG28: =IF(AH28=0,1,1-AH28/365) -> 0.97534247 | AH28: =J28+L28+N28+P28+R28+T28+V28+X28+Z28+AB28+AD28+AF28 -> 9
B29: 24 | F29: ０３１１１ | G29: 新浜町６ | H29: ０．７ | I29: ='4月'!AM30 -> 1 | J29: ='4月'!AN30 -> 0 | K29: ='5月'!AN30 -> 1 | L29: ='5月'!AO30 -> 0 | M29: ='6月（停止あり）'!AM30 -> 0.7 | N29: ='6月（停止あり）'!AN30 -> 9 | O29: ='7月（停止あり）'!AN30 -> 1 | P29: ='7月（停止あり）'!AO30 -> 0 | Q29: ='8月（停止あり）'!AN30 -> 1 | R29: ='8月（停止あり）'!AO30 -> 0 | S29: ='9月（停止あり）'!AM30 -> 1 | T29: ='9月（停止あり）'!AN30 -> 0 | U29: ='10月(停止あり）'!AN30 -> 1 | V29: ='10月(停止あり）'!AO30 -> 0 | W29: ='11月（停止あり）'!AM30 -> 1 | X29: ='11月（停止あり）'!AN30 -> 0 | Y29: ='12月'!AN30 -> 1 | Z29: ='12月'!AO30 -> 0 | AA29: ='1月'!AN30 -> 1 | AB29: ='1月'!AO30 -> 0 | AC29: ='2月'!AL30 -> 1 | AD29: ='2月'!AM30 -> 0 | AE29: ='3月'!AN30 -> 1 | AF29: ='3月'!AO30 -> 0 | AG29: =IF(AH29=0,1,1-AH29/365) -> 0.97534247 | AH29: =J29+L29+N29+P29+R29+T29+V29+X29+Z29+AB29+AD29+AF29 -> 9
B30: 25 | F30: ０３０９９ | G30: 浜風町３０ | H30: １．５ | I30: ='4月'!AM31 -> 1 | J30: ='4月'!AN31 -> 0 | K30: ='5月'!AN31 -> 1 | L30: ='5月'!AO31 -> 0 | M30: ='6月（停止あり）'!AM31 -> 0.7 | N30: ='6月（停止あり）'!AN31 -> 9 | O30: ='7月（停止あり）'!AN31 -> 1 | P30: ='7月（停止あり）'!AO31 -> 0 | Q30: ='8月（停止あり）'!AN31 -> 1 | R30: ='8月（停止あり）'!AO31 -> 0 | S30: ='9月（停止あり）'!AM31 -> 1 | T30: ='9月（停止あり）'!AN31 -> 0 | U30: ='10月(停止あり）'!AN31 -> 1 | V30: ='10月(停止あり）'!AO31 -> 0 | W30: ='11月（停止あり）'!AM31 -> 1 | X30: ='11月（停止あり）'!AN31 -> 0 | Y30: ='12月'!AN31 -> 1 | Z30: ='12月'!AO31 -> 0 | AA30: ='1月'!AN31 -> 1 | AB30: ='1月'!AO31 -> 0 | AC30: ='2月'!AL31 -> 1 | AD30: ='2月'!AM31 -> 0 | AE30: ='3月'!AN31 -> 1 | AF30: ='3月'!AO31 -> 0 | AG30: =IF(AH30=0,1,1-AH30/365) -> 0.97534247 | AH30: =J30+L30+N30+P30+R30+T30+V30+X30+Z30+AB30+AD30+AF30 -> 9
B31: 26 | F31: ０３１１２ | G31: 新浜町７ | H31: ０．７ | I31: ='4月'!AM32 -> 1 | J31: ='4月'!AN32 -> 0 | K31: ='5月'!AN32 -> 1 | L31: ='5月'!AO32 -> 0 | M31: ='6月（停止あり）'!AM32 -> 0.7 | N31: ='6月（停止あり）'!AN32 -> 9 | O31: ='7月（停止あり）'!AN32 -> 1 | P31: ='7月（停止あり）'!AO32 -> 0 | Q31: ='8月（停止あり）'!AN32 -> 1 | R31: ='8月（停止あり）'!AO32 -> 0 | S31: ='9月（停止あり）'!AM32 -> 1 | T31: ='9月（停止あり）'!AN32 -> 0 | U31: ='10月(停止あり）'!AN32 -> 1 | V31: ='10月(停止あり）'!AO32 -> 0 | W31: ='11月（停止あり）'!AM32 -> 1 | X31: ='11月（停止あり）'!AN32 -> 0 | Y31: ='12月'!AN32 -> 1 | Z31: ='12月'!AO32 -> 0 | AA31: ='1月'!AN32 -> 1 | AB31: ='1月'!AO32 -> 0 | AC31: ='2月'!AL32 -> 1 | AD31: ='2月'!AM32 -> 0 | AE31: ='3月'!AN32 -> 1 | AF31: ='3月'!AO32 -> 0 | AG31: =IF(AH31=0,1,1-AH31/365) -> 0.97534247 | AH31: =J31+L31+N31+P31+R31+T31+V31+X31+Z31+AB31+AD31+AF31 -> 9
B32: 27 | F32: ０３１１３ | G32: 新浜町８ | H32: ０．７ | I32: ='4月'!AM33 -> 1 | J32: ='4月'!AN33 -> 0 | K32: ='5月'!AN33 -> 1 | L32: ='5月'!AO33 -> 0 | M32: ='6月（停止あり）'!AM33 -> 0.7 | N32: ='6月（停止あり）'!AN33 -> 9 | O32: ='7月（停止あり）'!AN33 -> 1 | P32: ='7月（停止あり）'!AO33 -> 0 | Q32: ='8月（停止あり）'!AN33 -> 1 | R32: ='8月（停止あり）'!AO33 -> 0 | S32: ='9月（停止あり）'!AM33 -> 1 | T32: ='9月（停止あり）'!AN33 -> 0 | U32: ='10月(停止あり）'!AN33 -> 1 | V32: ='10月(停止あり）'!AO33 -> 0 | W32: ='11月（停止あり）'!AM33 -> 1 | X32: ='11月（停止あり）'!AN33 -> 0 | Y32: ='12月'!AN33 -> 1 | Z32: ='12月'!AO33 -> 0 | AA32: ='1月'!AN33 -> 1 | AB32: ='1月'!AO33 -> 0 | AC32: ='2月'!AL33 -> 1 | AD32: ='2月'!AM33 -> 0 | AE32: ='3月'!AN33 -> 1 | AF32: ='3月'!AO33 -> 0 | AG32: =IF(AH32=0,1,1-AH32/365) -> 0.97534247 | AH32: =J32+L32+N32+P32+R32+T32+V32+X32+Z32+AB32+AD32+AF32 -> 9
B33: 28 | F33: ０３１０１ | G33: 新浜町７ | H33: ０．７ | I33: ='4月'!AM34 -> 1 | J33: ='4月'!AN34 -> 0 | K33: ='5月'!AN34 -> 1 | L33: ='5月'!AO34 -> 0 | M33: ='6月（停止あり）'!AM34 -> 0.7 | N33: ='6月（停止あり）'!AN34 -> 9 | O33: ='7月（停止あり）'!AN34 -> 1 | P33: ='7月（停止あり）'!AO34 -> 0 | Q33: ='8月（停止あり）'!AN34 -> 1 | R33: ='8月（停止あり）'!AO34 -> 0 | S33: ='9月（停止あり）'!AM34 -> 1 | T33: ='9月（停止あり）'!AN34 -> 0 | U33: ='10月(停止あり）'!AN34 -> 1 | V33: ='10月(停止あり）'!AO34 -> 0 | W33: ='11月（停止あり）'!AM34 -> 1 | X33: ='11月（停止あり）'!AN34 -> 0 | Y33: ='12月'!AN34 -> 1 | Z33: ='12月'!AO34 -> 0 | AA33: ='1月'!AN34 -> 1 | AB33: ='1月'!AO34 -> 0 | AC33: ='2月'!AL34 -> 1 | AD33: ='2月'!AM34 -> 0 | AE33: ='3月'!AN34 -> 1 | AF33: ='3月'!AO34 -> 0 | AG33: =IF(AH33=0,1,1-AH33/365) -> 0.97534247 | AH33: =J33+L33+N33+P33+R33+T33+V33+X33+Z33+AB33+AD33+AF33 -> 9
F34: 合計 | I34: ='4月'!AM35 -> 100% | J34: ='4月'!AN35 -> 0 | K34: ='5月'!AN35 -> 100% | L34: ='5月'!AO35 -> 0 | M34: ='6月（停止あり）'!AM35 -> 0.7 | N34: ='6月（停止あり）'!AN35 -> 99 | O34: ='7月（停止あり）'!AN35 -> 100% | P34: ='7月（停止あり）'!AO35 -> 0 | Q34: ='8月（停止あり）'!AN35 -> 100% | R34: ='8月（停止あり）'!AO35 -> 0 | S34: ='9月（停止あり）'!AM35 -> 100% | T34: ='9月（停止あり）'!AN35 -> 0 | U34: ='10月(停止あり）'!AN35 -> 100% | V34: ='10月(停止あり）'!AO35 -> 0 | W34: ='11月（停止あり）'!AM35 -> 100% | X34: ='11月（停止あり）'!AN35 -> 0 | Y34: ='12月'!AN35 -> 100% | Z34: ='12月'!AO35 -> 0 | AA34: ='1月'!AN35 -> 100% | AB34: ='1月'!AO35 -> 0 | AC34: ='2月'!AL35 -> 100% | AD34: ='2月'!AM35 -> 0 | AE34: ='3月'!AN35 -> 100% | AF34: ='3月'!AO35 -> 0 | AG34: =IF(AH34=0,1,1-AH34/4015) -> 0.97534247 | AH34: =SUM(AH23:AH33) -> 99
B35: 29 | D35: ４００系統 | F35: ０４０１９ | G35: 高浜町９－２ | H35: １．５ | I35: ='4月'!AM36 -> 1 | J35: ='4月'!AN36 -> 0 | K35: ='5月'!AN36 -> 1 | L35: ='5月'!AO36 -> 0 | M35: ='6月（停止あり）'!AM36 -> 0.6 | N35: ='6月（停止あり）'!AN36 -> 12 | O35: ='7月（停止あり）'!AN36 -> 0 | P35: ='7月（停止あり）'!AO36 -> 31 | Q35: ='8月（停止あり）'!AN36 -> 0 | R35: ='8月（停止あり）'!AO36 -> 31 | S35: ='9月（停止あり）'!AM36 -> 0 | T35: ='9月（停止あり）'!AN36 -> 30 | U35: ='10月(停止あり）'!AN36 -> 0 | V35: ='10月(停止あり）'!AO36 -> 31 | W35: ='11月（停止あり）'!AM36 -> 0.53333333 | X35: ='11月（停止あり）'!AN36 -> 14 | Y35: ='12月'!AN36 -> 1 | Z35: ='12月'!AO36 -> 0 | AA35: ='1月'!AN36 -> 1 | AB35: ='1月'!AO36 -> 0 | AC35: ='2月'!AL36 -> 1 | AD35: ='2月'!AM36 -> 0 | AE35: ='3月'!AN36 -> 1 | AF35: ='3月'!AO36 -> 0 | AG35: =IF(AH35=0,1,1-AH35/365) -> 0.59178082 | AH35: =J35+L35+N35+P35+R35+T35+V35+X35+Z35+AB35+AD35+AF35 -> 149
B36: 30 | F36: ０４０２９ | G36: 高浜町９－１ | H36: １．５ | I36: ='4月'!AM37 -> 1 | J36: ='4月'!AN37 -> 0 | K36: ='5月'!AN37 -> 1 | L36: ='5月'!AO37 -> 0 | M36: ='6月（停止あり）'!AM37 -> 0.6 | N36: ='6月（停止あり）'!AN37 -> 12 | O36: ='7月（停止あり）'!AN37 -> 0 | P36: ='7月（停止あり）'!AO37 -> 31 | Q36: ='8月（停止あり）'!AN37 -> 0 | R36: ='8月（停止あり）'!AO37 -> 31 | S36: ='9月（停止あり）'!AM37 -> 0 | T36: ='9月（停止あり）'!AN37 -> 30 | U36: ='10月(停止あり）'!AN37 -> 0 | V36: ='10月(停止あり）'!AO37 -> 31 | W36: ='11月（停止あり）'!AM37 -> 0.53333333 | X36: ='11月（停止あり）'!AN37 -> 14 | Y36: ='12月'!AN37 -> 1 | Z36: ='12月'!AO37 -> 0 | AA36: ='1月'!AN37 -> 1 | AB36: ='1月'!AO37 -> 0 | AC36: ='2月'!AL37 -> 1 | AD36: ='2月'!AM37 -> 0 | AE36: ='3月'!AN37 -> 1 | AF36: ='3月'!AO37 -> 0 | AG36: =IF(AH36=0,1,1-AH36/365) -> 0.59178082 | AH36: =J36+L36+N36+P36+R36+T36+V36+X36+Z36+AB36+AD36+AF36 -> 149
B37: 31 | F37: ０４０３９ | G37: 高浜町８－３ | H37: １．０ | I37: ='4月'!AM38 -> 1 | J37: ='4月'!AN38 -> 0 | K37: ='5月'!AN38 -> 1 | L37: ='5月'!AO38 -> 0 | M37: ='6月（停止あり）'!AM38 -> 0.6 | N37: ='6月（停止あり）'!AN38 -> 12 | O37: ='7月（停止あり）'!AN38 -> 0 | P37: ='7月（停止あり）'!AO38 -> 31 | Q37: ='8月（停止あり）'!AN38 -> 0 | R37: ='8月（停止あり）'!AO38 -> 31 | S37: ='9月（停止あり）'!AM38 -> 0 | T37: ='9月（停止あり）'!AN38 -> 30 | U37: ='10月(停止あり）'!AN38 -> 0 | V37: ='10月(停止あり）'!AO38 -> 31 | W37: ='11月（停止あり）'!AM38 -> 0.53333333 | X37: ='11月（停止あり）'!AN38 -> 14 | Y37: ='12月'!AN38 -> 1 | Z37: ='12月'!AO38 -> 0 | AA37: ='1月'!AN38 -> 1 | AB37: ='1月'!AO38 -> 0 | AC37: ='2月'!AL38 -> 1 | AD37: ='2月'!AM38 -> 0 | AE37: ='3月'!AN38 -> 1 | AF37: ='3月'!AO38 -> 0 | AG37: =IF(AH37=0,1,1-AH37/365) -> 0.59178082 | AH37: =J37+L37+N37+P37+R37+T37+V37+X37+Z37+AB37+AD37+AF37 -> 149
B38: 32 | F38: ０４０４９ | G38: 高浜町８－２ | H38: １．０ | I38: ='4月'!AM39 -> 1 | J38: ='4月'!AN39 -> 0 | K38: ='5月'!AN39 -> 1 | L38: ='5月'!AO39 -> 0 | M38: ='6月（停止あり）'!AM39 -> 0.6 | N38: ='6月（停止あり）'!AN39 -> 12 | O38: ='7月（停止あり）'!AN39 -> 0 | P38: ='7月（停止あり）'!AO39 -> 31 | Q38: ='8月（停止あり）'!AN39 -> 0 | R38: ='8月（停止あり）'!AO39 -> 31 | S38: ='9月（停止あり）'!AM39 -> 0 | T38: ='9月（停止あり）'!AN39 -> 30 | U38: ='10月(停止あり）'!AN39 -> 0 | V38: ='10月(停止あり）'!AO39 -> 31 | W38: ='11月（停止あり）'!AM39 -> 0.53333333 | X38: ='11月（停止あり）'!AN39 -> 14 | Y38: ='12月'!AN39 -> 1 | Z38: ='12月'!AO39 -> 0 | AA38: ='1月'!AN39 -> 1 | AB38: ='1月'!AO39 -> 0 | AC38: ='2月'!AL39 -> 1 | AD38: ='2月'!AM39 -> 0 | AE38: ='3月'!AN39 -> 1 | AF38: ='3月'!AO39 -> 0 | AG38: =IF(AH38=0,1,1-AH38/365) -> 0.59178082 | AH38: =J38+L38+N38+P38+R38+T38+V38+X38+Z38+AB38+AD38+AF38 -> 149
F39: 合計 | I39: ='4月'!AM40 -> 100% | J39: ='4月'!AN40 -> 0 | K39: ='5月'!AN40 -> 100% | L39: ='5月'!AO40 -> 0 | M39: ='6月（停止あり）'!AM40 -> 0.6 | N39: ='6月（停止あり）'!AN40 -> 48 | O39: ='7月（停止あり）'!AN40 -> 0 | P39: ='7月（停止あり）'!AO40 -> 124 | Q39: ='8月（停止あり）'!AN40 -> 0 | R39: ='8月（停止あり）'!AO40 -> 124 | S39: ='9月（停止あり）'!AM40 -> 0 | T39: ='9月（停止あり）'!AN40 -> 120 | U39: ='10月(停止あり）'!AN40 -> 0 | V39: ='10月(停止あり）'!AO40 -> 124 | W39: ='11月（停止あり）'!AM40 -> 0.53333333 | X39: ='11月（停止あり）'!AN40 -> 56 | Y39: ='12月'!AN40 -> 100% | Z39: ='12月'!AO40 -> 0 | AA39: ='1月'!AN40 -> 100% | AB39: ='1月'!AO40 -> 0 | AC39: ='2月'!AL40 -> 100% | AD39: ='2月'!AM40 -> 0 | AE39: ='3月'!AN40 -> 100% | AF39: ='3月'!AO40 -> 0 | AG39: =IF(AH39=0,1,1-AH39/1460) -> 0.59178082 | AH39: =SUM(AH35:AH38) -> 596
B40: 33 | D40: ５００系統 | F40: ０５０１９ | G40: 高浜町８－１ | H40: １．０ | I40: ='4月'!AM41 -> 1 | J40: ='4月'!AN41 -> 0 | K40: ='5月'!AN41 -> 1 | L40: ='5月'!AO41 -> 0 | M40: ='6月（停止あり）'!AM41 -> 0.7 | N40: ='6月（停止あり）'!AN41 -> 9 | O40: ='7月（停止あり）'!AN41 -> 1 | P40: ='7月（停止あり）'!AO41 -> 0 | Q40: ='8月（停止あり）'!AN41 -> 1 | R40: ='8月（停止あり）'!AO41 -> 0 | S40: ='9月（停止あり）'!AM41 -> 1 | T40: ='9月（停止あり）'!AN41 -> 0 | U40: ='10月(停止あり）'!AN41 -> 1 | V40: ='10月(停止あり）'!AO41 -> 0 | W40: ='11月（停止あり）'!AM41 -> 1 | X40: ='11月（停止あり）'!AN41 -> 0 | Y40: ='12月'!AN41 -> 1 | Z40: ='12月'!AO41 -> 0 | AA40: ='1月'!AN41 -> 1 | AB40: ='1月'!AO41 -> 0 | AC40: ='2月'!AL41 -> 1 | AD40: ='2月'!AM41 -> 0 | AE40: ='3月'!AN41 -> 1 | AF40: ='3月'!AO41 -> 0 | AG40: =IF(AH40=0,1,1-AH40/365) -> 0.97534247 | AH40: =J40+L40+N40+P40+R40+T40+V40+X40+Z40+AB40+AD40+AF40 -> 9
...

Sheet 4月
B2: Ｎｏ． | C2: 地区 | D2: 系統 | F2: 投入口ｱﾄﾞﾚｽ | G2: 住所 | H2: 容量（ｍ２） | I2: ４月 | AM2: 稼働率 | AN2: 停止日数
I3: 1 | J3: 2 | K3: 3 | L3: 4 | M3: 5 | N3: 6 | O3: 7 | P3: 8 | Q3: 9 | R3: 10 | S3: 11 | T3: 12 | U3: 13 | V3: 14 | W3: 15 | X3: 16 | Y3: 17 | Z3: 18 | AA3: 19 | AB3: 20 | AC3: 21 | AD3: 22 | AE3: 23 | AF3: 24 | AG3: 25 | AH3: 26 | AI3: 27 | AJ3: 28 | AK3: 29 | AL3: 30
H4: ☓ | I4: 月 | J4: 火 | K4: 水 | L4: 木 | M4: 金 | N4: 土 | O4: 日 | P4: 月 | Q4: 火 | R4: 水 | S4: 木 | T4: 金 | U4: 土 | V4: 日 | W4: 月 | X4: 火 | Y4: 水 | Z4: 木 | AA4: 金 | AB4: 土 | AC4: 日 | AD4: 月 | AE4: 火 | AF4: 水 | AG4: 木 | AH4: 金 | AI4: 土 | AJ4: 日 | AK4: 月 | AL4: 火
B5: 1 | C5: 宮川東側 | D5: １００系統 | F5: ０１０１１ | G5: 浜風町２１ | H5: ０．７ | AM5: =IF(COUNTA(I5:AL5)=0,1,1-COUNTIF(I5:AL5,"☓")/30) -> 1 | AN5: =COUNTA(I5:AL5) -> 0
B6: 2 | F6: ０１０１２ | G6: 浜風町２２ | H6: ０．７ | AM6: =IF(COUNTA(I6:AL6)=0,1,1-COUNTIF(I6:AL6,"☓")/30) -> 1 | AN6: =COUNTA(I6:AL6) -> 0
B7: 3 | F7: ０１０１３ | G7: 浜風町２４ | H7: ０．７ | AM7: =IF(COUNTA(I7:AL7)=0,1,1-COUNTIF(I7:AL7,"☓")/30) -> 1 | AN7: =COUNTA(I7:AL7) -> 0
B8: 4 | F8: ０１０１４ | G8: 浜風町２７ | H8: ０．７ | AM8: =IF(COUNTA(I8:AL8)=0,1,1-COUNTIF(I8:AL8,"☓")/30) -> 1 | AN8: =COUNTA(I8:AL8) -> 0
B9: 5 | F9: ０１０２１ | G9: 浜風町１９ | H9: ０．７ | AM9: =IF(COUNTA(I9:AL9)=0,1,1-COUNTIF(I9:AL9,"☓")/30) -> 1 | AN9: =COUNTA(I9:AL9) -> 0
B10: 6 | F10: ０１０３１ | G10: 浜風町１８ | H10: ０．７ | AM10: =IF(COUNTA(I10:AL10)=0,1,1-COUNTIF(I10:AL10,"☓")/30) -> 1 | AN10: =COUNTA(I10:AL10) -> 0
F11: 合計 | H11: =COUNTA(H5:H10) -> 6 | I11: =1-(COUNTIF(I5:I10,"☓"))/6 -> 1 | J11: =1-(COUNTIF(J5:J10,"☓"))/6 -> 1 | K11: =1-(COUNTIF(K5:K10,"☓"))/6 -> 1 | L11: =1-(COUNTIF(L5:L10,"☓"))/6 -> 1 | M11: =1-(COUNTIF(M5:M10,"☓"))/6 -> 1 | N11: =1-(COUNTIF(N5:N10,"☓"))/6 -> 1 | O11: =1-(COUNTIF(O5:O10,"☓"))/6 -> 1 | P11: =1-(COUNTIF(P5:P10,"☓"))/6 -> 1 | ... AL11: =1-(COUNTIF(AL5:AL10,"☓"))/6 -> 1 | AM11: =IF(AN11=0,"100%",AVERAGE(AM5:AM10)) -> 100% | AN11: =SUM(AN5:AN10) -> 0
B12: 7 | D12: ３００系統 | E12: Ｋライン | F12: ０３０１１ | G12: 浜風町１ | H12: ０．７ | AM12: =IF(COUNTA(I12:AL12)=0,1,1-COUNTIF(I12:AL12,"☓")/30) -> 1 | AN12: =COUNTA(I12:AL12) -> 0
B13: 8 | F13: ０３０３１ | G13: 浜風町８ | H13: ０．７ | AM13: =IF(COUNTA(I13:AL13)=0,1,1-COUNTIF(I13:AL13,"☓")/30) -> 1 | AN13: =COUNTA(I13:AL13) -> 0
B14: 9 | F14: ０３０３２ | G14: 浜風町２ | H14: ０．７ | AM14: =IF(COUNTA(I14:AL14)=0,1,1-COUNTIF(I14:AL14,"☓")/30) -> 1 | AN14: =COUNTA(I14:AL14) -> 0
B15: 10 | F15: ０３０２１ | G15: 浜風町８ | H15: ０．７ | AM15: =IF(COUNTA(I15:AL15)=0,1,1-COUNTIF(I15:AL15,"☓")/30) -> 1 | AN15: =COUNTA(I15:AL15) -> 0
B16: 11 | F16: ０３０３３ | G16: 浜風町７ | H16: ０．７ | AM16: =IF(COUNTA(I16:AL16)=0,1,1-COUNTIF(I16:AL16,"☓")/30) -> 1 | AN16: =COUNTA(I16:AL16) -> 0
B17: 12 | F17: ０３０４１ | G17: 浜風町７ | H17: ０．７ | AM17: =IF(COUNTA(I17:AL17)=0,1,1-COUNTIF(I17:AL17,"☓")/30) -> 1 | AN17: =COUNTA(I17:AL17) -> 0
B18: 13 | F18: ０３０５１ | G18: 浜風町７ | H18: ０．７ | AM18: =IF(COUNTA(I18:AL18)=0,1,1-COUNTIF(I18:AL18,"☓")/30) -> 1 | AN18: =COUNTA(I18:AL18) -> 0
B19: 14 | F19: ０３０５２ | G19: 浜風町３ | H19: ０．７ | AM19: =IF(COUNTA(I19:AL19)=0,1,1-COUNTIF(I19:AL19,"☓")/30) -> 1 | AN19: =COUNTA(I19:AL19) -> 0
B20: 15 | F20: ０３０５３ | G20: 浜風町６ | H20: ０．７ | AM20: =IF(COUNTA(I20:AL20)=0,1,1-COUNTIF(I20:AL20,"☓")/30) -> 1 | AN20: =COUNTA(I20:AL20) -> 0
B21: 16 | F21: ０３０６１ | G21: 浜風町５ | H21: ０．７ | AM21: =IF(COUNTA(I21:AL21)=0,1,1-COUNTIF(I21:AL21,"☓")/30) -> 1 | AN21: =COUNTA(I21:AL21) -> 0
B22: 17 | F22: ０３０５４ | G22: 浜風町６ | H22: ０．７ | AM22: =IF(COUNTA(I22:AL22)=0,1,1-COUNTIF(I22:AL22,"☓")/30) -> 1 | AN22: =COUNTA(I22:AL22) -> 0
F23: 合計 | I23: =1-(COUNTIF(I12:I22,"☓"))/11 -> 1 | J23: =1-(COUNTIF(J12:J22,"☓"))/11 -> 1 | K23: =1-(COUNTIF(K12:K22,"☓"))/11 -> 1 | L23: =1-(COUNTIF(L12:L22,"☓"))/11 -> 1 | M23: =1-(COUNTIF(M12:M22,"☓"))/11 -> 1 | N23: =1-(COUNTIF(N12:N22,"☓"))/11 -> 1 | O23: =1-(COUNTIF(O12:O22,"☓"))/11 -> 1 | P23: =1-(COUNTIF(P12:P22,"☓"))/11 -> 1 | ... AL23: =1-(COUNTIF(AL12:AL22,"☓"))/11 -> 1 | AM23: =IF(AN23=0,"100%",AVERAGE(AM12:AM22)) -> 100% | AN23: =SUM(AN12:AN22) -> 0
B24: 18 | E24: Ｇライン | F24: ０３０７１ | G24: 新浜町４ | H24: ０．７ | AM24: =IF(COUNTA(I24:AL24)=0,1,1-COUNTIF(I24:AL24,"☓")/30) -> 1 | AN24: =COUNTA(I24:AL24) -> 0
B25: 19 | F25: ０３０７２ | G25: 新浜町４ | H25: ０．７ | AM25: =IF(COUNTA(I25:AL25)=0,1,1-COUNTIF(I25:AL25,"☓")/30) -> 1 | AN25: =COUNTA(I25:AL25) -> 0
B26: 20 | F26: ０３０８１ | G26: 新浜町５ | H26: ０．７ | AM26: =IF(COUNTA(I26:AL26)=0,1,1-COUNTIF(I26:AL26,"☓")/30) -> 1 | AN26: =COUNTA(I26:AL26) -> 0
B27: 21 | F27: ０３１３９ | G27: 新浜町２ | H27: １．５ | AM27: =IF(COUNTA(I27:AL27)=0,1,1-COUNTIF(I27:AL27,"☓")/30) -> 1 | AN27: =COUNTA(I27:AL27) -> 0
B28: 22 | F28: ０３１４９ | G28: 新浜町２ | H28: １．５ | AM28: =IF(COUNTA(I28:AL28)=0,1,1-COUNTIF(I28:AL28,"☓")/30) -> 1 | AN28: =COUNTA(I28:AL28) -> 0
B29: 23 | F29: ０３１５９ | G29: 新浜町２ | H29: １．５ | AM29: =IF(COUNTA(I29:AL29)=0,1,1-COUNTIF(I29:AL29,"☓")/30) -> 1 | AN29: =COUNTA(I29:AL29) -> 0
B30: 24 | F30: ０３１１１ | G30: 新浜町６ | H30: ０．７ | AM30: =IF(COUNTA(I30:AL30)=0,1,1-COUNTIF(I30:AL30,"☓")/30) -> 1 | AN30: =COUNTA(I30:AL30) -> 0
B31: 25 | F31: ０３０９９ | G31: 浜風町３０ | H31: １．５ | AM31: =IF(COUNTA(I31:AL31)=0,1,1-COUNTIF(I31:AL31,"☓")/30) -> 1 | AN31: =COUNTA(I31:AL31) -> 0
B32: 26 | F32: ０３１１２ | G32: 新浜町７ | H32: ０．７ | AM32: =IF(COUNTA(I32:AL32)=0,1,1-COUNTIF(I32:AL32,"☓")/30) -> 1 | AN32: =COUNTA(I32:AL32) -> 0
B33: 27 | F33: ０３１１３ | G33: 新浜町８ | H33: ０．７ | AM33: =IF(COUNTA(I33:AL33)=0,1,1-COUNTIF(I33:AL33,"☓")/30) -> 1 | AN33: =COUNTA(I33:AL33) -> 0
F34: ０３１０１ | G34: 新浜町７ | H34: ０．７ | AM34: =IF(COUNTA(I34:AL34)=0,1,1-COUNTIF(I34:AL34,"☓")/30) -> 1 | AN34: =COUNTA(I34:AL34) -> 0
B35: 28 | F35: 合計 | I35: =1-(COUNTIF(I24:I34,"☓"))/11 -> 1 | J35: =1-(COUNTIF(J24:J34,"☓"))/11 -> 1 | K35: =1-(COUNTIF(K24:K34,"☓"))/11 -> 1 | L35: =1-(COUNTIF(L24:L34,"☓"))/11 -> 1 | M35: =1-(COUNTIF(M24:M34,"☓"))/11 -> 1 | N35: =1-(COUNTIF(N24:N34,"☓"))/11 -> 1 | O35: =1-(COUNTIF(O24:O34,"☓"))/11 -> 1 | P35: =1-(COUNTIF(P24:P34,"☓"))/11 -> 1 | ... AL35: =1-(COUNTIF(AL24:AL34,"☓"))/11 -> 1 | AM35: =IF(AN35=0,"100%",AVERAGE(AM24:AM34)) -> 100% | AN35: =SUM(AN24:AN34) -> 0
B36: 29 | D36: ４００系統 | F36: ０４０１９ | G36: 高浜町９－２ | H36: １．５ | AM36: =IF(COUNTA(I36:AL36)=0,1,1-COUNTIF(I36:AL36,"☓")/30) -> 1 | AN36: =COUNTA(I36:AL36) -> 0
B37: 30 | F37: ０４０２９ | G37: 高浜町９－１ | H37: １．５ | AM37: =IF(COUNTA(I37:AL37)=0,1,1-COUNTIF(I37:AL37,"☓")/30) -> 1 | AN37: =COUNTA(I37:AL37) -> 0
B38: 31 | F38: ０４０３９ | G38: 高浜町８－３ | H38: １．０ | AM38: =IF(COUNTA(I38:AL38)=0,1,1-COUNTIF(I38:AL38,"☓")/30) -> 1 | AN38: =COUNTA(I38:AL38) -> 0
B39: 32 | F39: ０４０４９ | G39: 高浜町８－２ | H39: １．０ | AM39: =IF(COUNTA(I39:AL39)=0,1,1-COUNTIF(I39:AL39,"☓")/30) -> 1 | AN39: =COUNTA(I39:AL39) -> 0
F40: 合計 | I40: =1-(COUNTIF(I36:I39,"☓"))/4 -> 1 | J40: =1-(COUNTIF(J36:J39,"☓"))/4 -> 1 | K40: =1-(COUNTIF(K36:K39,"☓"))/4 -> 1 | L40: =1-(COUNTIF(L36:L39,"☓"))/4 -> 1 | M40: =1-(COUNTIF(M36:M39,"☓"))/4 -> 1 | N40: =1-(COUNTIF(N36:N39,"☓"))/4 -> 1 | O40: =1-(COUNTIF(O36:O39,"☓"))/4 -> 1 | P40: =1-(COUNTIF(P36:P39,"☓"))/4 -> 1 | ... Z40: =1-(COUNTIF(Z36:Z39,"☓"))/4 -> 1 | AA40: =1-(COUNTIF(AA42:AA45,"☓"))/4 -> 1 | AB40: =1-(COUNTIF(AB36:AB39,"☓"))/4 -> 1 | AC40: =1-(COUNTIF(AC36:AC39,"☓"))/4 -> 1 | AD40: =1-(COUNTIF(AD36:AD39,"☓"))/4 -> 1 | AE40: =1-(COUNTIF(AE36:AE39,"☓"))/4 -> 1 | AF40: =1-(COUNTIF(AF36:AF39,"☓"))/4 -> 1 | AG40: =1-(COUNTIF(AG36:AG39,"☓"))/4 -> 1 | AH40: =1-(COUNTIF(AH36:AH39,"☓"))/4 -> 1 | AI40: =1-(COUNTIF(AI36:AI39,"☓"))/4 -> 1 | ... AL40: =1-(COUNTIF(AL36:AL39,"☓"))/4 -> 1 | AM40: =IF(AN40=0,"100%",AVERAGE(AM36:AM39)) -> 100% | AN40: =SUM(AN36:AN39) -> 0
B41: 33 | D41: ５００系統 | F41: ０５０１９ | G41: 高浜町８－１ | H41: １．０ | AM41: =IF(COUNTA(I41:AL41)=0,1,1-COUNTIF(I41:AL41,"☓")/30) -> 1 | AN41: =COUNTA(I41:AL41) -> 0
...

Sheet 5月
B2: Ｎｏ． | C2: 地区 | D2: 系統 | F2: 投入口ｱﾄﾞﾚｽ | G2: 住所 | H2: 容量（ｍ２） | I2: 5月 | AN2: 稼働率 | AO2: 停止日数
I3: 1 | J3: 2 | K3: 3 | L3: 4 | M3: 5 | N3: 6 | O3: 7 | P3: 8 | Q3: 9 | R3: 10 | S3: 11 | T3: 12 | U3: 13 | V3: 14 | W3: 15 | X3: 16 | Y3: 17 | Z3: 18 | AA3: 19 | AB3: 20 | AC3: 21 | AD3: 22 | AE3: 23 | AF3: 24 | AG3: 25 | AH3: 26 | AI3: 27 | AJ3: 28 | AK3: 29 | AL3: 30 | AM3: 31
H4: ☓ | I4: 水 | J4: 木 | K4: 金 | L4: 土 | M4: 日 | N4: 月 | O4: 火 | P4: 水 | Q4: 木 | R4: 金 | S4: 土 | T4: 日 | U4: 月 | V4: 火 | W4: 水 | X4: 木 | Y4: 金 | Z4: 土 | AA4: 日 | AB4: 月 | AC4: 火 | AD4: 水 | AE4: 木 | AF4: 金 | AG4: 土 | AH4: 日 | AI4: 月 | AJ4: 火 | AK4: 水 | AL4: 木 | AM4: 金
B5: 1 | C5: 宮川東側 | D5: １００系統 | F5: ０１０１１ | G5: 浜風町２１ | H5: ０．７ | AN5: =IF(COUNTA(I5:AM5)=0,1,1-COUNTIF(I5:AM5,"☓")/31) -> 1 | AO5: =COUNTA(I5:AM5) -> 0
B6: 2 | F6: ０１０１２ | G6: 浜風町２２ | H6: ０．７ | AN6: =IF(COUNTA(I6:AM6)=0,1,1-COUNTIF(I6:AM6,"☓")/31) -> 1 | AO6: =COUNTA(I6:AM6) -> 0
B7: 3 | F7: ０１０１３ | G7: 浜風町２４ | H7: ０．７ | AN7: =IF(COUNTA(I7:AM7)=0,1,1-COUNTIF(I7:AM7,"☓")/31) -> 1 | AO7: =COUNTA(I7:AM7) -> 0
B8: 4 | F8: ０１０１４ | G8: 浜風町２７ | H8: ０．７ | AN8: =IF(COUNTA(I8:AM8)=0,1,1-COUNTIF(I8:AM8,"☓")/31) -> 1 | AO8: =COUNTA(I8:AM8) -> 0
B9: 5 | F9: ０１０２１ | G9: 浜風町１９ | H9: ０．７ | AN9: =IF(COUNTA(I9:AM9)=0,1,1-COUNTIF(I9:AM9,"☓")/31) -> 1 | AO9: =COUNTA(I9:AM9) -> 0
B10: 6 | F10: ０１０３１ | G10: 浜風町１８ | H10: ０．７ | AN10: =IF(COUNTA(I10:AM10)=0,1,1-COUNTIF(I10:AM10,"☓")/31) -> 1 | AO10: =COUNTA(I10:AM10) -> 0
F11: 合計 | H11: =COUNTA(H5:H10) -> 6 | I11: =1-(COUNTIF(I5:I10,"☓"))/6 -> 1 | J11: =1-(COUNTIF(J5:J10,"☓"))/6 -> 1 | K11: =1-(COUNTIF(K5:K10,"☓"))/6 -> 1 | L11: =1-(COUNTIF(L5:L10,"☓"))/6 -> 1 | M11: =1-(COUNTIF(M5:M10,"☓"))/6 -> 1 | N11: =1-(COUNTIF(N5:N10,"☓"))/6 -> 1 | O11: =1-(COUNTIF(O5:O10,"☓"))/6 -> 1 | P11: =1-(COUNTIF(P5:P10,"☓"))/6 -> 1 | ... AM11: =1-(COUNTIF(AM5:AM10,"☓"))/6 -> 1 | AN11: =IF(AO11=0,"100%",AVERAGE(AN5:AN10)) -> 100% | AO11: =SUM(AO5:AO10) -> 0
B12: 7 | D12: ３００系統 | E12: Ｋライン | F12: ０３０１１ | G12: 浜風町１ | H12: ０．７ | AN12: =IF(COUNTA(I12:AM12)=0,1,1-COUNTIF(I12:AM12,"☓")/31) -> 1 | AO12: =COUNTA(I12:AM12) -> 0
B13: 8 | F13: ０３０３１ | G13: 浜風町８ | H13: ０．７ | AN13: =IF(COUNTA(I13:AM13)=0,1,1-COUNTIF(I13:AM13,"☓")/31) -> 1 | AO13: =COUNTA(I13:AM13) -> 0
B14: 9 | F14: ０３０３２ | G14: 浜風町２ | H14: ０．７ | AN14: =IF(COUNTA(I14:AM14)=0,1,1-COUNTIF(I14:AM14,"☓")/31) -> 1 | AO14: =COUNTA(I14:AM14) -> 0
B15: 10 | F15: ０３０２１ | G15: 浜風町８ | H15: ０．７ | AN15: =IF(COUNTA(I15:AM15)=0,1,1-COUNTIF(I15:AM15,"☓")/31) -> 1 | AO15: =COUNTA(I15:AM15) -> 0
B16: 11 | F16: ０３０３３ | G16: 浜風町７ | H16: ０．７ | AN16: =IF(COUNTA(I16:AM16)=0,1,1-COUNTIF(I16:AM16,"☓")/31) -> 1 | AO16: =COUNTA(I16:AM16) -> 0
B17: 12 | F17: ０３０４１ | G17: 浜風町７ | H17: ０．７ | AN17: =IF(COUNTA(I17:AM17)=0,1,1-COUNTIF(I17:AM17,"☓")/31) -> 1 | AO17: =COUNTA(I17:AM17) -> 0
B18: 13 | F18: ０３０５１ | G18: 浜風町７ | H18: ０．７ | AN18: =IF(COUNTA(I18:AM18)=0,1,1-COUNTIF(I18:AM18,"☓")/31) -> 1 | AO18: =COUNTA(I18:AM18) -> 0
B19: 14 | F19: ０３０５２ | G19: 浜風町３ | H19: ０．７ | AN19: =IF(COUNTA(I19:AM19)=0,1,1-COUNTIF(I19:AM19,"☓")/31) -> 1 | AO19: =COUNTA(I19:AM19) -> 0
B20: 15 | F20: ０３０５３ | G20: 浜風町６ | H20: ０．７ | AN20: =IF(COUNTA(I20:AM20)=0,1,1-COUNTIF(I20:AM20,"☓")/31) -> 1 | AO20: =COUNTA(I20:AM20) -> 0
B21: 16 | F21: ０３０６１ | G21: 浜風町５ | H21: ０．７ | AN21: =IF(COUNTA(I21:AM21)=0,1,1-COUNTIF(I21:AM21,"☓")/31) -> 1 | AO21: =COUNTA(I21:AM21) -> 0
B22: 17 | F22: ０３０５４ | G22: 浜風町６ | H22: ０．７ | AN22: =IF(COUNTA(I22:AM22)=0,1,1-COUNTIF(I22:AM22,"☓")/31) -> 1 | AO22: =COUNTA(I22:AM22) -> 0
F23: 合計 | I23: =1-(COUNTIF(I12:I22,"☓"))/11 -> 1 | J23: =1-(COUNTIF(J12:J22,"☓"))/11 -> 1 | K23: =1-(COUNTIF(K12:K22,"☓"))/11 -> 1 | L23: =1-(COUNTIF(L12:L22,"☓"))/11 -> 1 | M23: =1-(COUNTIF(M12:M22,"☓"))/11 -> 1 | N23: =1-(COUNTIF(N12:N22,"☓"))/11 -> 1 | O23: =1-(COUNTIF(O12:O22,"☓"))/11 -> 1 | P23: =1-(COUNTIF(P12:P22,"☓"))/11 -> 1 | ... AM23: =1-(COUNTIF(AM12:AM22,"☓"))/11 -> 1 | AN23: =IF(AO23=0,"100%",AVERAGE(AN12:AN22)) -> 100% | AO23: =SUM(AO12:AO22) -> 0
B24: 18 | E24: Ｇライン | F24: ０３０７１ | G24: 新浜町４ | H24: ０．７ | AN24: =IF(COUNTA(I24:AM24)=0,1,1-COUNTIF(I24:AM24,"☓")/31) -> 1 | AO24: =COUNTA(I24:AM24) -> 0
B25: 19 | F25: ０３０７２ | G25: 新浜町４ | H25: ０．７ | AN25: =IF(COUNTA(I25:AM25)=0,1,1-COUNTIF(I25:AM25,"☓")/31) -> 1 | AO25: =COUNTA(I25:AM25) -> 0
B26: 20 | F26: ０３０８１ | G26: 新浜町５ | H26: ０．７ | AN26: =IF(COUNTA(I26:AM26)=0,1,1-COUNTIF(I26:AM26,"☓")/31) -> 1 | AO26: =COUNTA(I26:AM26) -> 0
B27: 21 | F27: ０３１３９ | G27: 新浜町２ | H27: １．５ | AN27: =IF(COUNTA(I27:AM27)=0,1,1-COUNTIF(I27:AM27,"☓")/31) -> 1 | AO27: =COUNTA(I27:AM27) -> 0
B28: 22 | F28: ０３１４９ | G28: 新浜町２ | H28: １．５ | AN28: =IF(COUNTA(I28:AM28)=0,1,1-COUNTIF(I28:AM28,"☓")/31) -> 1 | AO28: =COUNTA(I28:AM28) -> 0
B29: 23 | F29: ０３１５９ | G29: 新浜町２ | H29: １．５ | AN29: =IF(COUNTA(I29:AM29)=0,1,1-COUNTIF(I29:AM29,"☓")/31) -> 1 | AO29: =COUNTA(I29:AM29) -> 0
B30: 24 | F30: ０３１１１ | G30: 新浜町６ | H30: ０．７ | AN30: =IF(COUNTA(I30:AM30)=0,1,1-COUNTIF(I30:AM30,"☓")/31) -> 1 | AO30: =COUNTA(I30:AM30) -> 0
B31: 25 | F31: ０３０９９ | G31: 浜風町３０ | H31: １．５ | AN31: =IF(COUNTA(I31:AM31)=0,1,1-COUNTIF(I31:AM31,"☓")/31) -> 1 | AO31: =COUNTA(I31:AM31) -> 0
B32: 26 | F32: ０３１１２ | G32: 新浜町７ | H32: ０．７ | AN32: =IF(COUNTA(I32:AM32)=0,1,1-COUNTIF(I32:AM32,"☓")/31) -> 1 | AO32: =COUNTA(I32:AM32) -> 0
B33: 27 | F33: ０３１１３ | G33: 新浜町８ | H33: ０．７ | AN33: =IF(COUNTA(I33:AM33)=0,1,1-COUNTIF(I33:AM33,"☓")/31) -> 1 | AO33: =COUNTA(I33:AM33) -> 0
B34: 28 | F34: ０３１０１ | G34: 新浜町７ | H34: ０．７ | AN34: =IF(COUNTA(I34:AM34)=0,1,1-COUNTIF(I34:AM34,"☓")/31) -> 1 | AO34: =COUNTA(I34:AM34) -> 0
F35: 合計 | I35: =1-(COUNTIF(I24:I34,"☓"))/11 -> 1 | J35: =1-(COUNTIF(J24:J34,"☓"))/11 -> 1 | K35: =1-(COUNTIF(K24:K34,"☓"))/11 -> 1 | L35: =1-(COUNTIF(L24:L34,"☓"))/11 -> 1 | M35: =1-(COUNTIF(M24:M34,"☓"))/11 -> 1 | N35: =1-(COUNTIF(N24:N34,"☓"))/11 -> 1 | O35: =1-(COUNTIF(O24:O34,"☓"))/11 -> 1 | P35: =1-(COUNTIF(P24:P34,"☓"))/11 -> 1 | ... AM35: =1-(COUNTIF(AM24:AM34,"☓"))/11 -> 1 | AN35: =IF(AO35=0,"100%",AVERAGE(AN24:AN34)) -> 100% | AO35: =SUM(AO24:AO34) -> 0
B36: 29 | D36: ４００系統 | F36: ０４０１９ | G36: 高浜町９－２ | H36: １．５ | AN36: =IF(COUNTA(I36:AM36)=0,1,1-COUNTIF(I36:AM36,"☓")/31) -> 1 | AO36: =COUNTA(I36:AM36) -> 0
B37: 30 | F37: ０４０２９ | G37: 高浜町９－１ | H37: １．５ | AN37: =IF(COUNTA(I37:AM37)=0,1,1-COUNTIF(I37:AM37,"☓")/31) -> 1 | AO37: =COUNTA(I37:AM37) -> 0
B38: 31 | F38: ０４０３９ | G38: 高浜町８－３ | H38: １．０ | AN38: =IF(COUNTA(I38:AM38)=0,1,1-COUNTIF(I38:AM38,"☓")/31) -> 1 | AO38: =COUNTA(I38:AM38) -> 0
B39: 32 | F39: ０４０４９ | G39: 高浜町８－２ | H39: １．０ | AN39: =IF(COUNTA(I39:AM39)=0,1,1-COUNTIF(I39:AM39,"☓")/31) -> 1 | AO39: =COUNTA(I39:AM39) -> 0
F40: 合計 | I40: =1-(COUNTIF(I36:I39,"☓"))/4 -> 1 | J40: =1-(COUNTIF(J36:J39,"☓"))/4 -> 1 | K40: =1-(COUNTIF(K36:K39,"☓"))/4 -> 1 | L40: =1-(COUNTIF(L36:L39,"☓"))/4 -> 1 | M40: =1-(COUNTIF(M36:M39,"☓"))/4 -> 1 | N40: =1-(COUNTIF(N36:N39,"☓"))/4 -> 1 | O40: =1-(COUNTIF(O36:O39,"☓"))/4 -> 1 | P40: =1-(COUNTIF(P36:P39,"☓"))/4 -> 1 | ... Z40: =1-(COUNTIF(Z36:Z39,"☓"))/4 -> 1 | AA40: =1-(COUNTIF(AA42:AA45,"☓"))/4 -> 1 | AB40: =1-(COUNTIF(AB36:AB39,"☓"))/4 -> 1 | AC40: =1-(COUNTIF(AC36:AC39,"☓"))/4 -> 1 | AD40: =1-(COUNTIF(AD36:AD39,"☓"))/4 -> 1 | AE40: =1-(COUNTIF(AE36:AE39,"☓"))/4 -> 1 | AF40: =1-(COUNTIF(AF36:AF39,"☓"))/4 -> 1 | AG40: =1-(COUNTIF(AG36:AG39,"☓"))/4 -> 1 | AH40: =1-(COUNTIF(AH36:AH39,"☓"))/4 -> 1 | AI40: =1-(COUNTIF(AI36:AI39,"☓"))/4 -> 1 | ... AM40: =1-(COUNTIF(AM36:AM39,"☓"))/4 -> 1 | AN40: =IF(AO40=0,"100%",AVERAGE(AN36:AN39)) -> 100% | AO40: =SUM(AO36:AO39) -> 0
B41: 33 | D41: ５００系統 | F41: ０５０１９ | G41: 高浜町８－１ | H41: １．０ | AN41: =IF(COUNTA(I41:AM41)=0,1,1-COUNTIF(I41:AM41,"☓")/31) -> 1 | AO41: =COUNTA(I41:AM41) -> 0
...

Sheet 6月（停止あり）
B2: Ｎｏ． | C2: 地区 | D2: 系統 | F2: 投入口ｱﾄﾞﾚｽ | G2: 住所 | H2: 容量（ｍ２） | I2: 6月 | AM2: 稼働率 | AN2: 停止日数
I3: 1 | J3: 2 | K3: 3 | L3: 4 | M3: 5 | N3: 6 | O3: 7 | P3: 8 | Q3: 9 | R3: 10 | S3: 11 | T3: 12 | U3: 13 | V3: 14 | W3: 15 | X3: 16 | Y3: 17 | Z3: 18 | AA3: 19 | AB3: 20 | AC3: 21 | AD3: 22 | AE3: 23 | AF3: 24 | AG3: 25 | AH3: 26 | AI3: 27 | AJ3: 28 | AK3: 29 | AL3: 30
H4: ☓ | I4: 土 | J4: 日 | K4: 月 | L4: 火 | M4: 水 | N4: 木 | O4: 金 | P4: 土 | Q4: 日 | R4: 月 | S4: 火 | T4: 水 | U4: 木 | V4: 金 | W4: 土 | X4: 日 | Y4: 月 | Z4: 火 | AA4: 水 | AB4: 木 | AC4: 金 | AD4: 土 | AE4: 日 | AF4: 月 | AG4: 火 | AH4: 水 | AI4: 木 | AJ4: 金 | AK4: 土 | AL4: 日
B5: 1 | C5: 宮川東側 | D5: １００系統 | F5: ０１０１１ | G5: 浜風町２１ | H5: ０．７ | Y5: ☓ | Z5: ☓ | AA5: ☓ | AB5: ☓ | AC5: ☓ | AD5: ☓ | AE5: ☓ | AF5: ☓ | AG5: ☓ | AM5: =IF(COUNTA(I5:AL5)=0,1,1-COUNTIF(I5:AL5,"☓")/30) -> 0.7 | AN5: =COUNTA(I5:AL5) -> 9
B6: 2 | F6: ０１０１２ | G6: 浜風町２２ | H6: ０．７ | Y6: ☓ | Z6: ☓ | AA6: ☓ | AB6: ☓ | AC6: ☓ | AD6: ☓ | AE6: ☓ | AF6: ☓ | AG6: ☓ | AM6: =IF(COUNTA(I6:AL6)=0,1,1-COUNTIF(I6:AL6,"☓")/30) -> 0.7 | AN6: =COUNTA(I6:AL6) -> 9
B7: 3 | F7: ０１０１３ | G7: 浜風町２４ | H7: ０．７ | Y7: ☓ | Z7: ☓ | AA7: ☓ | AB7: ☓ | AC7: ☓ | AD7: ☓ | AE7: ☓ | AF7: ☓ | AG7: ☓ | AM7: =IF(COUNTA(I7:AL7)=0,1,1-COUNTIF(I7:AL7,"☓")/30) -> 0.7 | AN7: =COUNTA(I7:AL7) -> 9
B8: 4 | F8: ０１０１４ | G8: 浜風町２７ | H8: ０．７ | Y8: ☓ | Z8: ☓ | AA8: ☓ | AB8: ☓ | AC8: ☓ | AD8: ☓ | AE8: ☓ | AF8: ☓ | AG8: ☓ | AM8: =IF(COUNTA(I8:AL8)=0,1,1-COUNTIF(I8:AL8,"☓")/30) -> 0.7 | AN8: =COUNTA(I8:AL8) -> 9
B9: 5 | F9: ０１０２１ | G9: 浜風町１９ | H9: ０．７ | Y9: ☓ | Z9: ☓ | AA9: ☓ | AB9: ☓ | AC9: ☓ | AD9: ☓ | AE9: ☓ | AF9: ☓ | AG9: ☓ | AM9: =IF(COUNTA(I9:AL9)=0,1,1-COUNTIF(I9:AL9,"☓")/30) -> 0.7 | AN9: =COUNTA(I9:AL9) -> 9
B10: 6 | F10: ０１０３１ | G10: 浜風町１８ | H10: ０．７ | Y10: ☓ | Z10: ☓ | AA10: ☓ | AB10: ☓ | AC10: ☓ | AD10: ☓ | AE10: ☓ | AF10: ☓ | AG10: ☓ | AM10: =IF(COUNTA(I10:AL10)=0,1,1-COUNTIF(I10:AL10,"☓")/30) -> 0.7 | AN10: =COUNTA(I10:AL10) -> 9
F11: 合計 | H11: =COUNTA(H5:H10) -> 6 | I11: =1-(COUNTIF(I5:I10,"☓"))/6 -> 1 | J11: =1-(COUNTIF(J5:J10,"☓"))/6 -> 1 | K11: =1-(COUNTIF(K5:K10,"☓"))/6 -> 1 | L11: =1-(COUNTIF(L5:L10,"☓"))/6 -> 1 | M11: =1-(COUNTIF(M5:M10,"☓"))/6 -> 1 | N11: =1-(COUNTIF(N5:N10,"☓"))/6 -> 1 | O11: =1-(COUNTIF(O5:O10,"☓"))/6 -> 1 | P11: =1-(COUNTIF(P5:P10,"☓"))/6 -> 1 | ... AL11: =1-(COUNTIF(AL5:AL10,"☓"))/6 -> 1 | AM11: =IF(AN11=0,"100%",AVERAGE(AM5:AM10)) -> 0.7 | AN11: =SUM(AN5:AN10) -> 54
B12: 7 | D12: ３００系統 | E12: Ｋライン | F12: ０３０１１ | G12: 浜風町１ | H12: ０．７ | Y12: ☓ | Z12: ☓ | AA12: ☓ | AB12: ☓ | AC12: ☓ | AD12: ☓ | AE12: ☓ | AF12: ☓ | AG12: ☓ | AM12: =IF(COUNTA(I12:AL12)=0,1,1-COUNTIF(I12:AL12,"☓")/30) -> 0.7 | AN12: =COUNTA(I12:AL12) -> 9
B13: 8 | F13: ０３０３１ | G13: 浜風町８ | H13: ０．７ | Y13: ☓ | Z13: ☓ | AA13: ☓ | AB13: ☓ | AC13: ☓ | AD13: ☓ | AE13: ☓ | AF13: ☓ | AG13: ☓ | AM13: =IF(COUNTA(I13:AL13)=0,1,1-COUNTIF(I13:AL13,"☓")/30) -> 0.7 | AN13: =COUNTA(I13:AL13) -> 9
B14: 9 | F14: ０３０３２ | G14: 浜風町２ | H14: ０．７ | Y14: ☓ | Z14: ☓ | AA14: ☓ | AB14: ☓ | AC14: ☓ | AD14: ☓ | AE14: ☓ | AF14: ☓ | AG14: ☓ | AM14: =IF(COUNTA(I14:AL14)=0,1,1-COUNTIF(I14:AL14,"☓")/30) -> 0.7 | AN14: =COUNTA(I14:AL14) -> 9
B15: 10 | F15: ０３０２１ | G15: 浜風町８ | H15: ０．７ | Y15: ☓ | Z15: ☓ | AA15: ☓ | AB15: ☓ | AC15: ☓ | AD15: ☓ | AE15: ☓ | AF15: ☓ | AG15: ☓ | AM15: =IF(COUNTA(I15:AL15)=0,1,1-COUNTIF(I15:AL15,"☓")/30) -> 0.7 | AN15: =COUNTA(I15:AL15) -> 9
B16: 11 | F16: ０３０３３ | G16: 浜風町７ | H16: ０．７ | Y16: ☓ | Z16: ☓ | AA16: ☓ | AB16: ☓ | AC16: ☓ | AD16: ☓ | AE16: ☓ | AF16: ☓ | AG16: ☓ | AM16: =IF(COUNTA(I16:AL16)=0,1,1-COUNTIF(I16:AL16,"☓")/30) -> 0.7 | AN16: =COUNTA(I16:AL16) -> 9
B17: 12 | F17: ０３０４１ | G17: 浜風町７ | H17: ０．７ | Y17: ☓ | Z17: ☓ | AA17: ☓ | AB17: ☓ | AC17: ☓ | AD17: ☓ | AE17: ☓ | AF17: ☓ | AG17: ☓ | AM17: =IF(COUNTA(I17:AL17)=0,1,1-COUNTIF(I17:AL17,"☓")/30) -> 0.7 | AN17: =COUNTA(I17:AL17) -> 9
B18: 13 | F18: ０３０５１ | G18: 浜風町７ | H18: ０．７ | Y18: ☓ | Z18: ☓ | AA18: ☓ | AB18: ☓ | AC18: ☓ | AD18: ☓ | AE18: ☓ | AF18: ☓ | AG18: ☓ | AM18: =IF(COUNTA(I18:AL18)=0,1,1-COUNTIF(I18:AL18,"☓")/30) -> 0.7 | AN18: =COUNTA(I18:AL18) -> 9
B19: 14 | F19: ０３０５２ | G19: 浜風町３ | H19: ０．７ | Y19: ☓ | Z19: ☓ | AA19: ☓ | AB19: ☓ | AC19: ☓ | AD19: ☓ | AE19: ☓ | AF19: ☓ | AG19: ☓ | AM19: =IF(COUNTA(I19:AL19)=0,1,1-COUNTIF(I19:AL19,"☓")/30) -> 0.7 | AN19: =COUNTA(I19:AL19) -> 9
B20: 15 | F20: ０３０５３ | G20: 浜風町６ | H20: ０．７ | Y20: ☓ | Z20: ☓ | AA20: ☓ | AB20: ☓ | AC20: ☓ | AD20: ☓ | AE20: ☓ | AF20: ☓ | AG20: ☓ | AM20: =IF(COUNTA(I20:AL20)=0,1,1-COUNTIF(I20:AL20,"☓")/30) -> 0.7 | AN20: =COUNTA(I20:AL20) -> 9
B21: 16 | F21: ０３０６１ | G21: 浜風町５ | H21: ０．７ | Y21: ☓ | Z21: ☓ | AA21: ☓ | AB21: ☓ | AC21: ☓ | AD21: ☓ | AE21: ☓ | AF21: ☓ | AG21: ☓ | AM21: =IF(COUNTA(I21:AL21)=0,1,1-COUNTIF(I21:AL21,"☓")/30) -> 0.7 | AN21: =COUNTA(I21:AL21) -> 9
B22: 17 | F22: ０３０５４ | G22: 浜風町６ | H22: ０．７ | Y22: ☓ | Z22: ☓ | AA22: ☓ | AB22: ☓ | AC22: ☓ | AD22: ☓ | AE22: ☓ | AF22: ☓ | AG22: ☓ | AM22: =IF(COUNTA(I22:AL22)=0,1,1-COUNTIF(I22:AL22,"☓")/30) -> 0.7 | AN22: =COUNTA(I22:AL22) -> 9
F23: 合計 | I23: =1-(COUNTIF(I12:I22,"☓"))/11 -> 1 | J23: =1-(COUNTIF(J12:J22,"☓"))/11 -> 1 | K23: =1-(COUNTIF(K12:K22,"☓"))/11 -> 1 | L23: =1-(COUNTIF(L12:L22,"☓"))/11 -> 1 | M23: =1-(COUNTIF(M12:M22,"☓"))/11 -> 1 | N23: =1-(COUNTIF(N12:N22,"☓"))/11 -> 1 | O23: =1-(COUNTIF(O12:O22,"☓"))/11 -> 1 | P23: =1-(COUNTIF(P12:P22,"☓"))/11 -> 1 | ... AL23: =1-(COUNTIF(AL12:AL22,"☓"))/11 -> 1 | AM23: =IF(AN23=0,"100%",AVERAGE(AM12:AM22)) -> 0.7 | AN23: =SUM(AN12:AN22) -> 99
B24: 18 | E24: Ｇライン | F24: ０３０７１ | G24: 新浜町４ | H24: ０．７ | Y24: ☓ | Z24: ☓ | AA24: ☓ | AB24: ☓ | AC24: ☓ | AD24: ☓ | AE24: ☓ | AF24: ☓ | AG24: ☓ | AM24: =IF(COUNTA(I24:AL24)=0,1,1-COUNTIF(I24:AL24,"☓")/30) -> 0.7 | AN24: =COUNTA(I24:AL24) -> 9
B25: 19 | F25: ０３０７２ | G25: 新浜町４ | H25: ０．７ | Y25: ☓ | Z25: ☓ | AA25: ☓ | AB25: ☓ | AC25: ☓ | AD25: ☓ | AE25: ☓ | AF25: ☓ | AG25: ☓ | AM25: =IF(COUNTA(I25:AL25)=0,1,1-COUNTIF(I25:AL25,"☓")/30) -> 0.7 | AN25: =COUNTA(I25:AL25) -> 9
B26: 20 | F26: ０３０８１ | G26: 新浜町５ | H26: ０．７ | Y26: ☓ | Z26: ☓ | AA26: ☓ | AB26: ☓ | AC26: ☓ | AD26: ☓ | AE26: ☓ | AF26: ☓ | AG26: ☓ | AM26: =IF(COUNTA(I26:AL26)=0,1,1-COUNTIF(I26:AL26,"☓")/30) -> 0.7 | AN26: =COUNTA(I26:AL26) -> 9
B27: 21 | F27: ０３１３９ | G27: 新浜町２ | H27: １．５ | Y27: ☓ | Z27: ☓ | AA27: ☓ | AB27: ☓ | AC27: ☓ | AD27: ☓ | AE27: ☓ | AF27: ☓ | AG27: ☓ | AM27: =IF(COUNTA(I27:AL27)=0,1,1-COUNTIF(I27:AL27,"☓")/30) -> 0.7 | AN27: =COUNTA(I27:AL27) -> 9
B28: 22 | F28: ０３１４９ | G28: 新浜町２ | H28: １．５ | Y28: ☓ | Z28: ☓ | AA28: ☓ | AB28: ☓ | AC28: ☓ | AD28: ☓ | AE28: ☓ | AF28: ☓ | AG28: ☓ | AM28: =IF(COUNTA(I28:AL28)=0,1,1-COUNTIF(I28:AL28,"☓")/30) -> 0.7 | AN28: =COUNTA(I28:AL28) -> 9
B29: 23 | F29: ０３１５９ | G29: 新浜町２ | H29: １．５ | Y29: ☓ | Z29: ☓ | AA29: ☓ | AB29: ☓ | AC29: ☓ | AD29: ☓ | AE29: ☓ | AF29: ☓ | AG29: ☓ | AM29: =IF(COUNTA(I29:AL29)=0,1,1-COUNTIF(I29:AL29,"☓")/30) -> 0.7 | AN29: =COUNTA(I29:AL29) -> 9
B30: 24 | F30: ０３１１１ | G30: 新浜町６ | H30: ０．７ | Y30: ☓ | Z30: ☓ | AA30: ☓ | AB30: ☓ | AC30: ☓ | AD30: ☓ | AE30: ☓ | AF30: ☓ | AG30: ☓ | AM30: =IF(COUNTA(I30:AL30)=0,1,1-COUNTIF(I30:AL30,"☓")/30) -> 0.7 | AN30: =COUNTA(I30:AL30) -> 9
B31: 25 | F31: ０３０９９ | G31: 浜風町３０ | H31: １．５ | Y31: ☓ | Z31: ☓ | AA31: ☓ | AB31: ☓ | AC31: ☓ | AD31: ☓ | AE31: ☓ | AF31: ☓ | AG31: ☓ | AM31: =IF(COUNTA(I31:AL31)=0,1,1-COUNTIF(I31:AL31,"☓")/30) -> 0.7 | AN31: =COUNTA(I31:AL31) -> 9
B32: 26 | F32: ０３１１２ | G32: 新浜町７ | H32: ０．７ | Y32: ☓ | Z32: ☓ | AA32: ☓ | AB32: ☓ | AC32: ☓ | AD32: ☓ | AE32: ☓ | AF32: ☓ | AG32: ☓ | AM32: =IF(COUNTA(I32:AL32)=0,1,1-COUNTIF(I32:AL32,"☓")/30) -> 0.7 | AN32: =COUNTA(I32:AL32) -> 9
B33: 27 | F33: ０３１１３ | G33: 新浜町８ | H33: ０．７ | Y33: ☓ | Z33: ☓ | AA33: ☓ | AB33: ☓ | AC33: ☓ | AD33: ☓ | AE33: ☓ | AF33: ☓ | AG33: ☓ | AM33: =IF(COUNTA(I33:AL33)=0,1,1-COUNTIF(I33:AL33,"☓")/30) -> 0.7 | AN33: =COUNTA(I33:AL33) -> 9
F34: ０３１０１ | G34: 新浜町７ | H34: ０．７ | Y34: ☓ | Z34: ☓ | AA34: ☓ | AB34: ☓ | AC34: ☓ | AD34: ☓ | AE34: ☓ | AF34: ☓ | AG34: ☓ | AM34: =IF(COUNTA(I34:AL34)=0,1,1-COUNTIF(I34:AL34,"☓")/30) -> 0.7 | AN34: =COUNTA(I34:AL34) -> 9
B35: 28 | F35: 合計 | I35: =1-(COUNTIF(I24:I34,"☓"))/11 -> 1 | J35: =1-(COUNTIF(J24:J34,"☓"))/11 -> 1 | L35: =1-(COUNTIF(L24:L34,"☓"))/11 -> 1 | M35: =1-(COUNTIF(M24:M34,"☓"))/11 -> 1 | N35: =1-(COUNTIF(N24:N34,"☓"))/11 -> 1 | O35: =1-(COUNTIF(O24:O34,"☓"))/11 -> 1 | P35: =1-(COUNTIF(P24:P34,"☓"))/11 -> 1 | Q35: =1-(COUNTIF(Q24:Q34,"☓"))/11 -> 1 | R35: =1-(COUNTIF(R24:R34,"☓"))/11 -> 1 | S35: =1-(COUNTIF(S24:S34,"☓"))/11 -> 1 | ... AL35: =1-(COUNTIF(AL24:AL34,"☓"))/11 -> 1 | AM35: =IF(AN35=0,"100%",AVERAGE(AM24:AM34)) -> 0.7 | AN35: =SUM(AN24:AN34) -> 99
B36: 29 | D36: ４００系統 | F36: ０４０１９ | G36: 高浜町９－２ | H36: １．５ | Y36: ☓ | Z36: ☓ | AA36: ☓ | AB36: ☓ | AC36: ☓ | AD36: ☓ | AE36: ☓ | AF36: ☓ | AG36: ☓ | AJ36: ☓ | AK36: ☓ | AL36: ☓ | AM36: =IF(COUNTA(I36:AL36)=0,1,1-COUNTIF(I36:AL36,"☓")/30) -> 0.6 | AN36: =COUNTA(I36:AL36) -> 12
B37: 30 | F37: ０４０２９ | G37: 高浜町９－１ | H37: １．５ | Y37: ☓ | Z37: ☓ | AA37: ☓ | AB37: ☓ | AC37: ☓ | AD37: ☓ | AE37: ☓ | AF37: ☓ | AG37: ☓ | AJ37: ☓ | AK37: ☓ | AL37: ☓ | AM37: =IF(COUNTA(I37:AL37)=0,1,1-COUNTIF(I37:AL37,"☓")/30) -> 0.6 | AN37: =COUNTA(I37:AL37) -> 12
B38: 31 | F38: ０４０３９ | G38: 高浜町８－３ | H38: １．０ | Y38: ☓ | Z38: ☓ | AA38: ☓ | AB38: ☓ | AC38: ☓ | AD38: ☓ | AE38: ☓ | AF38: ☓ | AG38: ☓ | AJ38: ☓ | AK38: ☓ | AL38: ☓ | AM38: =IF(COUNTA(I38:AL38)=0,1,1-COUNTIF(I38:AL38,"☓")/30) -> 0.6 | AN38: =COUNTA(I38:AL38) -> 12
B39: 32 | F39: ０４０４９ | G39: 高浜町８－２ | H39: １．０ | Y39: ☓ | Z39: ☓ | AA39: ☓ | AB39: ☓ | AC39: ☓ | AD39: ☓ | AE39: ☓ | AF39: ☓ | AG39: ☓ | AJ39: ☓ | AK39: ☓ | AL39: ☓ | AM39: =IF(COUNTA(I39:AL39)=0,1,1-COUNTIF(I39:AL39,"☓")/30) -> 0.6 | AN39: =COUNTA(I39:AL39) -> 12
F40: 合計 | I40: =1-(COUNTIF(I36:I39,"☓"))/4 -> 1 | J40: =1-(COUNTIF(J36:J39,"☓"))/4 -> 1 | K40: =1-(COUNTIF(K36:K39,"☓"))/4 -> 1 | L40: =1-(COUNTIF(L36:L39,"☓"))/4 -> 1 | M40: =1-(COUNTIF(M36:M39,"☓"))/4 -> 1 | N40: =1-(COUNTIF(N36:N39,"☓"))/4 -> 1 | O40: =1-(COUNTIF(O36:O39,"☓"))/4 -> 1 | P40: =1-(COUNTIF(P36:P39,"☓"))/4 -> 1 | ... Z40: =1-(COUNTIF(Z36:Z39,"☓"))/4 -> 0 | AA40: =1-(COUNTIF(AA42:AA45,"☓"))/4 -> 0 | AB40: =1-(COUNTIF(AB36:AB39,"☓"))/4 -> 0 | AC40: =1-(COUNTIF(AC36:AC39,"☓"))/4 -> 0 | AD40: =1-(COUNTIF(AD36:AD39,"☓"))/4 -> 0 | AE40: =1-(COUNTIF(AE36:AE39,"☓"))/4 -> 0 | AF40: =1-(COUNTIF(AF36:AF39,"☓"))/4 -> 0 | AG40: =1-(COUNTIF(AG36:AG39,"☓"))/4 -> 0 | AH40: =1-(COUNTIF(AH36:AH39,"☓"))/4 -> 1 | AI40: =1-(COUNTIF(AI36:AI39,"☓"))/4 -> 1 | ... AL40: =1-(COUNTIF(AL36:AL39,"☓"))/4 -> 0 | AM40: =IF(AN40=0,"100%",AVERAGE(AM36:AM39)) -> 0.6 | AN40: =SUM(AN36:AN39) -> 48
B41: 33 | D41: ５００系統 | F41: ０５０１９ | G41: 高浜町８－１ | H41: １．０ | Y41: ☓ | Z41: ☓ | AA41: ☓ | AB41: ☓ | AC41: ☓ | AD41: ☓ | AE41: ☓ | AF41: ☓ | AG41: ☓ | AM41: =IF(COUNTA(I41:AL41)=0,1,1-COUNTIF(I41:AL41,"☓")/30) -> 0.7 | AN41: =COUNTA(I41:AL41) -> 9
...

Sheet 7月（停止あり）
B2: Ｎｏ． | C2: 地区 | D2: 系統 | F2: 投入口ｱﾄﾞﾚｽ | G2: 住所 | H2: 容量（ｍ２） | I2: 7月 | AN2: 稼働率 | AO2: 停止日数
I3: 1 | J3: 2 | K3: 3 | L3: 4 | M3: 5 | N3: 6 | O3: 7 | P3: 8 | Q3: 9 | R3: 10 | S3: 11 | T3: 12 | U3: 13 | V3: 14 | W3: 15 | X3: 16 | Y3: 17 | Z3: 18 | AA3: 19 | AB3: 20 | AC3: 21 | AD3: 22 | AE3: 23 | AF3: 24 | AG3: 25 | AH3: 26 | AI3: 27 | AJ3: 28 | AK3: 29 | AL3: 30 | AM3: 31
H4: ☓ | I4: 月 | J4: 火 | K4: 水 | L4: 木 | M4: 金 | N4: 土 | O4: 日 | P4: 月 | Q4: 火 | R4: 水 | S4: 木 | T4: 金 | U4: 土 | V4: 日 | W4: 月 | X4: 火 | Y4: 水 | Z4: 木 | AA4: 金 | AB4: 土 | AC4: 日 | AD4: 月 | AE4: 火 | AF4: 水 | AG4: 木 | AH4: 金 | AI4: 土 | AJ4: 日 | AK4: 月 | AL4: 火 | AM4: 水
B5: 1 | C5: 宮川東側 | D5: １００系統 | F5: ０１０１１ | G5: 浜風町２１ | H5: ０．７ | AN5: =IF(COUNTA(I5:AM5)=0,1,1-COUNTIF(I5:AM5,"☓")/31) -> 1 | AO5: =COUNTA(I5:AM5) -> 0
B6: 2 | F6: ０１０１２ | G6: 浜風町２２ | H6: ０．７ | AN6: =IF(COUNTA(I6:AM6)=0,1,1-COUNTIF(I6:AM6,"☓")/31) -> 1 | AO6: =COUNTA(I6:AM6) -> 0
B7: 3 | F7: ０１０１３ | G7: 浜風町２４ | H7: ０．７ | AN7: =IF(COUNTA(I7:AM7)=0,1,1-COUNTIF(I7:AM7,"☓")/31) -> 1 | AO7: =COUNTA(I7:AM7) -> 0
B8: 4 | F8: ０１０１４ | G8: 浜風町２７ | H8: ０．７ | AN8: =IF(COUNTA(I8:AM8)=0,1,1-COUNTIF(I8:AM8,"☓")/31) -> 1 | AO8: =COUNTA(I8:AM8) -> 0
B9: 5 | F9: ０１０２１ | G9: 浜風町１９ | H9: ０．７ | AN9: =IF(COUNTA(I9:AM9)=0,1,1-COUNTIF(I9:AM9,"☓")/31) -> 1 | AO9: =COUNTA(I9:AM9) -> 0
B10: 6 | F10: ０１０３１ | G10: 浜風町１８ | H10: ０．７ | AN10: =IF(COUNTA(I10:AM10)=0,1,1-COUNTIF(I10:AM10,"☓")/31) -> 1 | AO10: =COUNTA(I10:AM10) -> 0
F11: 合計 | H11: =COUNTA(H5:H10) -> 6 | I11: =1-(COUNTIF(I5:I10,"☓"))/6 -> 1 | J11: =1-(COUNTIF(J5:J10,"☓"))/6 -> 1 | K11: =1-(COUNTIF(K5:K10,"☓"))/6 -> 1 | L11: =1-(COUNTIF(L5:L10,"☓"))/6 -> 1 | M11: =1-(COUNTIF(M5:M10,"☓"))/6 -> 1 | N11: =1-(COUNTIF(N5:N10,"☓"))/6 -> 1 | O11: =1-(COUNTIF(O5:O10,"☓"))/6 -> 1 | P11: =1-(COUNTIF(P5:P10,"☓"))/6 -> 1 | ... AM11: =1-(COUNTIF(AM5:AM10,"☓"))/6 -> 1 | AN11: =IF(AO11=0,"100%",AVERAGE(AN5:AN10)) -> 100% | AO11: =SUM(AO5:AO10) -> 0
B12: 7 | D12: ３００系統 | E12: Ｋライン | F12: ０３０１１ | G12: 浜風町１ | H12: ０．７ | AN12: =IF(COUNTA(I12:AM12)=0,1,1-COUNTIF(I12:AM12,"☓")/31) -> 1 | AO12: =COUNTA(I12:AM12) -> 0
B13: 8 | F13: ０３０３１ | G13: 浜風町８ | H13: ０．７ | AN13: =IF(COUNTA(I13:AM13)=0,1,1-COUNTIF(I13:AM13,"☓")/31) -> 1 | AO13: =COUNTA(I13:AM13) -> 0
B14: 9 | F14: ０３０３２ | G14: 浜風町２ | H14: ０．７ | AN14: =IF(COUNTA(I14:AM14)=0,1,1-COUNTIF(I14:AM14,"☓")/31) -> 1 | AO14: =COUNTA(I14:AM14) -> 0
B15: 10 | F15: ０３０２１ | G15: 浜風町８ | H15: ０．７ | AN15: =IF(COUNTA(I15:AM15)=0,1,1-COUNTIF(I15:AM15,"☓")/31) -> 1 | AO15: =COUNTA(I15:AM15) -> 0
B16: 11 | F16: ０３０３３ | G16: 浜風町７ | H16: ０．７ | AN16: =IF(COUNTA(I16:AM16)=0,1,1-COUNTIF(I16:AM16,"☓")/31) -> 1 | AO16: =COUNTA(I16:AM16) -> 0
B17: 12 | F17: ０３０４１ | G17: 浜風町７ | H17: ０．７ | AN17: =IF(COUNTA(I17:AM17)=0,1,1-COUNTIF(I17:AM17,"☓")/31) -> 1 | AO17: =COUNTA(I17:AM17) -> 0
B18: 13 | F18: ０３０５１ | G18: 浜風町７ | H18: ０．７ | AN18: =IF(COUNTA(I18:AM18)=0,1,1-COUNTIF(I18:AM18,"☓")/31) -> 1 | AO18: =COUNTA(I18:AM18) -> 0
B19: 14 | F19: ０３０５２ | G19: 浜風町３ | H19: ０．７ | AN19: =IF(COUNTA(I19:AM19)=0,1,1-COUNTIF(I19:AM19,"☓")/31) -> 1 | AO19: =COUNTA(I19:AM19) -> 0
B20: 15 | F20: ０３０５３ | G20: 浜風町６ | H20: ０．７ | AN20: =IF(COUNTA(I20:AM20)=0,1,1-COUNTIF(I20:AM20,"☓")/31) -> 1 | AO20: =COUNTA(I20:AM20) -> 0
B21: 16 | F21: ０３０６１ | G21: 浜風町５ | H21: ０．７ | AN21: =IF(COUNTA(I21:AM21)=0,1,1-COUNTIF(I21:AM21,"☓")/31) -> 1 | AO21: =COUNTA(I21:AM21) -> 0
B22: 17 | F22: ０３０５４ | G22: 浜風町６ | H22: ０．７ | AN22: =IF(COUNTA(I22:AM22)=0,1,1-COUNTIF(I22:AM22,"☓")/31) -> 1 | AO22: =COUNTA(I22:AM22) -> 0
F23: 合計 | I23: =1-(COUNTIF(I12:I22,"☓"))/11 -> 1 | J23: =1-(COUNTIF(J12:J22,"☓"))/11 -> 1 | K23: =1-(COUNTIF(K12:K22,"☓"))/11 -> 1 | L23: =1-(COUNTIF(L12:L22,"☓"))/11 -> 1 | M23: =1-(COUNTIF(M12:M22,"☓"))/11 -> 1 | N23: =1-(COUNTIF(N12:N22,"☓"))/11 -> 1 | O23: =1-(COUNTIF(O12:O22,"☓"))/11 -> 1 | P23: =1-(COUNTIF(P12:P22,"☓"))/11 -> 1 | ... AM23: =1-(COUNTIF(AM12:AM22,"☓"))/11 -> 1 | AN23: =IF(AO23=0,"100%",AVERAGE(AN12:AN22)) -> 100% | AO23: =SUM(AO12:AO22) -> 0
B24: 18 | E24: Ｇライン | F24: ０３０７１ | G24: 新浜町４ | H24: ０．７ | AN24: =IF(COUNTA(I24:AM24)=0,1,1-COUNTIF(I24:AM24,"☓")/31) -> 1 | AO24: =COUNTA(I24:AM24) -> 0
B25: 19 | F25: ０３０７２ | G25: 新浜町４ | H25: ０．７ | AN25: =IF(COUNTA(I25:AM25)=0,1,1-COUNTIF(I25:AM25,"☓")/31) -> 1 | AO25: =COUNTA(I25:AM25) -> 0
B26: 20 | F26: ０３０８１ | G26: 新浜町５ | H26: ０．７ | AN26: =IF(COUNTA(I26:AM26)=0,1,1-COUNTIF(I26:AM26,"☓")/31) -> 1 | AO26: =COUNTA(I26:AM26) -> 0
